Package: RegParallel Version: 1.24.0 Command: /home/biocbuild/bbs-3.20-bioc/R/bin/R CMD INSTALL RegParallel StartedAt: 2025-02-06 10:58:04 -0500 (Thu, 06 Feb 2025) EndedAt: 2025-02-06 10:58:13 -0500 (Thu, 06 Feb 2025) EllapsedTime: 8.4 seconds RetCode: 0 Status: OK