Package: RTCGA.mutations Version: 20151101.36.0 Command: /home/biocbuild/bbs-3.20-bioc/R/bin/R CMD INSTALL RTCGA.mutations StartedAt: 2025-01-30 10:58:09 -0500 (Thu, 30 Jan 2025) EndedAt: 2025-01-30 11:01:28 -0500 (Thu, 30 Jan 2025) EllapsedTime: 199.0 seconds RetCode: 0 Status: OK