Package: RTCGA.mutations Version: 20151101.36.0 Command: /home/biocbuild/bbs-3.20-bioc/R/bin/R CMD check --install=check:RTCGA.mutations.install-out.txt --library=/home/biocbuild/bbs-3.20-bioc/R/site-library --timings RTCGA.mutations_20151101.36.0.tar.gz StartedAt: 2025-01-30 12:36:33 -0500 (Thu, 30 Jan 2025) EndedAt: 2025-01-30 12:40:29 -0500 (Thu, 30 Jan 2025) EllapsedTime: 235.7 seconds RetCode: 0 Status: WARNINGS CheckDir: RTCGA.mutations.Rcheck Warnings: 1