Package: RTCGA.miRNASeq Version: 1.34.0 Command: /home/biocbuild/bbs-3.20-bioc/R/bin/R CMD INSTALL RTCGA.miRNASeq StartedAt: 2025-02-06 10:58:08 -0500 (Thu, 06 Feb 2025) EndedAt: 2025-02-06 10:59:54 -0500 (Thu, 06 Feb 2025) EllapsedTime: 106.3 seconds RetCode: 0 Status: OK