Package: RTCGA.miRNASeq Version: 1.34.0 Command: /home/biocbuild/bbs-3.20-bioc/R/bin/R CMD check --install=check:RTCGA.miRNASeq.install-out.txt --library=/home/biocbuild/bbs-3.20-bioc/R/site-library --timings RTCGA.miRNASeq_1.34.0.tar.gz StartedAt: 2025-01-30 12:35:58 -0500 (Thu, 30 Jan 2025) EndedAt: 2025-01-30 12:38:41 -0500 (Thu, 30 Jan 2025) EllapsedTime: 162.7 seconds RetCode: 0 Status: WARNINGS CheckDir: RTCGA.miRNASeq.Rcheck Warnings: 1