Package: RTCGA.PANCAN12 Version: 1.34.0 Command: /home/biocbuild/bbs-3.20-bioc/R/bin/R CMD build --keep-empty-dirs --no-resave-data RTCGA.PANCAN12 StartedAt: 2025-01-30 11:35:54 -0500 (Thu, 30 Jan 2025) EndedAt: 2025-01-30 11:36:17 -0500 (Thu, 30 Jan 2025) EllapsedTime: 23.6 seconds RetCode: 0 Status: OK PackageFile: RTCGA.PANCAN12_1.34.0.tar.gz PackageFileSize: 213.9 MiB