Package: RNAseqData.HNRNPC.bam.chr14 Version: 0.44.0 Command: /home/biocbuild/bbs-3.20-bioc/R/bin/R CMD INSTALL RNAseqData.HNRNPC.bam.chr14 StartedAt: 2025-01-30 10:55:50 -0500 (Thu, 30 Jan 2025) EndedAt: 2025-01-30 10:55:53 -0500 (Thu, 30 Jan 2025) EllapsedTime: 3.0 seconds RetCode: 0 Status: OK