Package: RNAmodR.Data Version: 1.20.0 Command: /home/biocbuild/bbs-3.20-bioc/R/bin/R CMD INSTALL RNAmodR.Data StartedAt: 2025-01-30 11:05:02 -0500 (Thu, 30 Jan 2025) EndedAt: 2025-01-30 11:05:45 -0500 (Thu, 30 Jan 2025) EllapsedTime: 42.3 seconds RetCode: 0 Status: OK