Package: RNAinteractMAPK Version: 1.44.0 Command: /home/biocbuild/bbs-3.20-bioc/R/bin/R CMD INSTALL RNAinteractMAPK StartedAt: 2025-01-30 11:06:22 -0500 (Thu, 30 Jan 2025) EndedAt: 2025-01-30 11:06:22 -0500 (Thu, 30 Jan 2025) EllapsedTime: 0.2 seconds RetCode: 1 Status: ERROR