Package: RMassBankData Version: 1.44.0 Command: /home/biocbuild/bbs-3.20-bioc/R/bin/R CMD INSTALL RMassBankData StartedAt: 2025-01-30 10:55:50 -0500 (Thu, 30 Jan 2025) EndedAt: 2025-01-30 10:55:52 -0500 (Thu, 30 Jan 2025) EllapsedTime: 1.3 seconds RetCode: 0 Status: OK