Package: QDNAseq.mm10 Version: 1.36.0 Command: /home/biocbuild/bbs-3.20-bioc/R/bin/R CMD build --keep-empty-dirs --no-resave-data QDNAseq.mm10 StartedAt: 2025-04-01 11:31:22 -0400 (Tue, 01 Apr 2025) EndedAt: 2025-04-01 11:31:25 -0400 (Tue, 01 Apr 2025) EllapsedTime: 2.6 seconds RetCode: 0 Status: OK PackageFile: QDNAseq.mm10_1.36.0.tar.gz PackageFileSize: 31.18 MiB