Package: QDNAseq.hg19 Version: 1.36.0 Command: /home/biocbuild/bbs-3.20-bioc/R/bin/R CMD build --keep-empty-dirs --no-resave-data QDNAseq.hg19 StartedAt: 2025-01-30 11:33:22 -0500 (Thu, 30 Jan 2025) EndedAt: 2025-01-30 11:33:25 -0500 (Thu, 30 Jan 2025) EllapsedTime: 2.7 seconds RetCode: 0 Status: OK PackageFile: QDNAseq.hg19_1.36.0.tar.gz PackageFileSize: 35.26 MiB