Package: PtH2O2lipids Version: 1.32.0 Command: /home/biocbuild/bbs-3.20-bioc/R/bin/R CMD INSTALL PtH2O2lipids StartedAt: 2025-01-30 11:04:20 -0500 (Thu, 30 Jan 2025) EndedAt: 2025-01-30 11:05:09 -0500 (Thu, 30 Jan 2025) EllapsedTime: 49.3 seconds RetCode: 0 Status: OK