Package: PREDAsampledata Version: 0.46.0 Command: /home/biocbuild/bbs-3.20-bioc/R/bin/R CMD INSTALL PREDAsampledata StartedAt: 2025-01-30 10:57:30 -0500 (Thu, 30 Jan 2025) EndedAt: 2025-01-30 10:57:57 -0500 (Thu, 30 Jan 2025) EllapsedTime: 26.6 seconds RetCode: 0 Status: OK