Package: PREDAsampledata Version: 0.46.0 Command: /home/biocbuild/bbs-3.20-bioc/R/bin/R CMD build --keep-empty-dirs --no-resave-data PREDAsampledata StartedAt: 2025-01-30 11:32:34 -0500 (Thu, 30 Jan 2025) EndedAt: 2025-01-30 11:32:53 -0500 (Thu, 30 Jan 2025) EllapsedTime: 19.6 seconds RetCode: 0 Status: OK PackageFile: PREDAsampledata_0.46.0.tar.gz PackageFileSize: 66.79 MiB