Package: NetActivityData Version: 1.8.0 Command: /home/biocbuild/bbs-3.20-bioc/R/bin/R CMD INSTALL NetActivityData StartedAt: 2025-01-30 10:55:57 -0500 (Thu, 30 Jan 2025) EndedAt: 2025-01-30 10:56:04 -0500 (Thu, 30 Jan 2025) EllapsedTime: 7.2 seconds RetCode: 0 Status: OK