Package: NanoporeRNASeq Version: 1.16.0 Command: /home/biocbuild/bbs-3.20-bioc/R/bin/R CMD INSTALL NanoporeRNASeq StartedAt: 2025-04-01 10:57:00 -0400 (Tue, 01 Apr 2025) EndedAt: 2025-04-01 10:57:09 -0400 (Tue, 01 Apr 2025) EllapsedTime: 8.9 seconds RetCode: 0 Status: OK