Package: MouseAgingData Version: 1.2.0 Command: /home/biocbuild/bbs-3.20-bioc/R/bin/R CMD INSTALL MouseAgingData StartedAt: 2025-01-30 10:58:52 -0500 (Thu, 30 Jan 2025) EndedAt: 2025-01-30 10:59:12 -0500 (Thu, 30 Jan 2025) EllapsedTime: 19.7 seconds RetCode: 0 Status: OK