Package: MouseAgingData Version: 1.2.0 Command: /home/biocbuild/bbs-3.20-bioc/R/bin/R CMD build --keep-empty-dirs --no-resave-data MouseAgingData StartedAt: 2025-01-30 11:29:13 -0500 (Thu, 30 Jan 2025) EndedAt: 2025-01-30 11:30:25 -0500 (Thu, 30 Jan 2025) EllapsedTime: 72.3 seconds RetCode: 0 Status: OK PackageFile: MouseAgingData_1.2.0.tar.gz PackageFileSize: 1.341 MiB