Package: MicrobiomeBenchmarkData Version: 1.8.0 Command: /home/biocbuild/bbs-3.20-bioc/R/bin/R CMD INSTALL MicrobiomeBenchmarkData StartedAt: 2025-01-21 10:59:32 -0500 (Tue, 21 Jan 2025) EndedAt: 2025-01-21 10:59:59 -0500 (Tue, 21 Jan 2025) EllapsedTime: 27.0 seconds RetCode: 0 Status: OK