Package: MMDiffBamSubset Version: 1.42.0 Command: /home/biocbuild/bbs-3.20-bioc/R/bin/R CMD build --keep-empty-dirs --no-resave-data MMDiffBamSubset StartedAt: 2025-01-30 11:29:05 -0500 (Thu, 30 Jan 2025) EndedAt: 2025-01-30 11:29:44 -0500 (Thu, 30 Jan 2025) EllapsedTime: 38.4 seconds RetCode: 0 Status: OK PackageFile: MMDiffBamSubset_1.42.0.tar.gz PackageFileSize: 632.3 MiB