Package: IHWpaper Version: 1.34.0 Command: /home/biocbuild/bbs-3.20-bioc/R/bin/R CMD build --keep-empty-dirs --no-resave-data IHWpaper StartedAt: 2025-02-11 11:23:27 -0500 (Tue, 11 Feb 2025) EndedAt: 2025-02-11 11:26:58 -0500 (Tue, 11 Feb 2025) EllapsedTime: 211.2 seconds RetCode: 0 Status: OK PackageFile: IHWpaper_1.34.0.tar.gz PackageFileSize: 75.62 MiB