Package: HumanAffyData Version: 1.32.0 Command: /home/biocbuild/bbs-3.20-bioc/R/bin/R CMD INSTALL HumanAffyData StartedAt: 2025-01-30 10:57:40 -0500 (Thu, 30 Jan 2025) EndedAt: 2025-01-30 10:57:50 -0500 (Thu, 30 Jan 2025) EllapsedTime: 9.8 seconds RetCode: 0 Status: OK