Package: Hiiragi2013 Version: 1.42.0 Command: /home/biocbuild/bbs-3.20-bioc/R/bin/R CMD build --keep-empty-dirs --no-resave-data Hiiragi2013 StartedAt: 2025-04-01 11:22:11 -0400 (Tue, 01 Apr 2025) EndedAt: 2025-04-01 11:23:53 -0400 (Tue, 01 Apr 2025) EllapsedTime: 102.0 seconds RetCode: 1 Status: ERROR PackageFile: None PackageFileSize: NA