Package: HighlyReplicatedRNASeq Version: 1.18.0 Command: /home/biocbuild/bbs-3.20-bioc/R/bin/R CMD INSTALL HighlyReplicatedRNASeq StartedAt: 2025-01-30 11:01:11 -0500 (Thu, 30 Jan 2025) EndedAt: 2025-01-30 11:01:36 -0500 (Thu, 30 Jan 2025) EllapsedTime: 25.2 seconds RetCode: 0 Status: OK