Package: HighlyReplicatedRNASeq Version: 1.18.0 Command: /home/biocbuild/bbs-3.20-bioc/R/bin/R CMD build --keep-empty-dirs --no-resave-data HighlyReplicatedRNASeq StartedAt: 2025-01-30 11:23:11 -0500 (Thu, 30 Jan 2025) EndedAt: 2025-01-30 11:24:12 -0500 (Thu, 30 Jan 2025) EllapsedTime: 60.5 seconds RetCode: 0 Status: OK PackageFile: HighlyReplicatedRNASeq_1.18.0.tar.gz PackageFileSize: 468.5 KiB