Package: HiContactsData Version: 1.8.0 Command: /home/biocbuild/bbs-3.20-bioc/R/bin/R CMD build --keep-empty-dirs --no-resave-data HiContactsData StartedAt: 2025-01-30 11:23:09 -0500 (Thu, 30 Jan 2025) EndedAt: 2025-01-30 11:23:31 -0500 (Thu, 30 Jan 2025) EllapsedTime: 21.8 seconds RetCode: 0 Status: OK PackageFile: HiContactsData_1.8.0.tar.gz PackageFileSize: 221.9 KiB