Package: HMP16SData Version: 1.26.0 Command: /home/biocbuild/bbs-3.20-bioc/R/bin/R CMD INSTALL HMP16SData StartedAt: 2025-01-30 10:58:51 -0500 (Thu, 30 Jan 2025) EndedAt: 2025-01-30 10:59:22 -0500 (Thu, 30 Jan 2025) EllapsedTime: 31.4 seconds RetCode: 0 Status: OK