Package: HMP16SData Version: 1.26.0 Command: /home/biocbuild/bbs-3.20-bioc/R/bin/R CMD check --install=check:HMP16SData.install-out.txt --library=/home/biocbuild/bbs-3.20-bioc/R/site-library --timings HMP16SData_1.26.0.tar.gz StartedAt: 2025-01-30 12:11:28 -0500 (Thu, 30 Jan 2025) EndedAt: 2025-01-30 12:17:58 -0500 (Thu, 30 Jan 2025) EllapsedTime: 390.0 seconds RetCode: 0 Status: OK CheckDir: HMP16SData.Rcheck Warnings: 0