Package: HEEBOdata Version: 1.44.0 Command: /home/biocbuild/bbs-3.20-bioc/R/bin/R CMD build --keep-empty-dirs --no-resave-data HEEBOdata StartedAt: 2025-04-01 11:21:18 -0400 (Tue, 01 Apr 2025) EndedAt: 2025-04-01 11:21:23 -0400 (Tue, 01 Apr 2025) EllapsedTime: 5.3 seconds RetCode: 0 Status: OK PackageFile: HEEBOdata_1.44.0.tar.gz PackageFileSize: 8.269 MiB