Package: HD2013SGI Version: 1.46.0 Command: /home/biocbuild/bbs-3.20-bioc/R/bin/R CMD build --keep-empty-dirs --no-resave-data HD2013SGI StartedAt: 2025-01-30 11:21:39 -0500 (Thu, 30 Jan 2025) EndedAt: 2025-01-30 11:27:49 -0500 (Thu, 30 Jan 2025) EllapsedTime: 370.4 seconds RetCode: 0 Status: OK PackageFile: HD2013SGI_1.46.0.tar.gz PackageFileSize: 526.5 MiB