Package: HCAData Version: 1.22.0 Command: /home/biocbuild/bbs-3.20-bioc/R/bin/R CMD build --keep-empty-dirs --no-resave-data HCAData StartedAt: 2025-04-01 11:19:52 -0400 (Tue, 01 Apr 2025) EndedAt: 2025-04-01 11:22:37 -0400 (Tue, 01 Apr 2025) EllapsedTime: 164.9 seconds RetCode: 0 Status: OK PackageFile: HCAData_1.22.0.tar.gz PackageFileSize: 1.512 MiB