Package: GSE62944 Version: 1.34.0 Command: /home/biocbuild/bbs-3.20-bioc/R/bin/R CMD INSTALL GSE62944 StartedAt: 2025-04-01 11:00:35 -0400 (Tue, 01 Apr 2025) EndedAt: 2025-04-01 11:00:52 -0400 (Tue, 01 Apr 2025) EllapsedTime: 17.0 seconds RetCode: 0 Status: OK