Package: GIGSEAdata Version: 1.24.0 Command: /home/biocbuild/bbs-3.20-bioc/R/bin/R CMD check --install=check:GIGSEAdata.install-out.txt --library=/home/biocbuild/bbs-3.20-bioc/R/site-library --timings GIGSEAdata_1.24.0.tar.gz StartedAt: 2025-04-01 12:04:10 -0400 (Tue, 01 Apr 2025) EndedAt: 2025-04-01 12:04:30 -0400 (Tue, 01 Apr 2025) EllapsedTime: 19.1 seconds RetCode: 0 Status: WARNINGS CheckDir: GIGSEAdata.Rcheck Warnings: 1