Package: Fletcher2013b Version: 1.42.0 Command: /home/biocbuild/bbs-3.20-bioc/R/bin/R CMD check --install=check:Fletcher2013b.install-out.txt --library=/home/biocbuild/bbs-3.20-bioc/R/site-library --timings Fletcher2013b_1.42.0.tar.gz StartedAt: 2025-01-30 12:03:40 -0500 (Thu, 30 Jan 2025) EndedAt: 2025-01-30 12:07:13 -0500 (Thu, 30 Jan 2025) EllapsedTime: 212.5 seconds RetCode: 0 Status: WARNINGS CheckDir: Fletcher2013b.Rcheck Warnings: 1