Package: FANTOM3and4CAGE Version: 1.42.0 Command: /home/biocbuild/bbs-3.20-bioc/R/bin/R CMD build --keep-empty-dirs --no-resave-data FANTOM3and4CAGE StartedAt: 2025-01-30 11:16:07 -0500 (Thu, 30 Jan 2025) EndedAt: 2025-01-30 11:16:23 -0500 (Thu, 30 Jan 2025) EllapsedTime: 15.9 seconds RetCode: 0 Status: OK PackageFile: FANTOM3and4CAGE_1.42.0.tar.gz PackageFileSize: 34.73 MiB