Package: EGSEAdata Version: 1.34.0 Maintainer: Monther Alhamdoosh MaintainerEmail: m.hamdoosh at gmail.com git_url: https://git.bioconductor.org/packages/EGSEAdata git_branch: RELEASE_3_20 git_last_commit: 7a5a0cf git_last_commit_date: 2024-10-29 09:45:31 -0500 (Tue, 29 Oct 2024)