Package: DvDdata Version: 1.42.0 Command: /home/biocbuild/bbs-3.20-bioc/R/bin/R CMD build --keep-empty-dirs --no-resave-data DvDdata StartedAt: 2025-01-30 11:14:45 -0500 (Thu, 30 Jan 2025) EndedAt: 2025-01-30 11:14:58 -0500 (Thu, 30 Jan 2025) EllapsedTime: 12.6 seconds RetCode: 0 Status: OK PackageFile: DvDdata_1.42.0.tar.gz PackageFileSize: 43.89 MiB