Package: DonaPLLP2013 Version: 1.44.0 Command: /home/biocbuild/bbs-3.20-bioc/R/bin/R CMD check --install=check:DonaPLLP2013.install-out.txt --library=/home/biocbuild/bbs-3.20-bioc/R/site-library --timings DonaPLLP2013_1.44.0.tar.gz StartedAt: 2025-04-01 11:55:01 -0400 (Tue, 01 Apr 2025) EndedAt: 2025-04-01 12:01:05 -0400 (Tue, 01 Apr 2025) EllapsedTime: 363.6 seconds RetCode: 0 Status: OK CheckDir: DonaPLLP2013.Rcheck Warnings: 0