Package: DonaPLLP2013 Version: 1.44.0 Command: /home/biocbuild/bbs-3.20-bioc/R/bin/R CMD build --keep-empty-dirs --no-resave-data DonaPLLP2013 StartedAt: 2025-04-01 11:13:26 -0400 (Tue, 01 Apr 2025) EndedAt: 2025-04-01 11:18:20 -0400 (Tue, 01 Apr 2025) EllapsedTime: 294.6 seconds RetCode: 0 Status: OK PackageFile: DonaPLLP2013_1.44.0.tar.gz PackageFileSize: 93.77 MiB