Package: DExMAdata Version: 1.14.0 Command: /home/biocbuild/bbs-3.20-bioc/R/bin/R CMD build --keep-empty-dirs --no-resave-data DExMAdata StartedAt: 2025-02-06 11:13:05 -0500 (Thu, 06 Feb 2025) EndedAt: 2025-02-06 11:14:09 -0500 (Thu, 06 Feb 2025) EllapsedTime: 63.7 seconds RetCode: 0 Status: OK PackageFile: DExMAdata_1.14.0.tar.gz PackageFileSize: 7.389 MiB