Package: ChIPexoQualExample Version: 1.30.0 Command: /home/biocbuild/bbs-3.20-bioc/R/bin/R CMD INSTALL ChIPexoQualExample StartedAt: 2025-01-30 10:55:34 -0500 (Thu, 30 Jan 2025) EndedAt: 2025-01-30 10:55:36 -0500 (Thu, 30 Jan 2025) EllapsedTime: 1.5 seconds RetCode: 0 Status: OK