Package: COSMIC.67 Version: 1.42.0 Command: /home/biocbuild/bbs-3.20-bioc/R/bin/R CMD check --install=check:COSMIC.67.install-out.txt --library=/home/biocbuild/bbs-3.20-bioc/R/site-library --timings COSMIC.67_1.42.0.tar.gz StartedAt: 2025-04-01 11:49:37 -0400 (Tue, 01 Apr 2025) EndedAt: 2025-04-01 11:54:39 -0400 (Tue, 01 Apr 2025) EllapsedTime: 302.2 seconds RetCode: 0 Status: OK CheckDir: COSMIC.67.Rcheck Warnings: 0