Package: COSMIC.67 Version: 1.42.0 Command: /home/biocbuild/bbs-3.20-bioc/R/bin/R CMD build --keep-empty-dirs --no-resave-data COSMIC.67 StartedAt: 2025-01-30 11:10:24 -0500 (Thu, 30 Jan 2025) EndedAt: 2025-01-30 11:11:26 -0500 (Thu, 30 Jan 2025) EllapsedTime: 62.1 seconds RetCode: 0 Status: OK PackageFile: COSMIC.67_1.42.0.tar.gz PackageFileSize: 39.18 MiB