Package: BioPlex Version: 1.12.0 Command: /home/biocbuild/bbs-3.20-bioc/R/bin/R CMD INSTALL BioPlex StartedAt: 2025-04-01 10:59:08 -0400 (Tue, 01 Apr 2025) EndedAt: 2025-04-01 10:59:28 -0400 (Tue, 01 Apr 2025) EllapsedTime: 19.9 seconds RetCode: 0 Status: OK