Package: BioPlex Version: 1.12.0 Command: /home/biocbuild/bbs-3.20-bioc/R/bin/R CMD check --install=check:BioPlex.install-out.txt --library=/home/biocbuild/bbs-3.20-bioc/R/site-library --timings BioPlex_1.12.0.tar.gz StartedAt: 2025-04-01 11:43:30 -0400 (Tue, 01 Apr 2025) EndedAt: 2025-04-01 11:49:30 -0400 (Tue, 01 Apr 2025) EllapsedTime: 360.4 seconds RetCode: 0 Status: OK CheckDir: BioPlex.Rcheck Warnings: 0