Package: BeadSorted.Saliva.EPIC Version: 1.14.0 Command: /home/biocbuild/bbs-3.20-bioc/R/bin/R CMD INSTALL BeadSorted.Saliva.EPIC StartedAt: 2025-04-01 11:04:11 -0400 (Tue, 01 Apr 2025) EndedAt: 2025-04-01 11:04:52 -0400 (Tue, 01 Apr 2025) EllapsedTime: 41.6 seconds RetCode: 0 Status: OK