Package: AneuFinderData Version: 1.34.0 Command: /home/biocbuild/bbs-3.20-bioc/R/bin/R CMD check --install=check:AneuFinderData.install-out.txt --library=/home/biocbuild/bbs-3.20-bioc/R/site-library --timings AneuFinderData_1.34.0.tar.gz StartedAt: 2025-02-06 11:44:14 -0500 (Thu, 06 Feb 2025) EndedAt: 2025-02-06 11:44:27 -0500 (Thu, 06 Feb 2025) EllapsedTime: 13.3 seconds RetCode: 0 Status: WARNINGS CheckDir: AneuFinderData.Rcheck Warnings: 1