= u10N'[iuv[~]Is;,3[@Trl, "CP|H9 HR&m L"HJpTN'$Mׯ?tQpEV㙂 cax$. Ėqm)-dUyOҤ/cEAÙTTijxbK_“iQ %\V[ 鉺?ÍG"Qnk:{ijl0c<#h|pf1@`{d0HSzF P^$UY@ = iD 033DXY &р(*fyg^S3#Rԏo ;AYҰ fPAc4SE G]*Rd] z`%NA{ TQYV0`\આFjMp @".l []NPWtAx+ivAZ£r誺r;hMlN-p (UA(7SmlBXQdix]1WDa` *a +2? LG`HU o&D3I6r2ݬFri$f(v0.DfS@qZXa.M iKqQ޵>5[6Pٱ:׆bLʚ&Q/ؽVgX>%QuPϽ6 H~ @%5 TtQĠr오SD"& $i)AN53A)MY%BKNN*jIN@$kkctz!1d!Q<*ȐDiY-5N DU78)*88PjAX#Hy5d\B}[t.=.}<^8 R?d5IcZ="KMfQ;DmK7 KPw)sJs Momu_.mR\]}+U Q tzJ\G ːl Xxv5A럻sum;3d힃tgbے3͎eJ_-NʳuP,k)eٟqi.-lk}h>Z BXz NhwbQj-XKЪd^o,PI?o$iSIPEzG[UL(3ngSPd0$#JhJrE ucVg8E"@QUhp$t"KENKKX#DDE> '܈8TT,X* `q-y}W: WS] QM*(W2crZt{H{Nl"J?u@kL;Xc֯p3~"'<7s(UeNCE +7):#Ůa pbV=NJm3jRʲF A'萁\k=<09'Yȑ6@~S1CXҋf5(# `)jS 4LXi&..tV?zX"s]qFuA$6 eܱPD&\(A7C ~pd!B(\z!ң>/d0-T9gx6mNhk;B}Qe:e#fB2Щ2e--&:o5R%ʠP-wuXc&9Yc|JXEt -iD%m+~P) PYk,3 *ȠPAO>o>MBo݊6AnlV#`*H%RF*Y=PJ;il,l: hp@;mfی?IJ,Ĉ.KnIsJfI0Qd]j4!+t*<4[U0h5C*B,CMi$cYxnRDt@bQNIZl~W/&05^mkə&T`Ilza?ߎTn)MngTI@+~,YA%vrju=ɱQ]%n0sVq*Qk̚;`6ˠ(s#9.3#h%?eyYU2D'"Kg٢4]!TIX&V1JYh{W*Y4[V+iT2cϬe\>_F*T;ue*擠tC|Gś^Ϩ$@ Tk6!Aw4pr#z1ޭg2vks}ST(\y FVxpE R*V"`2`p-(:}Q! Yλ"Xι`*ERUX޹\~bF?> 2piUJlpn0˛BnV%Ƴ\"W TaMj`Үv maF(E vC󥉠%.P=~eet 423^Meaiez\z&]82%#/pSjBf-lTuCc嶎gw44q%':b2Vs3b{{St$/= U:J᳓v<6U94T^7r7 e!#\ D}d-r }7㍋ddVs*7ِ ca{'$ ecoEQZ{K;%`\m&&$3K"/d *6i9]Rᔺ)IvnW4H+H%"Tϳ:y?z<6)4\7 (9Xr @\$aǂt 9XZD"d_QZYi]#cdC?=Z;nMN?Nq_U+X@b}1l N}h\Q6וޢ~#'9A x!? G#Ѧ!(Xtņ}S8z?w;8~ 2h`s';mx!;O0C! :>x9MN y)>YTǼ q%Iҟh^/TG`0j8{?K D8 fX brepI tiZgh&f"qk6Ya6g&ȴ%NbA"xv#>ՔB PǓKMӠ6}uP?ǛxI"-> 'd~\h5?/(*dNLccOhc>*Mpb'A35l 洆8F 0b?k48G*4^SKXu6ch1 Y򍁡ܮZ 8 \ug tì4VDOc~[A^\?1<z)H|8&krCf$KZJEvlw+$ 6U7(HX/@"A >Gׁ#0oQtXbgiy^y lLL4$%Ya[7WGO&-輫-ewwwwwwwwwwiE .BB/qw;wGߞx<,E: q_ &BG\wM˻(3RΗayb%IFːtteHeH2-t"1#lC"wԇMHÇ;.HrA5.>3A1/͟'oxIiv9w w w w w w w 5`ލLd퉿wwwۭL?W9hJ'JB{z_䳿 iy<{.Z>n?F\.*''̶3ɮӴk6'"rYGX-<{]]ql׷N|hX.CH8.I:`/"/"/%s|ɋ"/k "Xx1ua![m/c:_%ɽC t!!odO(7*Kπ:c՝SlE::ŚA!{Kx"2K ;K|:S>"=̟ o2#3^[~|Wϸbٲy/~jڵ??+vL~eߎsp[[+Ϻk+.|ɻG?ZɱPbd4q7Ow;ϼ~sO\__[7~٦?׾yy7n|g<}V󇏪^Tc;֜q=Y?az_ =wrFOڛy rw|sV9tyD&_qwo\#\˙p>_T{ᛗFy=g?u÷ ?ң7g?{o>##_ŶwO~/yګ]?8|'zjK_>sn^ęCOxv_8~սw7c7^}n߾}%]U_YV!{Ο}ջV?gvt_J[wӞᕡ/{^eu?޲{E^?\=e{k]O8p'6M?8o݇.sǪz/x/bJZ{=LOm/~ѷ:Vը泷|O}W/]oܚCǾu񗾴o wٻx/&K$D6/=[6fcfR$%! (,)h%)w^ۻz-ΧOM{9=<,O:>Ќɦ1+By^(i{[$PPіt-M|wѡݣ>uq׽Ңn7xÞ zm̐e-m ^F5GP_=E<㆜]gJK[g__3(PgegڇJ$ Eβ0h" }4 /9L/Sa(kXUm'IvRg<{flZ2QD^ykreSwwzVMnAө8O*&m>S噙\wA?T-ygVZ̏E$%vt<[v:S5\]RDxMޔtP kmq/OܺvW9#}-<[x&N~$ݟ&&B*m?)W5 ~wiH|) P СCWZ`Sjk]DR)094 'Y(Qg {ǷyiiiK,r޶$k W$Y>!?;Wjب$eb,6q&ѺصNM.yJ~7I9#7ljGQ횞l3=%LFF<)e3fUp#5_9o+f;+h_kqHxwcmjN*ҟr=VWAx8Ѝ>\vܺ"hoXpQ7^sq+뱚09g:V@AB}k;@(޸); `HYZYXUKKV:eY- פ;==tu#LJ7}vVӮ?uB(t̑_:"S1ٶ9 <]W;3cgO{o[\Ov|YPPP ҕ{ 1'l-Iϼ7긻t<XDGL&2H=M 7~yo^=TRw0%c@,Upo5\@iQم |fA}1nVf]'KW;mߴw|Ͼ}e~T g^5tD'^RSZPYmEy"^Пfpta} " cq+zK[+q 4JQ tmvmx ΖL1(?O!&׸61.fSzҡa\M&CO LtC;`#b!rh=c'ۋ=n -EaGEUYNq,XDݱh/)(\gkm 4"^9YUzc9孠~5c)26>P-G\m믈D R{7 Kv$}ߜL w60}@dCj>o.terApԁGX4PQ^ZgW_1-yVȕBZoz$65O m Xs6לnMjL1]c}>Os/zc>bzaL/wdR]xA#!}BϬ'Lޕ}Q5'$4bWS$TF>"22Guӹd',ҲVu(*Jk[ ;dv~(l^qx]nƓj Od,DJ ??`奀\v$h*0H0ȽLHkBC*S͇D$Yߣ{3 E[84W~GΡ$>H~9=# LV`fJ]-U&b3bz](Dз'cǩN*51G}{]:/" O\e6ڠ<tY `z-]MY\AS8Y1"~t<K;{mXrȏMEl+YC+$/%(j=\)/caE@-4RX=(o?.R%uhZ 5$;ހ`-=;MzEؾ~N3BI4P^g|阛+5"s+ᬑɶh3HTrOds۫knES䊈Dls~`T{%]A-JQ9alNƧOo9 Rl{c9L/SVmfBQSJA/ά l|{7ӨVɝ,!#p֩[B4οŵW;Uؠ\n]!#ƂM&)-!Vw;:;;B E5u~r"}ܤ[ȶi;hӐ&g51ҩ٧j˝\;ǒcSz e94hNi:TV919m"8}xEKVRUrLhވHӞ`+MR%56k@écryބ66r-an 4*`:yӅ>f>a^4^_v{w` )6U=ckU- gTZWƨ=b\!˗V \uޟԩ ~r|Z(GY!c׾n:w[K[fd{g" w־$[PC~TiBάn#*#PEw+?j}$b5#gq[΍z,[> Mv\i%!/o#FDI>Lzb $M,/*gBƆ]5%u)^&gyxx d OЯTj|Z͑$|S[i \ymD'Nw fg?d Qn04l(ga( ><٧mlү/NEpIg'B=Gljv<)?ƿrCϴdž@=v ݢ_oa}gke>jJһPua+ kZi=ωX={o2^,V2e)o !m, dުP;6ܽ-xCv>OVYIzC=]A}qzyYږ1ϮYY.Gx z5e vh5)7ER-05nTZ-ZW_pe*s",pHkpO*47G'v(Tkd{}gj~:U ]M- tpGy-"W:0x Af9T"T)t*ο{\VHO|. o,t=[5'uuocˇ&&LwcGjf51(ժ3/ō3JXȜ ddުdYm ,l5mb4-@םo OI /ekL^n=\.F50)553xڠ2c\hI$"ɝm}5鬬іYJVڰR /]Q o>4ߚmZ}Xc9 *{?:)m_ HϚ`GG1W`*. |7@䣛DWX-kCI[FkU.Oj{N?֜=[S,[l[.kg7&:/aK{EQ*\eXH.bOn{uBt;>ixѦB+NzZ,R0^~ͱ00*q>vZM3Y6VpzQgNWv {+a'uS\%|Rw)NHEn+9X*!$m$ԘʻV' 3t?]U:^gc:Gs~˞tt ]",A"ƚOCRl }(L߬%Fi!vu޻p7'LُglEn`Msa%'Vp]MB(:2fԺcU=/GPG6TM= l{.!=kdz8 6 _\e?nfH=VYqў4 gpeWʚ_` ΄(ӋϻWo1%wʐķgPqk;5CxuօhloO|Yrã$WtxzkǍ÷B*/J b*YXŌ(>pAhS)D>+yˮH3IH^;b+r9VNT"cU^-*Ҹyt}WƮ?v[R55QlpJ蚇(#keboGFe@=9.\N+s)֔ae"}ϓ!5RO:߉'7W>"SحFg|M4Jz5Tם^[~tLp%ؒգ {2Ri@mCG\ϨHrܚ l ort &Y\wdx/#Gb^`}}Un7EBtH\WNW]IXF-K,frC74r6fr? 2I&Q}he qWyZ{X7hD˕N/m"jid91Y!3ɔLBX`&. د?|I1j%AA߾FhLu(.h iMBzs#` RiKEw_Xs}K Xz'T`$3PQ5Mtթ0 0(: uQq)V<-< >\H-e kE4]٨\F 7H-0"y#i)fW_e`RR( JX?nhϋH-..#SϪnn|=?||^kyϿ> +#u`JI 07WĿ ^y?'H?#|/f/0a$P0?/s(#/&.^Xmo [a{ %{n(`$,ݝˏ?1E/KCO)84/ 0_??h W7g<-tf_օn(7W[G9Lp*%P(a:u?LFr?L &)K3 ~\z0BIoAb$ @cw8}@3dhf֑3ęL z/:plZڽ o{;wI>Ȝ77l d—W yfYR |Kװ8$ٔsH'MlpfEXt8D& BBh  Ryq/Jtf~+4i62ْ&Kݥtn` LI70wB90:8hn:=hӍeomw'`1qQ:Hg̳1g0I "{N; :UGB/wg_ڳqaR tFB%cÑP  =:On[&xވel 2oR yAfí^ojc*K_vaC6ok^3#xؐ9LjG&6ye  DZH i"-@Yt/&P DZdDALAkYEڀHiᾜ#3&5fX£cK`^z vmOq_95۫8{=wIa &A}?Vٓ6yev?#/R/R/R/R߼[XHb֬ԞmpBu|R.Ҷ`\Hj}^unJ\ɪ^Y{KL{itt嵚H ^Η'x7!^X)Quhv}ClO@Qu xG2uoa9XRycj j-.9gbU5XkѺ)4H51OSԘB}݌4Mx.2_hhoxO<fu:f7rk Nf%ңa󋀚KcrTAruYGUi ؆[U?i-gƵG-B CP?N0Pٳ|BO)r5]J@nݫW-<;4MM{ŬjXu2 x8Z2Pg Ɲ2G[\Iq}|6WgД1bG VgA3ܐtu>DA4i[[x&!$k)-l"*mά?o܀aOLʠf۳ǀ=z3SY,U3] ;)aO@EG_CD;>;d2sw?IoLI`>Pp@=f382'}<\g~A4Jm{TbR=<^$WasxS)iDeJ Ss!4Cp.2z"VJ Kˀtm@lK' _>vzH\JP* #G,E{EM8mZ6_ꋚzD+g 7ؼqW8?+V$Ac5fh*hSӯkxڊk،a& v`lN%77R;whWtㅁ h0DRkCO6+f"}H Bk㸯ecn3RB ޴J a{3i)UW3@e8sDC!=ph |?DA;lGb]&"qhel-&eWWrBKz($cZθcfA&`+h7^p,*  NT\C۬>B)sŠ̤Q[ ȰBm_܍o*VCdrrxvN*?d_]/ׇ.#*hfEHTݫ4{׀=emg\zq.ĬGbw$m!X$ERzƋ"m)C/0nPJfHJn7H`~X4dfv3A=`'?2 (?2k xZ0D:2΢udїqFdP6T dP-Y|-BeP$43H:)AXyF> ?np0]GRiU#UՊlsCx^҅2$Q?=Q5IFB(AX4KOMrͥ7Lo)F_p̸L1Q'3ɒmUe;_U$o{qu:uo/z^/UZ}q VޓrAt2uCͲa"_)BY}SDZK*TV\>h0V cy"̘NV9 A2e̽AġE]z "Ȃ[[ђϠHKW$R\W_ Š[8|4(=C&"*y?~%o0//sBnluոmUP"WKM|V̈8yDA[eqR yD3I^*aK%R yTB^*ԥFg)ߓ;գ@/vJv^Yi,zW?P=lk/w7qPϊV_H^V$/+eu}]F_eu}]F_e}]^V$e.KvY˒]d%,e.+h'b5ggipn|hV6>hTշ :p5+6#^3}J꘣GcUe|^YwH25ji {j /02 /0* =?27LN0!DT26;5v{.%[򖁼7;O23 /{2B{vҩ:%1g-{)W+r\Q]J?qq7 !ֈwOϜPxKnSX&f]rBٔX\f0Z(^f0]r3oxMRɁyTV-crV/+[06E^g23wO^F]8eDe+A~?(i#[_kho^ i -@ZH if^%@ZH iP( y:H =id˟dIi mƃͣό[?3*`◺rXF4e6Mh!d6Mh!d6eh%,e.KvY˒]d%,TvyE_o&>K3[|>_x^WԤ&>k1go7= phCA#anWB3#hËS|P5hxffsN4I&aڰ wڭ&O]] Oe^ f픢Cf۷BQ4S: X1 sKwElSeF{#]{2]{ϲQHfEIT1↭Ỷ6SU炨[ʄ>ljmS`tt}dXvD~ث,,yǡiT? uڝU'LYfOHƬwSu0-,F 5ovǘ$Eu$ w 3DtAGu0o`\+w>N(7)o⇭w"̖p"~1?]qʝ !cUW*kF^뒨9V ڤ.EGX7 ~J,,0`Px`=4ѯxILͼHvݿ;-'$Ơ記ӂcRW%6lpSM)`}A1ςBb 9Žl yx˷Of԰VՕmhʫ֕[n4Miƒ1a<Rmf>XMnd[bm6zMmO"oja^#Ԇ6o p43f8.QvgQu{$oBOn.F3>&-[Hv2OA.b{!>lXY;J(CkI6La {l*3(_1@ɄD•o^bs^-$ە[yjO֠t ӚPd4^`_[ < f`ldr:*egdoݖ]Hp<(, a(8L&w W \J{ѸT/aS^Yd+lR"U/RRKf،e0MZB<=Iްmirb fbsY-$˘a?hq rsfYkmڈgA;֍ʗΞ6!x^;jGbeZo%X,p/SpWN}wȓMe%\(m4#CRpLm1a37 .ˌbDLp'pڟ8!ym3]  g-3܄GG݁b=gO yBhb%IW*]tnxb:CΪRYWqԩɩ{;֜X⊽̾ӦSXŗ()Zof(͎> tPR5pAm} @o׼Cu?_x0* a m<|!->I6iÖ lr%ԠS(Q܂- ڼ[3k|I朚 IZdjÈ Gy@'0@98eQD-6F Լw(6>&UBUsgzmЅQuk u$Q>iY4GeRW I}@t:u{>X_5/8]R q{mw>50 Fh*qEh 'ESឭD8)r#BV9xIWW`pzWLh!ĞJƋ  c:Vmevr>*[ݖw5oګl֕j}3Қ$vL0狟:V]H]|EaDe`e(IQ63ܐ:z6&W:["O뾒1R:G+?5ŕEGXzo ɃwWuWaȌvbXgx’%,lc/ W"m\0>*Gό?3:,E# bܽ8[$J[ݫ :ebwYT^7kes'K bsY-$aAhr-Ff9Q8_@KRTsǠ`SC}#`2؏:u n]?u WIڝ*隖yj>N(<^٩-&[Zk[#3JaԌqAe٠CfY.8YNCA;3K})pE1iءmGh X'cQrgLgCc[H.<0bL`qIWlf3Dž9,tn ݔz#$ds%YXvsUz[ءS:}G-7ff](5s7b3-$_73d זFEkȓd"/>޺Sh(8])4U0{pڻ8XN~Դ*4l |zW ů{wAV?}oHe5g\X!A S{B?Uu&ןZd=`/JJzjGnrlgݽWi"4vuӴ2t[q}x .=1 kj_?l{t [}pXiaQ-:>Novl:)e[ E4E!j20-J>%3`cE~9? JZyܲ•mBC+E7F1 ZFWҭ\$x}~yɱ2tF !kM{wH襙háN >TEo!7ȳC/^_mBo`EM0*=ؕCIURZC6HR+WJT6?* xx8Xm r}v|{Bf1WSG ]WݤL>o>]qR?{B8؇7<׺tNulUpK;i( .'VOewg#RmUʬ_5 X>X陝;"813|tdk&:ZBEdtI2ޛH;t}՚{~fvMbț;۳uQW*{Ȼ䃌˕VWueOH(SjsxGjhn/hZto~=t`B %!yô""e>837GCԂ/! i!ӸNkQqs_SzI,!3&U6qٞ!}TJMAu$lVHuu6:kfсcZM;6'tK*9P](+K_Qe\Tߑ_ͱA.jAK_hIUUaoQՄZ1'aθ8ӻ[gF z9m+6;o5IFqota8TlOZ&z7k@JHbq7@pbdɊC' Un&AKHȶH~tY-;> |@^%CiUz{*zZHGHG|1ǜi,Qwz4Vd+?c &]@5?Ǻau:p0l1t6lWdܢګwt蛎cNczV =]/4ÅmΩDn5npA7]CcS^ %~oV*p;0{H "`Rb5j΍kBq3@xTY\>F33;a}SU,!N&]^}8Ppم}[]Y7{ ]oEC֟FϬ3È0;K|SNe\ o!L6"&xnAKs[n ,<"4 >tcڇNՑ8 PTLmofHRݜhǞY݉Nj`J6bU;#S{d5bE>5Ze¶KyΛ{jQ[j)-rPHt(e@ Gġ61d\/D%ͶC:Ɛpwӗw[#M"m~2wvuIF ( F+Mڅ:IÎsQ˫R˂j  ~icםLTh=0RI_N1~PMqHI Nv'j)}mv R6wH@2]z0[s9QC"TnNNS;TA$ruYG7m_a0QU;\*{ρxbM}^d lVRa%IRλ>Kw|u.tGaX_sN/!1:|Јs0G[x&fݵQB*$"ӈ\dI5 gE֟:\?^fFCPVإ'GoLcOo] ( Q@6syy0w0 &^-e pG`Mlj)x!om@KlLa;C K)K`&2/ts Kz05b` \  tqqKי84*E -u?+sxS)iSS!4.låk2=0P{ذm=-/G|XMx/T̾Th_ OX/&h  88%G\ά8 w< g4%4`H'fb;" bA( @0TVSJ KR18̊#d,O=y_.eΏv&&#y~Vbpi?9d/ήٗnT?xQ_遂&oD9,yv]<ޕEUp-+IzJ2;"l#A'\|i=%m1 25WKK).hiJi4Rq{a ;}s9,;}BN4r%OA)$ #Q5%>l,B +!>|LtW IS )#9IRlZ,&E.DGm OHW\!M+#CEUL ;JOKҲEL HvXO5u)"(GąƎI)]8G'BGGŊ@ȖUV{iB6FDǡNWr*Q(Q#cF?.Qn}\b))&W$2!9&6&9ZdMjm5qpE7\Q݈OE,sct3\ pP#`M[ =$'JWCL&+|-wYhop ms"p##`gځp0oS9BN%@? $@$MA-ʩp%PXIz z%9_GT)[_?M%,{ ?: |FԨ)hː(nZS :,Ur VmOP4M:fI׿_? o$1)u8rW()o$y891fR$5dfM99 z]h]xp`0pku+ a>/lvnyVqzFةFjO*i*2uLȵ-dv5 1o E6j>͘;{} 篾h3c+\ {gZJJ?,=+mz4;4J4tG( ˏ&RS<4-d M’w{ͳ=4h%**^ܘB7J#g0 lި=1Ƒ~*h!o_JIg Fdϝ^6FN҂XB>@^^MYp4 3x a!L˘]E2 ++p>a4,zN p?lt8^q㈁\RLe`\6 !TdX*u'6S-&d*JMrJQ2Le-D[qBydT%bKE472ęA 3H66;25ښJFQV83_<0KJ` Yv{S>v]J6sԋӣzz؍'hXCKGB*%Od aTP1$YiC10ԟ>$j!f=YxaTI !BєA5x9eੋ1܇>ddBlԸd"&H ILI,^`0܌%DcL/19 98+= ΕI0߷ 1im5 g~b%w# #hB1oC5@s BX}Ġ/O}U75pΑvԬiX7o{N[u[kސeUq.R|57͂%UK|#U&OF[rKSs e6tUB gZ4 x`Z>Tf`tƽ4H$G3\VcϏ23n2!~\Ld"H&ƆFᥒ >'mrfa`J"$1TbZvYZ"ٌk ,9沄 ,0 -!7BƏ3d`]g*WH_8dXI/r`Y$_RPA² y4PV_(9lc$ Qq7t˳_))M烹b&ICŢQT$Q!km~SL!̖TLNf*Lz_Wa10fQ@EI|tC^UMa&^we% Q}'B;ɔ Q3P8gX/iƋ[-y\J!UȌ 2o]apPe];{S}4'rZ鞫G@$ߴ}#)  Fjc!&`;!"78~op 8~T Tc5Y#޳ZG`q ::Т\ cQ@D48<+!bo!3;oToEWYx 4Euj$FzS ji] R! ˳rr5v\|Y lexhm҈\ےY@оfWx$<0fpP-pW2`vVj5o$nFz3;V2V.wH|fBO92i˴RIXn2 |lFMB]g˜@ S{>b fY1Ømu<8ҏ@M1 KI5~">rqqsgR)!Wrnv'9999;C.49G?ȕ?WRӞ9s|GjI{VKxO!;9kQ^rsr[*\E/x:O't)~k Vk&g! FʲQ?b9P@C٘TQISIwVNNJrJjc? K!3hhhM+sV^tgw=g۔U=׾>^L@$.@]6" ZVz@1Zx"IAΞt0J`t9XSBintlk?éBY>ͨ7-1 qyQ@8v'QL3ﱣ˫oTn?K#aZiK ;wWXY!As+)̉r{}ot7Sk-K.1LxF  :tDO>N{|AM;:ېJIJɧ?3o~ߓy +o숕碿" uoSwk}+_s*N>0lSݷ Ȏ |Dy7߼q_x<ҙ)|w͜#+MLQR-tIOK~)鄍#'+]SjoO?k@υWT(G5һ]tj3];_>qژ˾]B3=8V!7$̥GQTkZ'g-+6`gOO|EpK/^i/QII?W(w=qes^oA¡oy|&8WK;trЗVV/n'Ot&Zt[F<ܷwє}#>:2`ůqcTW4[u?QCtИ:'WM>Gj'G=א׻\ĬnE>9|Ρ ^̗Yڞ߯}'-AeFFib@?0Y|۫NM.\iVFlȿ!ˍA⛹;n~e9w1w/^`wxUm{yfs[&^c!p1a+a|+* [A9y䬪=߯Bt(X.kǾ㯙DNfX9]ή)ۺeS+7t>GdYLJ H;YS]rsK+g.u'͚ݻo?,pb_H|mم5oӻN߭ +o[;\S~ͻ,*bgSp-_;«X"z܀%xZY{/]"CCC}޵I_ynͥf_5u7\)bM#ӉA}__X]|BXߠY9g{޺1ڔ~oy{y_}1G.dv϶͘1cФ}|1$c9RA~]t9u񃇿F@ƚ2YnŒ?6i7tRy|='c&G 6ڤgS+hmnuyƜ>>oo\g5EQw檇>[H/F˔qaʢ6s|晞6x˒'N%ЪĬ ΰbmLI~՘9Y\2*M<0; /lӕ7:bR^UR0=;[ CBM:{+Z[kݪ?x[~nFΕ*fQㄛt?zA-ZzX5e]d> n\ݱDWVENhHtlYcwnmNet]]o>3 L>? HۮktџU?(>w>eU֝_ػ@6ޢҤ4-3f1\%;k143,!REІV-*-҆D]Z$7-s0aHnGs7u:x~' <05l{xkcԨl[!rBUIזGo.vo#;L5)ӭu^1Lnb 11#eeNmLbwM r_۔͓jx{j i[5O?[_S/}U[vwE3_9:sUwo *Ƨ=c9ΓK.S@3 z vkMRnI)'EՓխIȮ9iv+Ǹ}ﮘ[/8MW*'ax]zjӜ߽y$j%:t4 zEIͳLMNl8.t8Sʣ+W'Sݶ x\kZssdߛu7~Պ~Cgg:a4E]yY[8aHoMvHu4O:}Yc@;l#_<{ 9ܯ%-WpX %5w7]}v8Z޴4arj5aBe^|P5oGg_,7˄e=;&mܘ3؇ho|y8/Ko0}<eU=xa9Obּb!t}#!>'uj̱Y|T5`Nkz[?ݘ<4z"txShl[),}76{DB,F4pYn{e9gN)~9h]pkNv<(₊5+$uhhO|ˑsrɬ$لŬ弾'_eO>lXfS 93(3AU6XUsOJJ| 4_+QcF`nxyj<2Uہtc )kr8Ih7W3{Oh]iSGVjl(uꈑymҰFRq Ҍ3e; k/kPOqQʻ[^e{j 5](HNJR-H9ZNrI`'B/gM.;Kc|x74uh'bU{]wࠧfqpqURMOVrSwzr-?mt~1>Dq!l?*(+y 8S!~mٶ#">=r:zߋd' `j,IG֛ן砃K6SYg-a{Ie^fۏV]z!oZ)n> ϗ]XU5w.#;v8DXJ?}JOwϮư WV;ʿ^%fw}'EzyGHZe>&gW;J#1"vCS5(;p[=32~cT$$X :97 o> X\N&O6)-hGu)HR6]vf=~~Uπ&jm*C\p~Ωo'eSrtن[r-ֲO!uɘ$U05ycs3 Mv*=ff~P5^E]ݢvU#[%5^'`У\cLSfq Y7TC~)Z)&go3m**Js;}Mޛy|R|445iR[qɘ՗KKko|7$I4 l>{F_tyu! C"Zwr9})zФ`<6䏔}ŘJ(;3*v\9eĺ#bq|>g8fɲ7v_O=gop~qPגrMKfYōo ˂WP6HrX Nus^͛7}oXՋzy~Tذckwy]Re7,Zws^~;|)J¦fjU6T//>:fLC_\?S^*Usx:wћ7o'阁ˠ+jڨGzw{ɻ`6!s!f{DI쬖0=L#޽3l?UWa{Q9AS}>R6_ߌslt+ 6(k:mEeC\^VЉqI\қy5$R'bzތȊӉx[[+yj*BJVeORxM7~w2rN|LKxruΝ,7.G_t}d/Ek$sq_6v\Bj[+r&_]yEY8R-sa C/xUH4WK+b x)0PFgNܟ>+L;Ys>a_{{UkNӏ vlEj*J?} :ӻ[bh֢+Q5ee>{SSi9kc=޷0\x@`|%brp+G b;뎵0<'GGH 7W WW|2jz\Yu///2e8!=`i;?&R:p␧N?Jϲ"'"TF!.ʲ/E>HWqH1$O}ɓ&ǎOf2xpU; pxF&ڭrO$& 5 i,[lQPPR>Rۏ);-!vԠG2'M;=w):u_ֱ>-71tq $͹TP0p̋ R/#k;~xڂ +?=4sw|pF`l!!l7S&VqB#xׇSG;ummc]HB]]]m,mvGJ2s4D{>x0Qg^[õ8d@շ' hOb|En7y{S1)6TGP _ijAu{0u; .Eۙh<*5gT,te o6_O&n.u|N=p?t>{P~зoߑ%=M%:N9f觭zҕnXU٦jp̃+߭̔~$ Seoy(=з/c>4{=]2IVǢsTbaaSs/[UjV_ahzjp=pvbCW~ptxRYښ鳲S?w&iCfsgST*ٍ:F8$1ZDv/ԍ}~q`ܕ6IZ6D$S_v>ka.f#mVnBnx#?xa' !q`eڐЦ#xd9q_J"gwNGEj;d`y&Oyb~}OutD:зmqG%:Ћ!CsnM?s&.|ƀv0x$v'|%Lo>.Aj SZ|YaDk~Y[#+Eu݇n֟@g4AϷTE(464d1*WcoB7%0)NB>-0, 8% `\`W Kd(p `[<K0<'a) ùm3|V)KlR1`@(A)>wD@ƨ 8TRIVW-):BSqΦ2& Ap "qD!"4U+ `򧪩a(hAa0C>E0hT7wE|Xy4?a "$h8܀? (Wze@& lےt8@f 1cۛ6x[CmO MٹLqI?dҒr"|۟g HFZZg0#cKKxA^-HN(؄ ɳ,a%HWӸ O:UTc|#.nEK7nLbnҤR_Lx sd6eN`. :X,ምj6aQKdq06?ȢǠp%,YSt5_AAArAbIp+h{чľ OӘAx_&}'sCߠٲXMl!<Ohx#YCrBbI8ff[e-N2sTypNh ՠ(@T>@:m@9; q`m b*ą%tOƓr$c~'$W0D J` Q=DStf $<æbMY L耭j]`ZL3]}|s >b1( J!Dru0Zx$DPji7'2; 4t2#ZJOK28 _  5}DC\&GYH-@|4*( )T}xqVG<[=W_Ԃ`$<&wtlrea}} yݟ>#@}脥P\SBЙ&2PQx{ &KKqnwĭSx|a.LB+1`Xʊ?a o&; ԥ$W#UҕZEllZLfK4L'Zb]k@I~A,xS) 8K .*ߝa5q8,}t<''SY۵UٵT@cwbP-a"#$rq#?(Ffj)<alXB'kOMڑedd@X Vd2a ZfХ@V[1$y$ڕqy|ӟ -]hKZȕt=t`;p17utâܘ<LCV?l/h\\Pِb`  \ &/yAi~Bn@ <ZL|H"EDKA\n-kE%(C_sf04+h~us20j?@5٢a4S tBd@I 1Ts>,,hܸ/ q4H aeD,Lsivf>*=\5cDR>REUXM۝&/Ԍ7-UM!Ypbh8X[98KjB\J<K`fYO i 珀.Am^`LCMJuҫ3g= 4%MN$BWD%*A~u$۔y  w4PQZp'o'*Xr$]$=jՖ*c_qRK(⥜.;>1ES-<5;HB[e8~#߈78~#߈mA08B 靂C=%V@ t@B ?K/PD(mt# =*QFNHhKOO$ (U%h‹@4 &f_i<a(! t 4J6!4#MMwnΟ-9{"urB6:8$N'inR~`0=bhl:y!viC-!yQG{.S0"M%s[mHpCe@*,m"ḤӺ&x{-J6DpP"~&Fv ooN>|T\AG5 3k3pp6AS%[$HluCx]-l %Uɵ<#gFV"`.^KlQ l0-Ƣ0WҴD`EToho_:6Bo(y9{[|73t\|HNDïϸBM`$~8xtVW JGa5';fOpVh0HcwoZD I (٥6:㈭? $b# m@ @, @, "&@bX #@,z+2!@lu]ΫۅV/(59W`D @HjY|m~&mt?< #"z" |ih@봶ki!z$b/iCi@>@>:k fA*S/c!BP6[{౺Xwi}+kf pByȁ4ңCKSSx-痈!7Ix}Y!7ϲ֯jじv'l<;!\S|l8)45-tN&&΄anPt6H+,/Ճ4.B(x*f&GS , ?}JgdV.E]"Hh҂`E@w%xq^u?H оKW(څ ~ c[,@TRBt1FjѮڐ?%߆  Hm߶_}YKQcS&̅.$}`Xpa@^  `<K0<'a)9 ùm3e)Kl1`JTPϕ!k. y!$QM$ؽ\*R K^hJrBoʟa~`ϋ6fi-]r:MJM(({sẈ `ͅ#s7 !'O?)v^~8񡟅%O\ K\Z9hm@Em ^>g#03Y:DK Q,) w׾+e~UeRo7xuMuRtG` 7 iT|ptk>#9T22 w8-Kt*03mA۵BAZhB&*/jZj+uAIڞOouKc.4JG;m_.2ڭ-˅#$3kyZ_P@u,y1 6U$աJ%N.Μǡ7l&'/t*DDJ:׳D;R|I7LwA*;^-4i[1F o1F _ۂ`(ٴAmcimHD:. ]/9qh9$bly#jh_iiZOO$_b%xfl@Kf@iF\,c N0s^a)L|JHf&Q"2 JZ|mÖ́' 9[H9 } gSk;MW> x6rDzAmtpIڭ--6rDf_UvٓEۖ&fRߌ2Bfِad /C16uɏOGMZ̕}Sw+&[${$IC <^;ݥ)3^/%}S ٍ% ~V3?JɬD!DK. z:XRzR`0Ge`i4ՏFY藦5m&+ rC{Ɍ@!}3C/Qv?G"hZZ8dDfbC|ХAG|tAG|tAItƝt[pڈ_$P YK(KI-?{6O]YE=HzZ˖dMJ5S?DBJ$Hߌ}`}oγ7YOr"2]%EQUDf&⋎ZsHZj߭<5|q5E֔Yo[[xH{Jwzg%rYIi3".."-nEĘAƿ2gbw𿘺4_W)h` 40Fs Tǧ? xф"(0dzkǪ?W?%YquVXa\δ'[q ԙrMS9:֏+8EO{_\D/<0M?};?MB0Feo·{Me 5:O>1"wD'ANSb6Z&t>XH-ILPHOV̺8רaV "C\[x, /;XZz1ar:p6@/Oų"A~8IL/dx~q٫>#5U}Idfn'xDNyP.P?oQJ}Ċ.ʵ\S.ycAi)Y&:R}/ډ< )pL]NE6I'kTIMaD~ lBl? ݫ#?tmcluiSĘsǡNod{gkig nҾ-'N"g;X;wPݮLy?7q=."\P6BzHn[kme܊D2'j}]ow+ҾO e,˴6w/iD$\si#p?G8$ǟwOM䡛`) y oϋ,܅ӘpNcsbO 1"V"fzw\mܘ;喝ȲY|?4g;Q-9N⫉g;EӁOݒhHQ[)UXJ-^AO)Q1Hn8Qs$I߿E~;_UTUm<oGwMQ#C%[y6C|qY㟘Dm49)Or&{YK驠NGe?+MEхTgpm+ocQWR4BQ\rU!WZi&d EV@ľ X/k}@*9~@ɰs޺sg9qwkg~?xA.$7)iPs;φ5'FVM'F #`DA0"F y##G&q !O8d?Ew#+^ToX%d*r_UWޗȰ}?xlYgx_r_ E<.|qI; rfNk쿛X {;OZ{VT)=+#pg:@J()OҊB` /[5SUMS@iLЀ 0A&h {Q4`)Ib VcnJQxrTNۣrJ_NOhNϮyicNF$SǾb$>'+^aZAO+iWBSs_mItv)W:0çOb3m(!Gф\\ؚDkrqTX\sIq)-3\ g M&STrchdyE5-fS*(]vja33MI^,e,hg"hYO뾣?*|/x^?€ @@@@HgM&Pg#N 'XK`@`y1Wnd2ijOQ<  c!x,Xf<{ZC}S/"?_rJ]Ps?Uc C![E ?cCY?ʑ5!!Okπ#e|1菬Rɡ?Fd_^xڞ-z@Ԣ?}^ivj[Jn_V}t@Gi?@/!@ϰy@+^a=,{~G)לa?̍b?9ɳ5<'y|lVTNlwbSKtORqEƯ^1"]/,uJL[忠:RbFלXJ9$] }`u*%6U?ҷ#﨑!&[y6|qcYb㟒1Ub$c=k:7=irT oi3U|וsQYhsq.ȥYR}I1;fbi}*y"'VyXD1!pbT6*5HCi}ٸ7HC5: e-JBp0:Dd|Ź"rt ` :,g>H$BakeDщSDh'!O,jVBBو+)|E`RS{\%6"%'R<=[ӹ&lY$JhFV?ݕ`GclCq]+~HD w u%&?cP]PQ! rjj|r2jO$3-OQ+ӯ;xIЍ=pSXagsZPodrY:INx,{ =B"cI^ݬ1=թ=: 5AGs#?q% ^Xb3zA|%yxy$f.&|!{dKވiU3.xKq"BD?#ҫkri%]n3"-A({Qл!1uKC8.[gVlWڬxr!쩃?_ j`4^i/%Lřbjzy= v3wAϤ &!DAlWTBkCKR_/N6=HYܝci 1-R% [w9-ǥcRqأ/Esjݕ ugg^bKR!p ".ve$]2aTe aT\&B *LGc c9 z6ef[Lo8$˿X!b@_k=Iɹ>L:.o8!3;M 4+".G@Ɏ`G p/qͦ?pAe2@`H'6 әO;A3s2/n=@-c4UkGx%)=9O~3;Tg{JcGvO!~ ;p 8-Z4~.7Bw`~>;P"z~-K5!d#h|-djG"%KHW? Pw|!`^f""&Snr =&"?#+*S~`pt,DyzJ~9ptF~9/Zz_wTH-UW:jU{RO(fۤpzOOU5U,MQ63N3𐵲 #p?%9Sj"p(<QmeφRx{c.&ń6ńrz!^b9l a)O+yo) <5{tg2;?:*l9is) ['D_/g;uR f$J! a>éLHזV֧[)-YJk-^A5S)>Hn;_UtCOTșpwLnuSƳap{Ͼe&xIB`Ayow@3SBzD^?+ t7t]Hg %lc"C_GA.-h1 ++R"ƏAŽuĵAzA_~r ~!IMn^3,?"<VF6_KY6YK|)/E"R^0_ʏ\KdIYGo|tկaʯwl~S~IoZMqX5/?e+ !"40FA#h`D5:R.CzO`cW'Wq4WxX|SXqLfUq=E%\rIlUEސZ&? G#udF}q]>r5r?j6f0    !RfgC @ #l @ `.@`u~%&J&X\>PIc<)s7˰3LܯY=)릈dK+뽣,0?/U@4sH_txFu |4l)֋peP:r; ?Y4tm כ8P ȍ؊烫mYil@^_ۉ|o{H/ ϰy{2g[}>@0Z5~@dxyE7${ MtooG Qm`i՝4_^.v)-a<ѕ[ۻvLT#ug]?[êw\ r-P t)R`H ء髹F[V_0րGT-,h E7:[F]879wqΈ5Z@;2=tH][ЮkBw [We¼҉(¼>vׂQ^.+L;^{p><:"цwPkktrd|0٨ C>d9V‘᣸ f/[Ǭ~Sd=A]`%"tW$hhuU,`baoR Op{Bs9<y bhյ"Z-a=Gi]b՝cv$edQH9\HVYqj&p v̧id;?peblغ0 UK|Gwx%)xO~3;柤w>S;ҵCq8s/| s7,Xsi1pOﰧ {EI;9~L6!&t$OĽCtZʂ%Zz+K>^-BJ_]j=^mLA%ݔ様V aq6+h";:tLI{V:_H%Z:q^ӏ;҅/py6IeDԽKՖ !:Ѳ18;:S5G#ۃ*R럈JP*P6"V%crBf_GKCu&~wQ(;~CwЅIOˌ'U )ħB|n[| aFZzc&,Tإ HKQk+HXr3[NZ0z ̚8:|' !b[{IO B, ($f7=Z8 ]>^NJ/0Gd3 v^+'4 %n+2~6fbftkeHRԖ%v"HDb'";d$~cϵHI፿N%ëv9'#_h)1t-.ޮ8OvwI6[k,"jef$legs܁2m$Ka1CCqҊwWֹ*BdJ8b¿2MQ9$鐧LKJtA#id qMA,2ٙ׸&"Q]"3:‚qpXGxs`3XjEu3 m@фf&24FLb?'H]dl7*4X4@sVD_M@b5q{k'.EE.MQ&) RR]9IAvTg$a.AVQ}:b4IbۻOhR]6,7U*k6Q_7JWm8crqfU߀~>k8dYkP(|NOfJo$骍эFv u幓ًxeO g7WR-d065N3& _K /Aީ?5Vw BS2Q&mqD' a$q$1Iܺz;㿨/[y?njwTdY7LnkasvyDcًZ'D_*Sg;KMqYZ{!-g'lEJRZmʫT vJj)EZet߉$|/IM ].UUQƳGuĤ5_>Ar!l%6&K6\lkO O<'!g ξ F3޸<:c\+,[lRhi E2ÈT 0!RNu[|Z_cS7;z)U{nv4c|/di2y?U4Bzl/( Czɋ{eݱ@wԢ;C,mŊGP _,6QڏEZG4j@?` ňL5[hH>n,C$ʩN7 ^lܞW_G~9'v˝[=KjE;dfD-Oo:p\S5:Fbdx9|qoݹ3qmr|pwkg~?x @.)@3,S?)6 k#/N4M' "D@"AD "k\k.xVzG+&;<&wcv۝zV]k\,h&l` A"^ʩ^W/u]?ly ݵ띕Tۥzg%6wKψQTc{L3UMvB|< |u++UPk:PkSZqUZ+JjMy@)8~49ױ6oX`}aqgc2O?};bvf0    BL5&\@@Fȿ(@< !V:&JbM%MM)*crS!x*OEO0?ɇ}N3;7Jo#Vf)&lJ͐59H|yXAa5("  "  " O }d )拁i 0D(ݎjTDF%4Rp@ԢDGYbFjoگQu6r_V wCE?3"0#aF־zXHi%DIJ$zU-$R7-)6/mk%B5E+.F_?EODz2F""`̓~j }6fP5K\&.0tܢܠT" ?P.ܰĂo!ffJ}f%v"rS_rt caq&T~&JU~||(Qe]c#As}Y }ON?e߷vW4J]Ҡd I: hҡCI/u2n (]AΈv|O?2b[y^{0fb䯰0~ ~ ~ K~SZ]_ #@4D2F< y{H  #:'<)m@ T jw+ sf+ͱӔyfboya/]T40FA#h` y_T'?m" )4yL/( Ct;CC<W:>t.[W:Q!}@q+c@_Zlej'v2Kr3l^V'ȱA *wVHW5XVjL9 gЦCN}&ZQٝ\6ŎޙeE>;!KRv 2Ȧ^XN$64IKȕHoݴ(o7QOh|g?,oɺ%x^{0f,iѮ5X~ ~ ~ K~Sj" `iςEr{.pxxw%/K@8JmH Fޱ:*Ԍ?n՝^喝Ȳsʖ.sa1b3u_Na v}鶳qm{oEj*J)RZ nW J)E:g>${[kg'XYWBoi<9h&gWuRƳa{XV'K6k2 ;aHaxɈAUcqc_B fظJ(N\7'oĖguRNuih7K[yudm]^)G"sA.Pvq%ron1Of8H!Rޥ\rG@tEyu/"V +#/N7M'|ЅA>] tx>菭"O_~SoU6)b((ޑ;Km|<@<ҳ_g**w+φo 6_`M)/5q۱馐xH{Jwzg%rYIi3".."-nEĘAƿ2gbw𿘺]U_W)h` 40Fs Tǧ? xф"(0dzkǪ?W?%YquVXa\δ'[q ԙrMS9:ZĦ|5NS'|}6< LSiO<:OE5+ GPH!RgC @ y#l @ aZ  @:&JnM%M ӱ {\/Bп׽ɬ3)fE C6Dm<%_rj]L!߷0Adg)@<8CDrԉ@@@H!D D#Gʨb V@N1½ rLݯa#0 RɍDgr-lDҋF=wH/" ϰy;@D!c=,&\H).$%5gz|d9#: ˃}L7[&Dޚ */K'ءy FI} ^{p><:"цuP5% ?||Vcزu$o r+ T + ƁR?O3:=$!NcV!#gLpcBhd1 ~^-CY_#C2ǥ?_/JFHTC1;%?NOU%80f{ZݒYUmcqc/:#TYqt:JC3'f9Skrtcx&i}&G*MFi;x);+ &jQow6ܺ GפDz1`~vsRKe3rS}xIv8aD  Ӏ::M28kV$\)P}wyB%,U]W1ÃʾJyD]ןqp(O\CЭn$omvg|/KZ|Ef &ZE^#ۻ.]%xV- ŖUCfZU%~ؾBgv9TPe-Ǣ"Iv*+'\[{)J+ĥy9)TRP,e. uYB]P_ wsSDƨ bX$آZU8-ݖ_ZC~Gҫk.ni$ o(48 G4g|y?0#03c۫hy~[LD/$R/ beE:PzƇ`Zߤ ^}Vt2I n)?'DHo:MyV@EPG@Ɏ`G a^+S;؁bheG9d~{9>0?BCV:Wȶ _Ɨ`XI`5 柤w>S;`<:_ LBw_~Rc\gWoJ\ۻi`&t W7;A{u#`J!ro:WkLDv8 T\kl4Z{nE:2Y:Pr$bz7MKgU5=q!FBXUuJYL%J\D$9:@9̱-Cv$dia5NL^Z#Yk`%=&3bXQ"Ź1D^f6V:J+Xj'u!ws"āw]C0~F{"Q ޶~gzJ$Bl_܍#+[ >VEX)lp~.)ҿc^nE;t'$E飯+UѱdS*QPbkjF:WQۂ]$&)#"Krt*Ы.B$&))nIt~X)$0iie?ӌ|t9yQ? GA( ~|Iďԟ W:\)`}e#ߡ PA*hCI*BKa $$$!%iX=eY"V[rg2ZY ,?x8tPLX#I|3їx?v} StgbcZzs+ KiU/*%Z)U'|$I{57XVNWӐƳGvĸ5_1 >!kx6L6GVEmti;=q>|g>S6{1R.SM:h\+m81̈N6@BC%{E[z d7Jm%18@"m}%=]\j~+E,}4(=A%b=P Ou?}^Boi3U,-pxJJGZ,A.W̊\}T;J@' )#Mw73>\ k1%9^{Νk惻];n >kMtY6%6 +"/NX6Y*!Jʦ dڕGZž~4^ xA/h 0Sg (cRVNRDނ[yo;%.?kQAc_TEc8E"DQF(95ɍ#$b9F^>t梄,E><5]q%b*u2cSaqdv%ťP4]qfb#Pnh7Sy&kԫ-h9+Cʋ vݜ%߶kL$Xz'XzK￿B"'5QmMyK G    #Rg[ @ Bȿ(@< !VZ>uLի+ LO/lX0 FcA&(EhmMP 6A&(ڞE`4P,e. uYB]PK 1$߬m< }oC,('躩$!*?/כ8_Wroi1N~O ?' {T50L`+ jd`6Q>NH=h>T:rGyhPj-o܅pmo_c|`OPV4Ef_7C|tGiO+ݵT!_VK6N:y_QT 0{3iom[Woi;Lm7O}oi)%OA%I~H8),*ZU+w,f?Nɢ? /R%Ӆ >z)M3"62bmIegsw}(+fc o`4z/Pu&0?UZIc?~|CBM8(_BuXW$¯'_׼[^J9kZꐟH7?34؆/?$k_{~pa%&P u`i>9~͌IzDҰEae4g/OdRnLE6?#fzZ;cv*,U+!j1Zid@#"ĂƷ(U&`R}'8t:xi?]5%Mh |Pˈw_P? 09<o_ZoׅeMc/޲a% vHz^Oc;<) rG~HZlya( " " " " iHfl({D @D @##@A @Vfy-yG%J~4Bģ&%@GEO2 :ٹֺ:+O'Xs@_54S y; +̱4;c8K~(@1 ( Sƭ* @(d_^ ™P GY,mғTmP2Njx XgؼMkNTNr )@|Հ8a~)T)DE-rCijӝ4_^u'-a<э[ۻӥ1@wםwl+`=,{YE)ȂלjA}lG_l:\HLY>  'h:09;A{} G{HM=7(aRKA,[B%S$v88VcYZA!.QtI)}3'OnT}x19lko F䖙]ma%vu䶹$^IӟP(0׿IK,=dFH2^j^ (-!  Pom| ʖeF_ҹJ(OHQ- ᏌRQP(}踌%̽+nK"ZA'Uɧnq'bT&xqU0 (W WW.4ʃX..^T2%ajⵝO k]P|ST#ޜ\ʅl Ճ @( ['aN<"@Cn& :BM}\Eq"K"/8uL9R\wd=H ^{֒!nz*M44OSlsJ_)G#s.ڗ\)Wd(5rcn1$X\qnX:fbd9|qoݹ3qmr|pwkg~?xAn$7s&[y6l8arm8a.<̅0\x 'ajwrt*o5@m<xSB6P~#UskMw\aVC{< r{s,StI+CuJ_tV: ҙn+A:SsEsITUPS'\5?FH)x勉+nya*     ey6a:@ @ @;3l@<`;,X_WȤ?ptLX.x, g0xsPsr߲ ݒEm1Dr,~~؏z9p@4~,/V,:oC۳s?o]ZGv\%CejږM6bJ_R9,3x+68*WWH][c!՞D K$- +8$#lN+j [muuv!4֡1W>/c\,a&Z wkdζOsf;;;-->$L'GC@-&Q@Ft'_{Q;FDpAEAu;YZza;0(qxSiAv+~J6'"":U[yH!4h96̆b-:Lcr[ 7N8d!v+o Zڕ'_}<*XM[ w"p+Ljp $[)Hh~}ꃸ֊5b0軁z# bO詞H81^quE)Ed064T\=3iSEZT 8sUk#3&Z ej( =7D} 4*FNjÊWMD5"馮8UU}#@4&,oz11VCd%1VCd-XQ3ǃ4}羻ƷUB_QUֵIWuxa`oxvvD:aE顧O@/VrԖ Erf{̔u|tuŹkxWg[|j+NMs3:4t^ڈ<'ՉV}ktZZA_C  Px70lΕ8޸zcy;)„oG+W+DKޅ~g t0"(3LRv( JJ%_) pѭzUi UrOE9b+Ҟ&բD7;Jֹ@7a#gg_caGM`ӰG<(GiΆ , ũB|c \s&,)[ҽL %#l-MZFiΖ;x#Ô Pv$ccfcvIbBפ4hK˅󤫿Oz4<іpAI*lnKc/RW,v?#|5J74;ayOBm{]:A F;_PpAAQ v?|+lvZK q"'P\.Ѥ  ׀0y WyS;x܆@d82_xZ4~~RhH?fWoJ\ۻi`&t7;A{u# &-e-=ҕ㏥?Ch)MNR j&"y}<^<.`pt,5 //gsWDж~ 4` AzWPXI_6Nawk%ʶmNRKR䎥i1=IR&aH ; H༌(0Mi`䋜rĊ5)Z(=YBYW%T5I؆ٰ JAdy3mtGISF-P:^-f t-hܿ 4Q (v5#JiC.iEYw2i<" \7ͧT=6*J" @g 7ˡ6jDs1ȍSCDQ jrh<*:KǶg[׬&u݀FM$j06ºǶiDC5l]h%WBfhz θMgkATպT<&%l*FvX8![XՊr{`+ZK4+|mC b6ݚI=]:H9l6>E4 { (k6&ϊ((7|XmzMY|@%5Zr'R:5f⬺oښXT5Yf!+Z`3!)7Uc`m7V^4{li xS*x-kLt$W;͎xj(}fӨ-̒i:vZnLKO{(j_ȯSKQMKY,_x^XtK)Dz"R/E/ ]zLG X "(/rVJ'Ɖq '=@j/$N'5揢w-e%-SI&^^ǽ3_Yu%;Yl9+d`{v/q'w3۝%$,d/$gұǝm+ҫuVJ#Zoe%_P-TJ4M)R2 %I{72׭xNWSӄ|#;5_Lφ6_HRZmg6_ܵ'n'ҷ~PBʑ(99 te 8aHif1\v sˏL͆|64@@.8K.2tz%+Uq#ef:Ȇp*N% Ȕ/8gJqɅ2E.DYC4tSAo*/MUOC0^%z6zxUbsVJŰK1- ͺ S ݰ%9^{Νk惻];n > HNrȲέ2gú!WM'B").B"xR|0xQ?)"hް"hZ=Dp4\ ."h."h."h..x"lz/!_[yY)U}ux{Mᝪ;{4W֭PxO4V #7_a*ZW[4X*Y7**jATNrPZGw"fB o#>L7qyr8wl?Ǔ C.Q{Y\A ;6tr=8'V"D*jXU4.9LҲ3&0NfPf;tV9QIHl0P?}\5Kr,Y?oya,    لju6  !VR6uL5+ mL7O/D<-5y. &N = qs;aF) ߗ(vc -XWKR:_uEֹ>t&@N,/MhF:N?"uKR>/RZp+Ew^ MbȤc&ä~5'iv$4ռbאψ_'"+Ӌѯ}2nsRs}Otp}8D1{rg?uK#kK/uPzu^zɖ}5%Dލ_8%+Ȇ0\cx lF6w % )bqI$@9 .nz8x9enC^fKABgtS{F͎.;A $քRg0"BYQ0NG 3[yD4J}# 5HAʞӻT5"r1] ÎtճqGΐ`r ꪊt+VVE]_WWPsh2_I0rٟ~&~ P BמKk }Ζ Mj oxBteMIn&$]"L| 4řoptH7 lT)鮖k\ߠ~\Sڛ;ޒlE7 * 3?ː!v@\5v/$r]_Å&!yR2f?zntvܸ_-r}H7q9 ԥP# 1̨۸_ /_2y4?uM`V7<3ѰOU0R[]rP[6ZlΉS/_;DT!30P{څô4:(# 7G S*  Z͒O3-H>~d  s9k*ض]ďkp5MjTj\X>8ʨXi*cO{CرkX <+L+X]qn]?ŲT݀A=Hy5V4Ljz Zh9! )[0q/``~]iUBMJү Pc`*dỸ(S"}+^i~jVj9 r9+btaOC>%X:pzx.ZVO;|9^ ŋE] K3Ɋ|lz `uY,vs꽞 qÞU~X[z*Ć=P)fz= DwnˉRdi<7wLAɉޗϥ)0eO]Py{ RZ+73JD7H8?՝O%Ȼ{]KNЫ`Uc5 `ϟ}\Wa-(_N* rq d*C!]uv} j~vf0+{Ȉ*Ǚ;Y^h'3q9gˎ~Z8|_ag$Uːx̢ $#*Q0.m;X:Weεe Ԏ ƦZ]hi0nvh .^ Tghj\3P|ZdrLR 53^ſtf}C8U$֞\iaQ(fhkM;Iq7)YR3*)9S~,Rv{^~K6&? ~Qd8qxڿ ;?O ;mlT>?ȦV+$J{E5*-{ EAT==yMQnK5Z5Zk4##JohZ>Q ?OJm])~E7EPPt^.^hQ{9ēpOUͷG|}W7D{H1R̊Rt 㣋-Noib$b=CB S򅩲Z|?89~+ΌGy-U\Pf~feT3HMyt'3)5*ӳ~VUzK+wd HH|a ]i88}KyVQǫ+7u=><}KS ԯm\B4YF]woc Ɉ3?ku|S^hH2`{E_p Nh/ʬ+<颚1 ͳO BJ .酛Rwᖒeų -G+'|9:^"'Fdױ+ r6 SCZybY+nkM8Cz5^s7y&Ql!J'12u4uÁ$r K|z?N?Nګҟҟ%s'Lөٛh#-!^% ~Yt~S;%2r[;n3T5wnZV+nMϏ@d݉tRnãkzzEI#WYg st{yO/N3WL6ynK l`}ͳtZpF2yrڪ[Ά+gZ?] Q*f{afR"8fos森ᑊ$LJjV¦c?2?XB[- 28أ4[dL_dzˉ .f>= o=v3 63( Je5AȠT|#r[B.+tte2n6\'tDf_د42Uj*`ZZZiJx=iQ $y2 A3׍^Y{DE]YKZ+ƕ80SE.Db"H~vrWtԬtK|av0Fi 1{+ REQִ۶448ȿJ'^}?<:K5A#HSI1bAReYa5|sȺ64U{jEWz f~cpA3n?|ō#ZmR  +c|[M$e кoT0@0p 99TxjƝ`4*L&)PP ]bZgL [f+떴ӎb9)kӳڳ=iG:P4Z9r&;L; $:Cٞ N7tﻌBxn|85nBIK뀨8'7Z76h`dע^0@ 5 Lik>Q’{>hh]~)g*mK&+ z źnN{tX $%pGcIP&Kjg65VDE7*v݃lGx=.ݹXH0]nLAȱ%qmdCaնH䲆֛cBͩrIbH*viϤ!H.m_H›uk4\R92r,4D84"ƭ21nYo@{]۳PFˊ. D_8϶S'v T]`ę{$lK_Xћ/k5n&T a[J[,.Ozlg5R"=lD8H s\q ۲Ɗڅхgq{>Ф3;f#j"j|c{n8#24 g>Rx\Z:E#IUʝcP?lȺ%P Fh.p\wwKo1lBHظB/6QdaO16S.uKRDTݞ .m FX~L[Դ~ ]=p~uc@CF| ه!5*Rqw3[B֋u; e G^䃿\P4eJO8v%W{*N5zl= (UB[{JimT=6~p v]ѠFC1z.r:]5OCP(#@F't >"sj }WAXZvu`GɰTp@4~9.ȴ:s! dd{ݜFDZ(*,5G^[׺WĄ;}᠛Gl[A{"*5^HOX@IfxG%lEѾr/l5AWJV' AT?3x3Ћ;oa8]#7l U I)2@؁YnlŎ-:lYܘ3;s-ɯ C֖.v[gbKH+ʵpGKkM;vaA0 Ke|ά{ 2b0[چY=,tf%/#`+T P)ShһffG]˶4mSnhfwH(faŰT]J'0.d|\0pY0ňK8úc{CN`#c4^92d:s ٩5;H uɈ,Y'J dݞ7-p0 ۀG:=+Fqo2e]]E]|&YYyZj״,n){LߺLG7Lm&w {N@"cJ_#}YKO;uQy K![1)Wȡ٪TjU]}%v@0 ҽ'1;XWO;ҡ_Bmx,Ho9׎4!Hn#_>"%cdR{pK݋H~×Lwcbn`@Cig!.lK?v¥t#N'׸|z8ERK<qҹ$K-@ݚʑf>`#rj[j } 812VY pp-&D,JEXMƾw kYM|51(%rw>#R5gicg1ntNzo޼'|'+‡#7"?g~ͥ" 'rB F' NU[6D G%vt-v Z813/aORi\a]H BJ{e-;sRqUU?* 9!I+(z78M$ Ȟ_>>Wy TF N". @%ѧ43z9hxnSaj-za{qY `3wBV‡wE {<ī gv~~fsX)2Yqt$&`>;/3tpU;VIaH J|4(N(%c/dhb Tٻ╂;qm(g@{ .W܂ :|5CRPP95/~|Lp=|rB[fx6hHs* s@}4:tdКd@6 q,ˡ!Byۧve ,(Cd1) )o052"2Xoz {X1teLFLR!QZlTB dtӶZYLJBvApHH(C bIf.ln38gʼn-$k~[P2t9*=Ź* hbtHo /אL!DdM' 08:Ōs纒^q2MWFh@7OɏLVk.V<ߙm.Kn/Q{sMY]B?5AO\8,E)WUAo迻u}Vj'辇_PM<~-T p>rTS-ARTizаlVͦm=Cq[8\N[ikua[ΜnJK G{&=u*w##~EN*¯bMj(xL#PbGb`ZuQ8'% *6LgfU/K=sSCK}r'Ӄ|cv[ǻ3{^:n00%lNsV^Hp !ΛM*] 9sBՎQN:̷0S){)ܐ%^p cT*lNy}¡ |t3O! (n$8<`i1%kpr>XcNWL\ tA8Fϣ-7ٞDaiqs7B9]goGM͘R( y 1.cĨ'uu #{7d4s1<ƯQk<,58 /u(:[21{V"UAE/ <8 ƙA,%r;y<KQ^JIA$~}]lPz(|3eYwK+cܤQFgNɣ24RQSF${z40HVMVRFOB*2zCToȝ'9 XzzEv5&3<֏AGj/O^HNǻOݹ?w=חظi=~MZ'XFLWNt^2rx&ׅEN~p0j,c"x5N -{hlCb!o#< ]s҃`E'#U.c/Z)؜l973dfũ<0TC˝M]EK7L.vtV8:X=UM9:w7~{M=~VxA_*}O ˿'%;s;TuRՊRuBW8zuNnJǓ39|̋7]慹atvorO~5g~(נj V)Gmr~rM&ё~h@В{ RFnRcy5VrSU6t:*_i& 3LW&7YM%wuwYfͤx+j^T{)F8@T:8d!n {$S+Oڷ Y;&S@Q]>E5F ,L(ʭQn+5Zrzl'`T`D%9,*J-MySWUޙW-?/MB~~u3R&ݹsA|i(N@ȴ {IT9A(Xk&=] VXZKQE)Y⹫ 9)S-̩N5 r2tga;"l,̩'VSG0̵SAd\ Gwv(rvB†x~+MɱY1k1bb;ց唣%U;l[I Wy@Zr-Bu=<ʉt|g#Ѓ}0@4/zȦIcHԵrSjjQCI ʍ7$$' 2ϰQi-gm`bc{'1y-C N0dnƱK+]$.VV-Qibqٶڞ8غC6t-$!ǣiYN\OӮ%$ Oܮߔ;W~B=޺҇H9{ ؈z>'[ol[wzLQ"틳c?8x iG'٦ZSۄٱ ޜKJ׬۷ZIDA♃.O"2.KiNPp?a,C;҇)npyCHN-.nПϠ:Чi|l$?Q]cf1Ļ8%]ohZ[I`vU8쩈jܐBPs'=хSQ۪QyR*E!w$XKI?{;rl/8c& md7?_"Tb@nwh(jڃE(.> 񡍷`E)9L@-o)@?:غ΍IgY|[Bqt=HoM9.n(0 ! Z0$;'. 9}:GK(;os*refIA2G<%c ŶVM45fBE\B# %NA `I _^#Gۂ$Mv̞l?xCemsΐK4vq4"7E 3Jϰ'oR=H_ 4\,S;i6œu]81s?^kJ$`!'…P\?Вv":נՀF8-APPү4mw#HU&NA}8),=V*2(+o@J*ev "t~~=Ŭ ˊ'\ϰՖ=`2q:u@uI{ `оl\TnZCK"ݝ+9e F'Zr3 @TOHծjxLpHI$VTJ(ň cXgZvсl(bRIghoߖM|Nk[\){i_-y}z 9O:Q:g؆WL?U!-lUT]""%7wO|l60U"n› dk[j?`r50!!9C^No&AbE::ǽ.Axk}E4?]ބs9z a3vaRGC//jut78ؗj]zj:ģwoyUƱ?I!JokݶJO*lYhd4Vޯ fR]: #h5ʿ p8Cx$6#ː3V* Qk(ؒ!h"v-Fᗦ$^ FeIT&uM+K"} Gp^a bJS{]" EUݾa vһA{d6! eRFP5 0hG;3H[A-|waϊF,,)X_qtZXgRgXqFTg`X]mTn\fjeќ݃[-+~+kFsz5fԤkxm͸x}⭸xc⍊ Y{,+RH\ |]Cp1L+ $gG݋fȫkb@l SM-$f9El2aX@>8dASnNh{FA) "/e%_KS(vGFFñrN uK(|Q-}/PpCyҢU4+߆#6<!a[Zb猊cFrٓUaJCpkըuBnr0a]O>|9l9 SCGw^{mC|I1w?{q~ \mhx-p[aE&r0F HZ۪,FFn-'[=8r{`}ݶTTvXY1!kF0P=3aE 5I~P1N}WdNK[Vpjo2TzD p\Wp{.'aIΗ҆kqZٶѐ+٘q}q`G$jLO,+:7zml+BǢ°yq}2ɝm ,w.a0tDnB(Du5F&[:/PpNpešq Vdv^AjmMi2l.w2 D4Ty6VCy˥ b,(ա1*^;TcQQ1xd:ǐ"h( ]vnRQ2D?Łk({ڰөX1e]DMrQۥ&z)B!nmj'y$)fxJbOĈj}/(?Qe.chC͊HHg+ƗaeP*!'T|wJ5Q $"o+0A X$DK"uK~vFRw]N/)cS@Fy8˰ u,gM TΌ} jOMVX ::%:z Z0IAք9nhKo!mc,$;tl wz[Ne9u(Na!/2)!wٳ^Ωqd_O]8Aziη}11F \7 6 rùX HzDKī3w*GMG8tvc3{OaAaRz*jP_pCLxNHsgzMqwOb n|_`<Ń>F^'C{cCΈ{|& хw<N'}޻;׳[:m M)1eZҌv}ps]=IB:Ļ֨鐏ws|Qxޕ-d[xxP_xڅt~}5w;tpD:G3~Ad;€8-^gtɎ +OB`)- ]+5H?@jIg})!]ѵq\4ߩ mq݈$09)E-UYV=!P;#>^лveH*ȕ&d^qꑐ2G{{_n\#c( \g9pݹG.(ݾA:6{^2-b̚mg|L>LqBx;X>9pwnpNf9NVjz]~C#.۩"z'?\Ήҳm]Ƣt7;ZBV9Vn'lWD , \!̕]{ĵ}i&VGh:=}>,  ]cnCޕ8H=bƥHj893Ĩ@F}^Hu(ުh#dP my V em( b !Lv;F Cki=+2ހ)Ƀ5%R˜a(9xF|?ߜޮ;q4;S-aQ@}ܱ9 E0Ϟ{h%YN/pn3QŠ +S0RLl!}Leՠ`u@1AzGI]0Z,D`rM։t>3bHO0EV,(joΝ4rq> ;C& TaRWYNh]dܘ9sfFe{j_#Eވ_ivFVT8+zчc4BN n:/"l$#|%4IH8%49t"J gؓc/X5~)>&u|Oc4*-rnUErۓe!DgPgJg4,?3= h$l"!Zº H@2=(r9*zWl 0r,,Lfajfaj~fշ2Ea۠BX`U%kVgQx7ARyǷE2=r4K!:8;>GPFJU5 39↭Pȑd 5'AjZ}Kkw?^kWp +vVzCPn44MPs:8Nap(_w쒩W$\ lMJO[#D|(k!pc `֝.ǔӜ2׸@/sl˹i uW mwۅQgZh{8_ѭKz[UDD/3{6sѮO7?լ(H# !ej¹h`u99Y!*1| YxM)RI8`I"kp#@}^ڽjzg=Chw1Mzp,g38Y3r#:^/'mw.lF1{ )a{TߔR7N uy\?K7'Dz,.b) X&ate Ϧ t"+‘}Πv*vS2^pseΏ_3L qgӑLlaf6]&ObBI1W9q?;āWiP̓M.% 0` :3`]%#M\c *+ XNħa+כXOFC!!$ØPۉYNęؐ1D;a02fp0AdE n.9(9sN%:͒p!n ϓÉ!1Q rJd:p8DIɯz/B: \v? z ً=l.Rg{HM_Gvh4nO5($h'Az}JV+RMf8iUD΅X#qM-kԷ˜ܸȟ\#z@BZ/wPٺ5,VP'Mt=)H.T^<{ksk xN`o9%E/HN!/ӓId[߃٭ɾ9H nKcsO6ԣvlsPjLjC7}Iq5]:ݡj.(A5+z@+]aϑ0W4e+Fץ# _l13o%v2tIKJ;.;*Zqп FK2LVUG̫MeQ_BfM̩ܹId澬m{:͡In0T1j5jENAS'=pz75mSs7PJ]- *nYOw{rqr[uoT-'$J0ʦQ>̐Kskeq]:ZiP.%f2Vd00qa4eMV-gԪJzJujL6*v5 V,#*Rю S׺Z|OTH`]9}@-_ЮRb|Qaǥ-PZ 5taOxa d0}65|lZReC{f(LLlbjCo:tt[1FYw{cTw b boYr?&., C S(q,_PJ{`i .FG'* +>:W4X6 %":jGB w+&10 y<4WTSpXRJplB_C寃Po였Ct}Z t7]|?Zfu:i002rFT4MFb9W@d E0{S7Tj6;>-Tή Ώ-jHCZ}Pu!X~fgscV}XUfaL@r+VK; <2c$c J۩;HUDȩt5Py}`thNpwa~Ҿw=4>kk5 -ESQIqVwc{) snGؼ)a*f_*\IShav^CM1NF; DTAibH +$pho*B\Q)6bЪ\1teK/|N/^,BJv!xUblk/N`h_A0{UNO2ڋ|mCrCgXUs>Za7hF7+m8f^L4tgZQ+ bIt=wR:+61pEثb/Wэp|epLQu,IHsyѬA\};x}%`LkIAh%K {ڛ U[R قaOM>1`O;{eeSz~NpdA6c_M  & &3e%\,<ϸ.}M7ePIOK}~xdv=Pwׁx 4fb3Q1ag4?\fAPyߤ(-j_E6-*m`bt4~ka5|_t"aD8XAxƬv23fa #(y:wc o+mu7o 7E$={mD|V 84;z$h=8)?i3xQ +t /lH{g:ãHۊV-tOiH=~ ">oGAҤoq웞k>/ }O8I,ҤЯ*Xi2^eM 3 UKX'՗8GVEsJR#/UTt䘟!ldJB8=ʾ(Y$řBL$+839E搐o0`杁C83]xt0Dh.oЃ}H I-UIPݽ KH?%3JM3.9:$$cӗ`BHӲ>tx.Lh31CuI,C s\{"L`Π~uj*B®y?e40Fj0GJ,:_>k- gڎjl$bCJLK#96^:a{US]YE!=w<,͝=]0s@Op`AНֽ>.i2TzpCgřI98SJijz 텥*yp"Bãѡ6blǰo);Q]7#!'..Or\}[KsMszp~ ~HCNEUV&ڟJ)qS3(9A2< >}tԪRN>Ĉ%+ xR;Eu88o b(M6FZ>FqdrL߃ OIW"+KdwJKvr^N~yI.ɶ wEf-G<7FF]`kGv!*oQy<_F<-ZFÊe4L<=<1"wQkH-3ÿ !Ӱ0jFTtbB^ Qk Q+ Qh!ZM!Zy!WH _!+ B?GID -䮥Nl#v,Ql ?j~2,vݚ.`@\!]ZE᪛H)$G&$lZ[L0*ߡV4sjeJ(rycysq884EJa(I5wՂYi9X WOJS`2b7q554GJWt//QB#"˄XՀ/ONΈ \W8}SOZeWn7us!0ŅLa ܃7R#Vj{MD簡;:V5nޒ ,ZwM*.Puj|b4)jNpC7\IIe K΍wѱfW*,&scL ^ǎ[9L52~#ha O 3xINF6idt;fQKfua̛Zrhdje*+Sc#98+/ [%ikz񖆲L|6vkx4rb2T\c`HYF=\כ>dC*E&TЛO ɞTeǨ,(z`i/v\#r%55tAMɬєbuUBtZQSQUL]I=GT-~'b[CQ3KF .q*\Jׁeq))iVkOF ֗&drrcVAIdƽwbJVh{߲o >巰68 哋難 s9߿ JF3"HÎt|A< 1A5zkC[V{|k QDL87MɹF%bϿٗ>~ngOP ϛ;V=}H4W2dU3x{KBcտ2ޟ֖>p1IR哛 $o^A:LJlH&P#+Z=$ k`wB[S,r0T3VGQ]| Y :P^Ld꬐s\+_x#vҷ_<61pG52sK;} GfYov?:%􌣩H(0vq _`savJ'Upr.C,Gٖ, w,6D"Oa0j1uiBq(8i~'\4$ӡ$Cj;.0nG^ư7v(Fq Z DeP}A˙! Ǥk??P<F>pD$?]2 '(0rUTu[>w(Hj CLJ])]9)yx Jc6%7i$;3'=#9#Y%Dn ?s׭7ʪPڅ":¾lϾvq1D?E?_=z9mJԾ 1l"h F.n_A7Z~jIQ쩪jwE;, 5IhI *JtN5A쵑zm&k[z ܜ&z pY6~Nʾ NoMqt/dLKn54i,wAiRY C7 We޹b3OqVPzᨲ5ր"k+ôLdoF?딷"ٚ1zy‚]Z]ZoapR mUs~sOf@.ɝt^s)&5>)Bb|Q6q4Y0M0w0QGVA@1 7 +=]ךqδ6@b:S4|)GbAAp7a# oL> rawa QX,sO` #W MQ>7dЌ?Goh-~ n_Wb.\ICvnj3+umGoA\{HX/~44e˕8o_1$-=IF^ O /TC|Zv@E DAF鋿My 9 H A7/0vXq׿"=M)E^ACF*E.[yp6 ӞnZ(" N)[6+^;9JF|I;z0h;q J#i rTu3{CMIP$8_{7'1NΧ>+j"픊'#^.d()(qG6]Btp' h&9^YǍt4r R8Uzۿ S(%xWi*ڢv_dZ`L) !څuj]x[Q8BٸӍ'WI:;Kow8 29MtNl3B`A jusQ[OaB9>u5a)+lS3۷<!^*Z,ۛ?ם"B6 Ƚ\™Gނ N@1 x(ߗ鯾܅]nWnu{rɆbmUP mv~v&.H^-q\(L|&=_YT *k,i>,Q!f 9:h u f]ߞ!Ĕ|'bRH,W-C ׮3 : &@z _mk=à _-PHzͣ{>ɯ>Q sriFk==tvc3{r ;P57>XJ[LBgXJӔwt/7xU)}q$lzgI r%u-.Ջ;;4"A3UC9\T Uk+at0i&dM$c񍿔xAYy?jaz,/GbaY NUM&KV&Օy2 ={#!i>!?u'f%2z_zT?]l۞wCgs W`l|J'Օ5ayÂLIQh+&7g)"^&ɪC{H{76uitTLߺg}$_ҁNNCA>1@W^CX4LWvhA8̦I+w'0?8-m9aL;B'Jzbƴhb7L4ފv62qB'T}8n`{hAN rTQ2q/6D$uMr_~z`S:/ҋRj캥/ΚG#mU4L(\mC%tt ec@Y7}'dȾi|k[Pav;ac ]nۄ`[0J9E 6uAVھt6%rCߕꃼ\||5}˵Bպ*j:GG>՚GCSaޚ=F.=VoڋW1x lӍ_}uM[sOB{< |l&Trv'ɝtV.u_QWсΡڊ\ 1ʜ2o^Ĩ[-xӴ=QK>zhTx{m*շ:V!by2w_  (+&NٛjY>ן|FD4TAsjJ3Sf:7;6 BJSxm8A#ىXg" tA<xy^Lm]!4i5i=(jF;~ihd;E1vtjp<ρce\]qdt^l&6ԛ}IY<16^("9 +na؄II:+j;E06ۺV7J ͔ƂɽbKs8gXݝ@T^0W_[8*vnazmF6"/rN.di$c؇w 5LQ9V}[&t+V$64Kse:SioGӉm4aO{x.u"xs=OAz <3y `9mݬ} S)ol=h=/C#^iIPl6[aٞEG9nj_3Q$yic<ö֌xۼ=z}JebOBL6a"8RShbgw&#Xl=Nv$LN,yX$޿uֆVP>2\PV(@AcEB%ߺg7$jiW#Fp<$ 1c2sF_LgzQOW m2[ʦձ䒎lu3,m,saܻ-.=qˎ'`gI{۶g7hu,@Ʋ]NJIZU|b0̯/s@ĊȻsr϶$8x6&VƐhMVm+ƨ*a{+XSP{vkhuܙ֡vv'd:;6N ӭ磎^AD,ļ`OjM̵e}BZ~4@o"f!B~$pucPHo/O*НZwwP2'=iZ0yMe, B5Wr1WcX_Q|5Fji1ʗ0F\))HE-4ߞVQD1b27C[^W(j)_]B,\킸[.%͞jtu&m0Jjjg FOz%ẙ^DiAV\P@K%) Z;^-4̠ZSkZSJCx VKu%9t.lƸt4x(zY=-]O˯`QRe[B3vVB!t8+M.EkZOvP1ek'& i5OXԨyԮkᡫjNE=X֮کbN5!rvvJCc2^"ݑVO%-UB?AK!1AS/URj:;_(:FZX+u5iMft-E?+T$٨uOKdOPSΪUyNR^JvA6дpJE-e=3r.&r/גqg39 Vyun7?ZS]C*d7kl&sqd]׷'.5c=RF6t %V3#RTrbYug>hOtyŢ\{nK4P\]ŗCu?j%lnι1y *Pq΄LB7Kjmw"AtoKQQA漅i Tr9V܉ŵ}')kYhu5eYMp^jMQx*>R3V&i,1=\3ښ6CHFޤs{!S'5pє1Œ ҳSr=yX: \Uw-f:0Y6ӭ$Ӳnjc$;7wX >Z5؍ J]5K5O-3 GMY(?BrG`2aAQBmhA?Xd^G AVIiIU*RCC +jɅ`LL$ܸٱ0 rL~L @*r!uLp^ZO@LOY1K@)E*Sea%H4RMzUܜJ Rl*@1NbJ ܩƤ0Hͳ\d6!/Pu]^RZxo/Y^7@"M LJ?~͠zv۽{s ?Bu]{8{6LGՈ[y`9}Nf+b{5 BСCr7q|ȚZӂ,ˢ ג{AևgG~ˌ̩npxٽC4ֳ tb{WCo V gX2gG(̆kB<[Uᛯq-+~)t\tW֘hE;1nd>}R1[7;jTUjV )}љ&u 9s) .@@5 uA .T8KhY1Xx$ެw }Odβֲ\[yjio`|1X|O(}=狝uǻ(U?x0ǻWS>}VS 3>~O7`C7}/C /b/3\=_x =6y-Gq) ٸ`AOQ‹\4t*m ro|-t(5zpaߒC]zZ;6H|FÄHh(.RM9|1(bM<6,#jha;\3 l.褃!];Ft ldG"I+8_22O1;^) =ղUS>/ѽ\9iu$oNؽRR+?[,.$"}(]qbYԟJKlz.|{-Ue뷍}$u0ʗkKbY@W@ikh0zts},װEzolS7[;`tbB@>+{oλ/@> euPxy~v $.,onYD5;zU&'G2shīv^C#pm U^Y[վ쾅r9i$ͽCyYI=--pi:HzQK8$c@7#^xy=]Q)C+C8SD R^;Ĉ4(Ӆ5_um!/M/mX]\3>Ms<>4SmKjX36.eGjvr_vf7eOjr_Kܗ'R$<}y&5r_~'5}Jj}y.5s_f?Լ}y)5/s_^IͫܗKs_ )Z`(5Xg]M\KoMRu7RM/Jͷ/?/EzD2^^,<\ix0=[ߥZ@QAvJb#t4(+siNaߖ;?[ދ=gqrPЙ`XݭǪrH 4/ hf$,!ME^m܌7+~h@? Ee?ίAwʨb? PtMj,oaG, ص:S^RIUO Dt.χW#Pj٣r),lA\TH <"Kǥ bT[-bRnE'l@9a+oh/ќ07 #8LW7'rH~ `pTڃME-ha{>fJ:()_s J%MGc/`F5WKCUJ.l͊ [Pd㓞4$1a9 03ҔCiΫi _uKm1< \aPI;,#~`TRa*$U痩Q8~]8M= bq/%HTT n΂Hh{k"&$g;jT peytv4SJ _JT G{Hcx^ GHr)6bP@ JyhK`qc[Qc1 zcG6tKG2'U]Gӧl[UX1UmhFc,FwG'pD@"(Ms@GtòGYdvFIH[F-g9@NGQpàdiZ»؆.9!._Xei.yRn|ѧ6$xywz DȢJ!9 $gO!30vU)q݉Ӂ`gCrjθX1֚scͮ`wF<G hN4Q+?0@d헣E 8`5R_X{uVB?}0U(WȘf-)ytT:ea4Zq[\E@(S M)Fʚl0Ua&|?nn^9LnKaK!Cџ0{5`]f5f%aT!L'TTZ#&DS9d HząmňO![b4үD.$W_x&{ʝ cjv4Qҳ6v8uWs WQ~V =Z xV6gNh>z? W8RNŪϩ$˳/3*)ol\g[rEÖ\ʭtJF()XZ)GyZT=u|J>}%t物di;̚.Y N?9]=yYqs{Ќ ӭ˨~۞?[(bB[E#yŞ=Rcۂ9:"~8a~(<*&͵ U B>yX`κ=]1&Im DS9ɠ7n4vR\$Uvܸ8 laPB%C81nLii{\3yKJ@tGP'V'ENFRfQӟH9O9^m3o~,zNќRԪrL86)YP UcI<>1aM'0k0/g{,si"tAX˱^>̅;wem\ɕ%NQ]r,/ Bcez,|Q # m0 $Y[vB}O!}¨t"*34U=d9jSg&{␩=iXqxWsHo/7?_,BY]Ӱ(]>R| !4&j#4yaL9.[RbfEr2la]VKl7yo,n uՙi fbFl;|; }M=eRF秩yp~&0bH$!D(l  S5 E?Զ!`b`E{ `JdF6D$`|WS/N1_ nkNYE3k[ݺOl`][n8~SG8M6!M"hMTrv7qLܬgCmM-zD- ]dBݴap`ugCgpT 5"p|9Cr`%oLU]nn)oӡEMdD7^Qa&-5ll&> ?@8$a>D: ?@j(5%>ybuauOQ Wӵ*F^C}@+EۓQMir'r(D)*.f} `+!a>kQj[9ru%| &EPnerޣ%E4=!}`y0סmҞy(j7}=u1l\Tqn>'74.Cdw'IN -꓿ZGq>@aaH!O1Q9Yei<Fr0&Z@<= < "Gnd˔"~P1qx/Fv7v(w!= 7ΰrZkyI-[7KfA_]#Uf"0g~P*|7.~T*p7n?@RhKm2S'!]rog nb5!SjpJm8ʟnv^\B"RRa8 ظ͒QD9.b:Qp:<:.4Y]v!,c2yob"jWlӴ W(E/pz.^)IǧHDH2姣T B8u1vkT ?tRNG亮t$F iVu_Rŕz!fZsFղJ艧}nEVU+ɫ:UTvxCFy~_ն4 GQRxpWxioрԀ740JrW0L(=z΍=SW׫c[䄕'B\EEyoU5jtQtHŬLeVSh6G nxԷԭ+7(V6JQʺY[mt\DVfGڏ(B p@RA<9~$Ok:_:>z$O㋯+``CL`%gV K+.Mc# 1{<ꔌN?=PyXFf1Vk"Qaj5 H5Wjdo_B%*Lca--bw\ySuLu#:2yEmRc^qEͽ0Aȣz<`HʴW=J`K6(0Yt@lq:mI~4ލYw8Aus}Fs<Q* Lv yt͝4[&4urY5#ˋo 7AHf9L,|3mJj_+lkm2K,D5LQ2Ϥvf9X1cFDz|Ò`3_̰s#V"[R6?8CUP̦R͙vwɬ]?Tփ~uV Z̺Ikbrx&TvAi}r!|/[ũmsCd_ {cx-VXm "ivZn Wk9YwϨfb~_Oџδ[kǍ^H+Xڸ҃7/*GdliNY@k/^7%_$(`_(HmLt#Arnϴo,Q4Σ2;K}˂(> 6y,^߀KXO摟a'sjSH$y]V[mR Կ|ٙ_so?. >hUH$=(k4)8 z8&tz!>#DfPFڒ0 h Rlm,vv,pEiMzә͸D"".%ڊ^GK z)SrV?'sA%9XstB~<=q8~V@@\Z<;5H QX?ޮqD.l'Nvo$ؖ!IoUz0 Y"EH9E}ȡ͎vkmczWp)4x&Y|ر^hMPڡg+x}.h%(+ \V!Ƣmui)CFKWA$SG_s|tAJ̄G}H͕ٵgKM'7#_/v{g>lY3@ERCJ)$Z2hO}KDpY*oJx*~mDWY0$=̯4 oZp$\,q;Ч6;10 "QΩ(Gȫ7ͨ2"BC`#] )KüP]ڂ5i _3.Jc6LݕZWoSE9*0W+dę7!jtvפ3|ANDB0'gg}uiSB-MߴD(OJ`)^)D(9HU'@c㿐fd)~L0JIq,8?b- \*^\ ent@81|_T0T@6kla!>a|b,f4t;Up PF4bQW>u혢 E$Tp?5lؖ)xݥTd76@w<]oTc- XũT-A3ڸ "jW(@ 6ƒlnk83uak]g_3r4ĔΈ0w>Eh jyZyLݒfAr/zݟ;TRnZGr>[:EѰ ~k6Y,)#1leejFTA,8EO+Ϲ&rG?*~=}:>5rC9uUDuD\D 6:<͢9rS' [X@i$pZ7Mۇ`u.[*햭2k2_$mѹ1qNEj z R(i/ ^mȯDz^^ 07HJq ng??3#u 老p8r@4?*~Ŭ|8+5Cؠ2 rKe[\E2B .eYlmrzzo%*N (@0}_{|p {TVakyZ>{ocXۛ0Lte.#u;85cDcT3IǻY×04=lN%V^H,k/Ň9 :]"%sXj!1;uO T3 |U/ ?d>ZBy)LP}C ɰC#S;c9I#qZ 'Ws;X1%FYAs|ߡCc7rm[gM 3fJ bG 1P_bLtdjB:=$Ҥ1U+FUv3LfQ.~&@tUr9{Vh!x@Bx%üavQ0]#[Jhp̃0 itX8O.%G1=Jb-,ןi([&іg8!Yy)úT9O}Yͧo /3ɻT ۂ:aL oTָ*[ȑ,ܱ"STd ^RTZ+ҾhV4yEGQih񊮢Z=EE#CWZUMUU'h~T5Zk C0T5Zk S`*evk13- ūɹLp~db,2%N/06b;UPx7bJM4Lٻ`_M5b *>$NZiEg?SDjjC }a'=fR/suy) 4keC eZ^A^Kr:L `\Z[pdL&?1*X]SoݎMIG>si=R0I}@FD2l2$>A}Zӆ7%m'|K"s1=$6Ԛh`#Oht_Ex`|/q3$Vwx̩&0+Ţbhk K$܃IN`c,![3gR?]|6 P/mEta(f k&LtG8#UH4[-)Ryl.6gg̠j(s-Y+zx_E (WubkQZ\nZvV vꝀN  gSÖ^KUo÷9爏0;Sn2:B*;R*kj>4.ΑLx< x]<+;B|H&;$ByH/ĻŻx]>R̓eQbVH1n~1=ʛ2*|w1u]rx lʊJdskV[(<|Kntz v;`Ic™5CgOw;ͪ.uϪdtnuiLBwn)hQUV0ȼz)T 6`,{z- tgnsg1>Kn_]8&˽5 jNeԫ+%6xTִ Kyģi5~AnbcUF%Qع (O?+Ӑ\"D1A1N!&'2Oa:IF/asl}u'+ "r-⫡Ŕ_o$ףQ(/<Ӗ (/T| 1t&FǤzbcu=ZFs8yޔ)}ɕQUoKԛ|A) a`8v.ݖF@ C|mm12b>)P1Elw4k8O(Bm=w:3݂ݧ)DԖQ^IG!r]eiOoNzn Nnegt &+(wnL%0CrV;MSv&(0@jg79;kЄ4fo} +0(X%/Mj2t‧dod/Rv֯1=wG*2 æ'As_vPm PjmL4 S j#/{/ woqB,~ykϱx(4DBB\WANCF0#Bb-n $"0HܢZqH5 >8v{A[ۃB_6ߠS|&4$".ik (c?|BJ`r&3?"!j[pIe:d:O!$IdpuR҅W$W (Pߔ/vI|nAv>[ (. M!f"m PRl=206齭TBK1.-1Hj`Z|tP{0 \8td&~ &io_W3m`>8Zx9J6FŒc~{mᆛB QbG Րdjv&p F-8tjgZg6zpo>om= s~[=,s~j]Tc͏7[;xcVn.xE) 0mBLkx\@W!xjWkPO&b>b5E=NaF2);IXg^20l.E+aV#jmsr*gmKю`qd\KfK@52,ֽǪplVSl lma9֖ ۥy<sMRsZ=Y."-r}8yxG.&{I1B[zXD}2/~fd4qQ֬[yMQCG-FDqoWas)_&QT>fP,m*9/9F@ +<'AX ΔXFQU/"|ojӊ AQIyfiU#8IhmKlEz ]Դ窜>9Q壢cW;°D/WhCHV،f>f!@Q'AB=\۹;8 K*9r4tf9SSnAiMF2lxb}0<~dM.빆H~xkV v6jXwc쵍&X-~TIajRvZj5h8l˔[1@q'gAo!{G7)ak|!wB~e˱?}~Q$M~|SM)<{Sg&mOoaS,/SI88מyXM"dqxd4x+msNg~1P  ;`>cά58^x'@éP+.dAAA,ۢ*ԕdvi؟a@~SeL~X]:q (zp ;p,-.g|M Ej<vrT`2 R9pA5n&†dǶ /`o{{+~US^\ ܧG*rjMAxF>۪38U*8%G6YmKW.I1 ~^ӽo3i Vv6nG0nQ%-cd>-+ uD$ ]vtY{!u5}OM:ߍ˞9ZE Lq<%l60 ?_ bt1^⢏w|n\Q}5V8Q@is/<W)$Lf_F=Ƽbr^:x[sJHo<Ԯe9ne%<|':TƖxG6V_{`6a=y0i7+zƘa1r9t6)xn~Fz2rcx)~t`O{F7dqR'( ѥ!Ur7íYR @0,e4X{0F5Bl8X9 ~ A?P)}muKҕQtOW#vDqBŰ}iAlh.i-H?'C!5fai7"JK3*^' pN2]?rF-{a1ԱcMX Z1j > {6 ^x?(DOhn褘$30v$v>Gct@*c "8R;Mizz!AS%mG2ںs$kcT?/&wt9I,&ĸmle<_$c#U&Asj0e W}mQCD%ݧيSq c`4ziM8 h2 +i%&%vmzxXW Kt t`VDF<^ܝV uU ?"{p~wpFmF5-b=8MV>;9U3'5]oה#c{<Ї%Bz~YoŁ=%cY:d^PYX~:W cvpVp$P?w3p~ΞD> S̡7..9&-ptG(B~kֲ=_>PZFq~6[%^bw0f%+]7=6-y):hv*l(O-74.t<EZ_ GdBa|6LRQ]uOvXFHOBۯUŻJ`m$#;,Gߑwy@j+O Kã fM1}_L'}s9~1jZ/0hA;*f؊N 6L)M3'4GZ/$ps3HwOZ#'{IOښ':Z)ӥqáv׉:<ϘC L+v =j*$zJ6A"Ή@kΚ.vtB0s]ZCvLd^.Y-a\`]Եy.&bniv?xM`Heާ9V"e832scIdLTlJy,e A8 &iWHfB^BF2syPmFw s{=b4ݮԱH^ȼg. 67'ۂ{Lߑe7,>><bUPJZֱUsiǦ|Zudʎ!y*t(/0.0@QኖL4?8);VHuq-pmcR@dI*[l:Lokyl"~zm.h_A_xM 7@`RIѩnL^tȱ~u"ߠg'FpCi ~}A6zqW"N,eNLDnXg!u]<((_Ÿ1c/ԓamWPCd5Nt%o),Ȳ {' \W^; CxG;F~BUg')`J;׼|$8Mݠ4D4@(q]qrd18!Rgi2mYh^pz%ҫNӉ*gwR@/]ev)n@Q)Z>lx2vQ$Q=Q`DM4{*<(~W԰E+/9G2,;vqS'W:sh:moq_D˵.Oem[lr ]rهKpF4'dM#JyE mׇ=zr+=DvQَ/5lrCNJY8eW?_0^9qyp8!W& |d;cxϝ^%ՠfNh>g^/oF@ 0Hi8Ձzqq/a!e1/cxPmE?lML̦|`sȓ4#MϐNzal+C-71ß ~̆!i\ oN?1dȭwJi[-9pkh6ĴTQhN>6cGȲvٚp(5[YV4 t{}08G*duif"Y9T`g6SIɬ듡w-\UkeG<ĸf iv01AH#Mr.i_+p_&kcԉ\w u{p/R{I:v氼Ǻ:v)4+ FH#PPPPckj|ߗ,gf¦vljWs$kQq1MQ?t6/tkAЭ14#&Q` .y •`W=`FuKm:6?@1 Ӭ\Ep.=cG3{QךX *n{a&X u?3?Qtyz6'PF;n 8F0fن^:TYaP(y@8ܗ-K S8؇GY%X񎀅=A+f`<a ;37BONyW+oIySKs=;µ3x{;]R'EtY7;M}S+/MNKXccJ;7eiS$oINϘqt kw.mVҝ6 iiÇ]ҡV8=7%9pq.Is,Ics񘃹_.v\ԅi"ˇAʕM[Og=vt!he=ff%mj.jCqSD!he-.ujSeYG3wvYga¶VAllW=lB @VW-}v¾Neu/_Ñ9ҙz.+u(հt'&ީ꼱#8`nQzOGkqJ!N7!^nQumy9uUAgq4O rWJOAIMdpڴ<}8zJ#Lg驵18//2EkEKtF:wmmK]G1\S$%QRN )E3 @fKJJ\{z\]΃:ܖ!SI b444y} smAoӞltxUL߱\BXf߮D[IO6)J>\QܤYZfD#rx <' v2Ϙ,xݜ`=EvbluyR6 cY>wJ^N!In/逆bf4 '5bhf:">&#4xN +33?:t'=dWDyYU/~dӈHE>nxCuQB=+ UO.H+/2$8D[,uY{\Ua>SWRfH/#g .AaZ\3$QmF3Gx #{!S${UVpD~L_%Ϧe[NL z,KJMLYY3JՅX+! <}%6wh[oy{h$a[V:fqzB#pċ ހ2*v5_fGUЮQ\Nw2|R6vkMJ*MP\,5.Jތ+,5:by[O-N$$(*!N1C(>/"Jעwm40&1cukXѨqQMSTLhwZȨqe# ]*N*PEJ:p% {2{m[x߱k72DR:r#s '49jd4qܿǓ[%r4K,#NtjDQ+$JWbKi2DgYT͖ E`!{Ǵǐ;K޼gۈ|:hTȖpO^qȶyJ#*[i1`h/_QMܱ]B́sSB!|!)#cC_11t4)=Ѡ8N-UdjwQNk%_j]Gvގ.`>˘ ejclàwrQVư812WPs=u })/^c8nnǃxII f/7mAQ) ^-׵4d]guU;$?nZ zAʢVgbXD&갈zY:TD&;W]X "a|0^󭚰Ɗ L2sbۂTXՇՇMaو;\YpԗeqT|F :٧A'e3`QR1% rórAFnx ua@2qR!oa>XΫ'wz #y u fcC ~4ک*ztf} %Ǐ)(GVfu:.h)9;,ܲ5A%;]BjJ]~ V[# Wvl3Y5y;>R-l%PVzҗ"7Rƹ30&rrRN#@=RN#$ZhF~uMMx\ oߎp, DTޗvs`B.zC_n\P&%>R<Yl@(m),~7:++1 B-.v5>cVݫqU x-m2|Ƭn`h͝k~!0iQ}ʦr0"wlOfUP V:@.p#H@&_\p#hg:HEg->Z"^_v]۬2G7n5hC"27[1JD N߂w0 ]Ƣ*zt8KF : 7g$5A}DRԧ C Aڬ[HS98O_*Ioաjz6xĊ)kPׂҽ9a$؁Da&2k1 Bd zo(J}=6Ϛwm7۹5|!F9+Mx܁k᫬Us_|wԭ69]O FmQ>U$b`N>ڹsO2._z&J~M8}fT)T cGḮ߶=}4*(|װX},OoT0*6fE 3 ޗXԛ[E=l]@;DTkad¼nPl&˴(&},M [_Mϸ 3ؾ(km$ﰏ"X–{\M b|S&^GOm +ou@vBu56[\.p"Z\HmIÖ߸jNV'&cv{EI4~r@W`\ r+W.5<' C*3NWI\pQI978MNw}[LY\dXy T G C3g>,RtE0`L"4x 7y0>QMy4F\~ewiEsU;XRkn)lLAc=lf PޝWF`=j<Δ*zq%A4gƻ-vg I4MgPԻJby%R@O*ׂk|<"`בM67xX[G/SXD+@}WEvhXn{s%'ߣ~߶migXƆ&.c=5ʷl{wkU`ލ ELo3?"uZ0|Awؘ"J"M?1{…SڄSΎRdn8Yqv*fEii3[7UX@9([2ߖ3G&gwSdY&ֻ#{H9^FܣEiZo T11eNP҈!6-,F8q~7ܦ0u^06ud+c?37#Zo1|ܯKf}nދV2Yߛ0Q{eu^bC-y RU F˪ ў89Xdݷ,3"]i]e` F_Luq},`_ʄJGR!;/ m"(0dP-@.^ j/f;?u TKygФ,]RČb Uy¡/Gj =oJ^"Z|C,To.KR6*T(p.&-~(F`OV.D6>.9LAST- IV|b16Bdlj*~f,۬i髛^Rj:*VUJ!&|u:zJw+'QJ w(rUݣПNBբCZJ$ma!w%:9A#إ;ӧ#!Lm32LOW nᔞ?=Uƿ!4y{]) -62 83$=(փ" MtfH{EEJ]"G"?xoZ˱?zj?Rā "%SD;Dh00X+j~Ӌ k*LS8$(2gkqpoyPV iՒܧ_"`*p P9xKVjnEYjЅWL FQUHqUBLH]3Mrl%\?:>0*11x6UEN46tvHv'BQŀkF+NPē&vb]i< wYL_ٛvrg_U2.3rc3 bt 3lf:fвlK;yWp3K+Bm%σu[X fAt{\3tA!FVG˅U*>(PeTGjk+ G! ZJ8t8mbAݔ_չoۂ @,*"(L@/[ky"1n=ߧRL^2aX=A؈mdm}z^;+2Sy˂a](@WEgY Rq IGZ{sG$|Ũ(2v2quwk&יk=|f=sxDv $-ҍjCAГET+,dM=R(`uVr3L`;.:j\v=NXl Yq4kUtM7كY}eUںz΂$DYsqp9*NE]t7ց >_ N1`L]`/&ҋ*j,Cp g#oqi7-T׽[p)[ [~5 tIb5|9,O2A98i9,+MmP5 {%~Q9FcHHMTljn{:\ LteR6J_M׈q+*gj-ZrcԌ:nJKWOln۟N%5Eu)^a*3hHԅd:,1RCѨ<*"1R\+dKti񺒺LnV2̢pNlH">勤Mo Y9\m tXp37h* ̓ejB Z:#. #HqN~ň]̣#hDO;$B` v,`=oDgEЧF npm} yP "D?'}B#n!M>.Qw"H%Gdw!'XAA@;>|>%,X{bT.?1X o:80>bMJԍr\PcOī@K*7Emڼ [߽*Q>>jye2x}n8E#;*]Xm_S"}-A+ wN;8XoM B+z6(١ZbV?e~Tgcp`CY˰d+r5ɁLl%΁ Le j":kҀG#n'>vqGܮ;nws yh6f"K;t?6[c=7^hc}þ\}W~@w瓛=WK'nII:Ga)5߶]/v=K-o7er_WbTz=Oi fEU+F@\OYdv6!vVKEB? EZ\gFw0+3){~oKPrS#{$g=J0Pi2;ko_is[0C %7oI_1tsPfճ>>ϟ1@&QFd21n^2eBKJ35x-0HvT M u~f3T/gEa}{e6Iܱunx\.Kfv{P繁҇0^CX$mb~&Is{Ѻ8{2woPH z/(i,Vh[}[JVg[ FqkGVK vEq7c9Lq\ݷJX1~ =0W8x 2mxKyZվ+y:+An1yqLYDqYѦL zH<,pQ9ޓ-$g}E-zg,9 8K-JJ۽HHD8(~/:pt{[huWVW]'lT b@֋1qMkF.w{NIϚOmClPE9w6d3vBa\ҝ~ u퀭hEn23XlFVT [l3m5oR$&(6a&rm4:B!]ZzmsYx/2&85Y=yGRwV>Ȣ -WLS:ߡ+7i3T| bM,$mDy IL]3"X" FQ6N*_-rrmmtaNÐih\hDJ1EV cy-u;LJ"]lwu B F/6Ndѝե\1H&BThdkj;v3ډNX<k-c[4gI-wwcEAm]MD(J=K5DN:I[In-Qm`m;Q :Qb ] b*iua&RK۝feTz7B\H B܀ hK}PRKoYw25Yvd"CKWV&U*qrkE1`c#gDשmyPg`!8$FB -,j(1.^ʬ,Snaic /""`NhᰴQѦ!T@) T!% EJJIT.)DF6Rh:{@Eߣ˸)a^k y`U0 ~څahoVEm^EViޏh}פT\3f{hq힏i3 ;:4Qi~2gi4XF$:qu3EC/N:ixXbf6)6*!ğ08g- .׋Dе񖵯hY+o&}5$@İ6Ma"xr7@%AU}su: pڣ&h4hCw!cD\(j[((ƟQQQQ?| cVf/k"EC+c>rs2xhDbdfŶ$j=x֬֬o@})ZLʃT]3RPT]s ٧9K<@& œ-Qobh]4$Yo,0ˇ z3^V^=hrzyu=hw "l5{«N3YԶ!XLG FuvL˺\8z.gi h0I h\A4T릫ŃZV?]kjϓr+c`vivajO&ZB\ 炐΅WDMWLu;Ws |kWܥ2|lEHUf/@cE.J`Vtu#QfiSU4#Y %(€hZvpC BP]wϣ:2eO [4@m`vE VOzKkO*zSєr\xkzKWkἚ5*>V Q&k,Գr\_&}gYdO Is%V 7DGJ϶B!M@X\W7-fԚaGв nTc$_:l 9 L-jFcsY9VU\&) I#'QHLs4,=J-- uD#L@FM jdlVUl* 4,<]T ɤCȍ (<oh!͔ Ѩf2jf~f*cY6XO9R* +yU:3Q5\9fr)m,K1MR ܩƬ0H-\d61/Ru]^RFr,X7@"*iZioo^FkYWk/k/Hf჉i}B^'tK=;Gwl@XeG$R*E01xJep"iVrT.F2*}Vj-}Nj+}y,K_>)}y*OK_Iҗ(}9ڣnΥ9o]M\H/eR}RC/?J폥/?/+zD ~;'thb g hD2πV\HҫDF`ÏO(eM=(!0aT2{,w_DOIxA\|tX{j.ooV GPyI@Ku< Ƚ($ah*Pǎgryr{Ѐ/w4GC176AEٷtwkT lZ)(K'iq'Bbπ`q03(|Uzvc95#-Ƌ5/<BH18ejzyt/.D>-;ޕ UHMP؍>e-{Ǿw6`tA&6 CoQqE5,ڕ8S'z"*k }8;z܎,dԞ[ID8@;[9t4wܛsZ3/dh%+ fZ G{Hcx^ GHr)W|P @ yBϧL-\a14Z ,nn[~}c-LVLU[ZUkwyw.]6v9ѲS:P(=y$U7Q/e$ n o`%1m}bbTpbo/]Yvjgo匜DYRL̰,cQ8;;ht:Jϐ ^Ag\<>RLb*c煂G9r6SÑ`Gcrj]s>1b(*va8<:pѝG$x^2:alha(x_[9|drؙ{$<;\J#cG8!,EMBv3g𮎮 X^98Eg`Xuy_c<񘟲W "0M>pB[QjUXvbTL GEzkI M6B[_0~KZCD(ؗOIyn}^G``=_wjM5ڰՄƚ_,ŵ(bO< ~e@6&%{h_ʵ7­m/1&9\rjl?=~|_ WA[A,j%_IUè/H[ &KbBnZV_U/)IT@WgB_}nPV?UϪ'R{OCOO(2jM:U1onVfhQȳAߥf_u*WbZުlqeOgu;^+g'rqR<8E@t335a_ A5 +|< a=GZjN}$:!EuArwǔK8lw7ҽn&}Qm%N%%J%b>AK ?W|C[bH Y\B(UoD Bg MvL *72h'0eT?iFHpwTKK$T!`žRfw?@mtxPYp!΃g2[+X`bdŒ;=NVUA`rC>kt\qIه9( @\Tr,`b1֪:%i?>]PKoжAe' fCuiD] Dj;h8b%IIuC.&r6aNv$eB, ;2.˱tJd$PB>'9 ;4l@dIZ'&};qmx)~?v$1Rg}N8d::HW9ǰ8Räu8"y 0JD[Pr0 vy8pq2Eu6.r$v ʅ<"x#$>%lxB/<%s4w+Г}9Ga#+LmQ2˫ P0F-cT|ǣwn @wҸHTQR3Q&VY%i1O89&ꎴG:p$^w&EFWV&9bNs4k~ʸ-vy77[R h@h@h@h@o&yDqo O߀hʒ'CAD%y@`уoU :io#ڵci!)M?IXmb%w M%&"ܩrR1!xX+vyXKi2(F%uڻ:WM%_ @@c,6% Jg##P@`*1r\LT$M%FMb1X)X)2`/N&d$Nz haO$"7 &ڙ.bC7A;h0rC{)[A{|^Xv2f(JE>T( c #C u$(E @_ pleKDE];"F@&T7+8P]0f@W C*qGZ~΁GHx 1V%>tE|r՟\06s&W i?fFhLn.6*R V.!=È0Xbq0!8[Bhtv Lb.F!鐵ʣ5cSM3ɳgRť FS̙ngV5ҌOuEel]gPRbd 1UC+mna[a%p$'Z~#|hVW7q_Z}7Ahta\čJp9j{P/ڂQtJMƎK_wѱ/fWHavY"IOmFBY$pA5DoD 5z+]0q!Ԋ==["=<F<nQfp4Ù+%./ӾhƹQ>Xr'Ga mҽGxT݁^$YJihJPQtvǁ6d8ف:~!n3tPv5J7\j*UW5/8?'lK*3QѨ# H p/p/p/p*'ǯ Hr `à`3,q< kqmur+ApMyKj:LѤ?[LJqo8A?=t{cGo.{mTpuԥB*v#>wD0I:[\L8i"7a! /pb'- AX$HdUO9Sۑ̍ c )/%xٖd1) lzg8ҕ@x1,`T`*e3`޵Q9%PD U&xMG'ê$Y!*:ȇ5j,"!/c.B:DHBR#01v+Г}~loG2.farq<-Y*tUE-_- ^Q%ϭ ȴړ^*BU I!ctLit2HUM PALrDŜh0^1m8ֿR(WA%Y,X_mV7@7@7@7@7@SJ7gqߌ, EEn*o&>j)wj}hlJcShu_V2tc?/ZQvT;dTW5cԼCw =(6ֿ).O7_[Ŧ2)23ΛqHChN-3:$-nmIef0 @PB,3%  @FGTB `bפ1o1j⧊r! =!eob]h%^}%(vC?;\OsCA{H<B[R?XӃ䪟5C 8 8 ?Hvd ?|eȒ+3US" Ȫ_1݂jQϴ PޒDC mi$$T c=5cjM5U})~E;W7^X).6)uiGn_D0=vlaD lB3څħDg\m9&4+ju9Ya"]yXk"W+ \ɮ+\QE(PAtLR8Yʳ}& 6tƫ1AbΈ O2)yuwv6BlNqhUt;a*$th0O]!uR(W#uX4m EPnE:})앫=~1L]8l]LMXɥ A$ʋjt$ٶu5>!l2~Ad!!$Ydk;Ғn{P&^U`)g4E-FNCs᰻x冀@%g"AKV!˽D\VS/-)'r)㼰Ak$+8;jqZQ٤'(U`=%df\4z NDY{5 \1V05#1YhdĦf ]c1Bm,8(k1Ga*,IľbDkgp7T d" 8.m@4y+gFPja NXA$+jT)wVA&4kے ?tx_O_VX(~R%=v2F%aUE/ rNGXP @VGVҼ4ÒgxtB1^TPrAP@q 1KiSbK24,vC-9֡m!Iʊ{ T>;xwԥB"vǮ3$ъDi"Gq! 됋/p'. AX$HdUU>s; ߎdr[@Cg<%a#Y RB-Ut`/$PpyUZl>'8PC=>ߎdB=>BvJ=fgUx˭U-:xT b(BɼeDoAt _AZ)y|?Ks{`ۑ,C/s8+'bp"'bp"'bp"'bmLldo կd_ɀ2z׿zTK93]z}lI_/ 0C`f'Y7ErU?5)TUOMT)&DU?NRu>R@='RXv2`]!Ѐ Ѐ Ѐ Ѐр+>+(Q 88@P:B֡>h,u0ϼ2 KGI4 ԊЧդR\V>;'rR9F"'ʜ,rRH!lk>- RnO ̜гߴCߎTf4 @Y]d4@_C%y( u`5 L̛5Mr``v `0nQzoG8C0iFBhk! jkuW2/ U ֡~*wÎTf .k|<D L (@AJ BQ%@a"2e D[B(wXv[1"Xz8DtA"z_j$kAh4~Mw )Ĉ^* i II$ѓta%m!D\Sk7lMm'@f@xf()Fh>Ff.\@{"^%$fu LD.IzyБg0^Z^1:f,S$%Nӂ~,:TTZ> BK%;+`I*+WabԪU v+ A=ꘆiĐT A!.1M`1159&@bKz|9f:  tU4.U])T' Aóa=/}Tx"Aކq\"} w4>Ph9\]hbmt0s9k{\ M2e@ n#3HN##Ugd$#>H#ş%UX` J&i:+ lIeJ_ޯk=7 o~@Uj`2rp@f2#d|J>/NTNTEB/_p!MN*d# ;R?Elު7펞;Ni;xs58}_w!رqnJvE/6~UV8K&ꎴG:p$ފ&EFWV&9bNs4k~ĊT 7_P!R~'n?;ŒŁ=jeqNNN_N#KӃВsH GW?$?;dWgTSw =\'+ֿG-b}LVq$SL2yY{ke$Sת&LSXȢAi@IsLǗ%^/[Rhhhh E+u'a@T-@_ g^T o)[ %MMQY5] Ԋʪ#R\VTV+ *r32 Ε`[8 ^%pqP<,(Q1Gu=Gn=%_ @@ 2L@(S@P!z ``)@.&~M:&~M&~J<$FYh^6L3FBI1޴?GB[3sCA{,@[R?X{+(y# Dz#Lh@{PF{T߃! Y6hPAw?ipIUP](|TKA' $AwM@ fS @l)x膅 ګ5dU0 e ҖY7.-]ڨMqot7@4yrttv$y 4KbI]vuB,&BJߔf!-t,A;v.jzqcbB݂"nН PdW ktH+OL#>]ˡJo+N D1S"6HPl[Gx$fs> ? Ba<E{`#Y賾Dv-IeoT$[`9Dj:EdZR,pWi$W-/16tkWpRN 6z+Г}>|=ɨquM;@ Cޢ3˃Fpev^˨~^p1򟗦,ϖd$b}qenˬ,<^, I^lIywYm^C($]N7ѵhy'oGX]`}q@4)EbIoϟSnHyP߮.{j*ʞ2S̒"| D*$f8ZXiO# K ?h`h`h`F99D O?<)+ұ%y@a&W !g/є۠SOM@ l*e{)S "g99c$rߎ+*;e[jq_@|i!(+gu)l4Hef0 @!D6 @}g##P@`+05J̛5ILkr 2{$نcⱄwM4ꮶ [(?MA[\ZMա}-Ar{VH8 ??d0@8 j R 05 &af@!nvy5CoFI}%DхvIEB|EH'6~) !b!eB!',<#"S;d49+ Pm@0 PMtj!C\34VMmp7@ӂ@P9CLSg@מ<rI:WD(Hwۑl2IH-*MUV\^)wߐO<$mI/lDMX{i-cOE+ˋI*jˤP1={F R(wu :f@3˘c:?>7%~ֿXWa 4@@4@@4@@4@ Q@_mmߢ \%osVA_y Tnvh^MwABjW`$4(5x^),TԞGF"'^QYX`8N(Zicq2n&աg'}r @ZdB@y l} @؍0 @o|s1kR7kr6HF&reO/JZ,ONbwi{?d:Ɇ2*^-^/;R?X*/>}(> P: @G>#>0ԣ9 =DɲA|Ȥ ЃtԸyzjwjMѳ)vb;Ƶ$!n|C:NI'OuH7tG]@r)yE;tW7^X)h+qHHk?|^ Qick#XNk.$5':SHjCG$#I\w EZ)fdVl6uWb^3ZpbPu'Г,Iq"H"NeM\V4Q.HjZrh)Y!E4ext3+)Щ+4@4y\Y"K"2+ ĬYn><Yenr\Ya, rb*|MX<4fDviK1|tm.6 M`oN4u8`rBhE"ى* őG$nfPv&7gهʆ\NDINk!y&ZR1h1ʕÆUf1m r*1:}F؁K(ux BqwlwC :|Li ͍JPbRG,HNonEEa*4Iv.nŰiATcw,s_&2i ;S:DbP(ȢF\'V%h*dfDV ./|l>64ݐ{{zUf drhi<7OI6~pwg(Đ1bDFtGq;40Ȃc ASn-] *-n0"QTAT 4yHx,_сTXaFI$ms;Nj4=t 5I 妄p]`$IFr(MDEva='x0T$F3RF3zso} k*hFcn;oiItbnh˻ގcy0~n'shil9Os;J0F1]upnO6,XLwP/G^|J7ye$ڑsT4*%roق8~gCpOY gp@4,&z9z 7 /ҠWޏXnapa{܆[L[IXI8Xpu?iK-\$=CS4ڒ`7|uiDk;?@,p`,p E9IKe\\r%xT9\I"Ă$~G#,K@$0n  xmoK)aN'F;|g8ҕ@x1S|:1s}J杊>0"dB׳Dŷm8Cŝ d :Ut8x,"!/_1 vy!xwfmV"( V`%=Amf[0CݝRr SHy#?>=^H Rn(U8'8RzK=Cc .R0rlEn|DM#)Q5$cbH{ Gu.2@2sX{H#ֽYeZBZuSYM#Y,X_pKiVR-R-R-R-R-RRLȜπ(v|H{dW Cz#boiSnoOXYd}q))hScWё )_Q\ԅO͈:§f)"}CԨq= _eVKe?~X2aMD   f}fQS6wW"rDK \\l"rmLRD J'Pe.$LW4b*)s 5q>=h<,r~cpoҲRF e̿Sr#$f LjũTٟ2Eʯv)~T?\EFj-{]rXy,r OX/Ԕ@ H _|̱=v2 P@ @"Mi >г( JP0y`]&\L%MT&FM"1,,SYe{oLj d:)?ّ_媚CKh?ْ $7:` Q@ H~ 4Up"Kf@Kěg Hva hs]hD 4%inyA('I9)"^:ࡳ{j[l!aXzrŃ ?O<A,ă/ Dz&D$Ex-(gz:87d&ρ62,DxEz\æfO61yvjv%aǒpΪ":DtV0(k~[)b=$Ĺ"e9O 9C8glY8g V74L#hě'+15nlL'&+k*o_r(HSM>9LRذp(Kn] R(=xOS2nI 8.W6ΰCvߖ>e1ҰC SYITٝ0!E+h6Ц*QgbHh䦺D JKX'{ab$"Nf ؐDL4ylT$[Mai(O"FGePEG FR9ms ]M͵ 7+ޝ`puI\bXߐV&9  ԛhyV٥/ϳ*ipJڴ_>d;u6;ʜ߾%n_A_$ Ն(gi6HɖXE_Q=6H'OsHXSH)Fz 2 . 2 . 2e+.Ff)WYbrh<7OQ !c*Y(1!qy.lvfH#;P`C&, 5*@!d76e`F(!mGn2y3)GOr̈ kڈ<iN%" _Dvl 3Tã!?MX y1]>0ʍҸHٔcabsٷ]6Hꓣq8w">A7 3ܵZԀ0T]M `$K<aBPeL> ͗FTMPsLW F37.z:7Ʋ55V!V'{E)lbT9!լI?$pJ&6+7[Ł p"x3 vv¥-|Fxx0Bx@F 1[xuh@I0ðT';0tZWd,;C4e"w4tܿQnׂZFh9$:(0^x.g}Ug:!r9[r쬞A%{#'{rVWCQ/ Lbܨ 8 t_&Ml`0ⲑ,raސJœA!fw5> (!TduHn!O=tws #2S6yEQj~qHC91d4CU) V Ud N:?i($iv2J<ď@ď@ď@ďD8iFR`t=:&8uk4b&P PC3&˅3B*T*&uXd흎t/˖dl ZrCC_`#5P=b&oUZuԥB.vh9\.?'I n.$99UVv$`B,:+˧Id$KB*m'% ; l%jH$0nDkSH:??zhKbN'p2p+~LcX%-,G %NSD8? "'"c wAdX$sb[â]4Jp$v",]a+c1 بcrphzcёw(NJDyOpFnz򿟔>Ɍϓ՛ Л=7 +| -:@`qB`RpD{OF /jݤ(ysuG#L8do@_U"+TP+Q19WD?bm[/_=Z('7(B_ iQMs1vZ@ S]DlJ ze E` 19(bAb q8 pb4[Jl4]Z)#o2BV܎k;yۓbqv*ʼnR\b;wxc?ߍ.KR"=#5bSK%(~ VXi-+~@k8 -1߃в,F f.uhݔ'NcJې/p @@ ȔLxn@=y?C ``$6&y&ŵQxL`(c8`:cn6n6n6n6nҢncA\qeA\qeA\Vc:^Y%kԄ1X8Qey,dz׫R>O?kyKR) "):h ?;Rs NJ4d.x럺  nnnJא_lDݏʳfm?(19B IF$iCWlpd5xxLe>8?O?pό*~}zT$1O>RO>ГfYsRT8IijzBAO`]|‡̚|L巄 D iA$9m 13cJ`.8Hƴ`Ū 13L#)@pgg6:Njy9 ZC!0vN_'}"{wfsFC.|k(TE{M+Y LHތb;Ƶ~L-[ Ira$.qB'FGxqnj+AB0Qg[HWUrc/V6{)ʴm0XD,jVy x#@%g"AKV!˽dYV&7#c3%^B4a%svcx3v[;k9ī+D)H5kЫbpOD.tGmXb,(, +W,43sڒdg9W%  9]*) |ZÆ3>f h;86 e'EH=l L)A-*]q>/5eAԩ%"G ۍ0=$,B}/֬51H*z`+C+l'SEj݌})}M''+)IOyhOIڑ 9*х=L'? O~@4$"Fv,`i7bitqI?,Z0m Jp05/b֒:=^%?>]PKжM?H'^(A:xhvԥB~=F.rDD0]Ht5aZ~vbB,:,ˬ$JdMB4&/ ;*lec4Y7'ܴ;omr{}x)7v$\g:}N8d::HW ǰ b|RZd܌( XL`=&6L"){nʢ#ر"_,` Sa"X6d~Op&nz]M`#yw73ޗ9miHȇ:=*Ei%ro \#~1]D%,ekbUĴR$cbH{ GjRdt je#*4GGex I?Zr#Y,X_,+S?S?S?-:BM}&_G?ߖ+ ~{R[) Ӯ}G07׵ iI"?nwbzQ1IQN':3&{A]|)t䇅*>DPd Qm)Cz<*3es>՚Xo:/@.. kCT|`D'QW~I`VWh3Xv˱D3]ZsU'nyLJW*ê+ï0ׄkcQMc&Ndbݓj=5}W e,Չn"*V$RP硋U#7369Ke$90$"${CΏ.Qh ZRPRe@SAthTyrsw0tgEt(f.8/oJ)& twkaXMC)E|7TI_@t J%إϨacX@U)Mg4ޒ<4DL2$Ԏei)¿ٕ4a1$@S XIC`8159&XD7y+%#s8+Rn@ZOI)ýHF_/3uM`#Y 곾.9eLdXNKD2wHE-)58$`Ǣi{'>_Xѐu\m,[`#yg3>i,'v*U߳ޢ4=Gi;>=5.XU~_<ɣ嘘;d‘ {]AbZ䈊9`b$+]2?mIK#D ^"BBP[SIF(=n7%IH#dyՙ-e=vyu{%?8 -bKK΁'9$q %A1%{Ş'lmM}{&!&Ww ׊,E:O>ϓ [R?~h h h h s='@>L񟋓F< lg*+ 9S5k:*Y[U@b7Vw Y++F"g˜koVY؄Xn)4Wr1i7ԡkH𿶤2 `@ @"SMɄ F%y( 0 @6C.&~Mb&~M&~1MdD%@TRD%{V•S%`5hjGEAE|G IaUסpS4?(mIe`mh?d8 0Q?A{KCd,H?|yjjMѳ)~b?$YO0!=?'͟^4Qn &Q61G ~9X0/C\/? L>KfYO?.*Ji2hN<g!x{;vD4Ux)ȓ+%0+4 -y]Y"`Kog~[l mOn8@n !7D֎JXURG,ܘHNm緙J ֶ[+܂&qPT oC/Vގ]\ :D59 Ȅ(V$hP~an93]٦-mZg$Mœ9a:12SlՈ2uZxF Fc4Lw4hQ5As%ٍ+h#Gn2y3)GOr̈ܜ6>iN3%D¦|‡Y4p]$r, EB#(Eq_D5@'V+We mt1A@R\Ɏ;ğLcD[z(ufP5 t%'p_+Hda2G&%be]`Y5}Gܞwӹ)4[Å-x^ɶ`Y^ ul?D(F+ rDY*3q&N&Hx<3ٿ4MaTS!f E"°!X]!`NMFIYM&TvZNx$xUb'gm+]=Gf^Qx)u| <ģ]u<#e$Bg`(9~@gZ.hj7R{ 8GRb&%__eG*3QѨK#\\8~8~8~8~z!EQ-x}bE( ]ʽ\95(%u(%?>]PKжh;/x9xL7QN]@smG0  \)"$- \a!HՄi! K/p2(3 ATX$HdUYgޜdpAD:?ll=>o+@$*E/˗[0ziyUq6|Wuoz/+$C?Oya%6͊EaBh*(VsM< ~'U"Qiw%DٚX=X'ysuG#L8d/A_Uu*I +F.O{/()|H˒ܰmI #4&: 8h8h8h8h8h AS[RMȼπ?K&cKʗOH]G{e=*^+H&^_?$lI+/(Ӏ2 (4)za?7|EelQ<5#m 5g)P [;yiwVwֿXb4@@4@@4@@4@=QS@w tB%t tZK}PXFb6BJrkz%*]]Q8"?FW ]5YV;w%W5'x~i.!i={Qζ{݀%_ @@kJ&X @0@FG(@tV `s1k27kR5Ls Ц}%?j,ƭ;8?1٢\2Ɏ:*7\hhmIe`Mt Hc@d (00  `@R~ @B~e+e@O YkA&ĉH- D0% !=L8 I aR)k!o]p~zr?OXB,We];D QD/3e.̹ϭaP<[) R'1 A݈GPU$)^ni0:kKDܳxa lM] Ja5"QPئPY}(b T6dr[2_.夊e2qIߤ7[RGE*i _o9'#M ,Bl`+c+i^aɳ<@:q[/*q (@qMUXh4 MI%|¡жi%@賃 {G]Z/ BAmv$ъv!!D²C$b1!^ ^@?N"#ZT)(9,IߑflC?}vi B7TOy}>{H߆d1 T?$Uܕ[`)H\F  Esw },ƴЫ>r[KoG2!y Ğ]{U!L:HpJ=oW-8:xT b(BeAQ5^'),,b1-'{{ֿb18ǎ8p#7bp#7bp#7bp#.7b ? /{H;R~{2=ޒ\)E\ =,׿뿮O{ ?[Eb;Yl -)_Ѫ\OMUUS+U&~)QUOT!7{1IԡR~ڒʌ!@4 @4 @4 @F Fg@$@@Z@}PC}xJCd,#/NfEWhS< I>d7אoI},>ۑ =*XԄQl7 o~@4 h9 7ч܀gAIH;^**_W(*hyxc8h:҄ aORcK|h¡^֡m!I#!=?v$v(;xO KQVO@#vW҅`,эII+wm¤H ʄXvE\c8 {Jtw$g*–Ӈ}N? v$/ӆ:tC b$li/sp@*- 1drQvלޱ 0w|s0cXYQLKmDZtS֐PV#[垕 Yԭ@Oy_=>I?k;6"^P{B+E49<>o* 1 4媱 |>w _PVCtI#~////K/X\6OsQ,?[R^? 2@S;-ڰzGWSA(`2sQ|%Y98U^>ΫRoV;{R^bѴK˪R&L3(q6C*ou5J/zS(-_XR 40@40@40@404K(Y: 'zGz@P:*>h>,0Ӹ a4r\vNM_4Buj:S콦NaCud@TOWU~ur&DO{Ӿ< XJҰCOe?I;R ( @ dv@"l} <@ `F[9 ?&y&Qa1ZbM׹)޷o0n*,!~cG?K{,?he#4?HeJn9|"CQP|E{W|0|LGI]VUZ>e7'bbD]S"ŀ$4ĭt⪩qyFqjÃjFل@tA±P ?̈́}|N .kxj[JyK TpbB66Niٟ!+KG:;1ԋQ4($EY0o}`%?>yRK(-)̀ ?w%qԥU"s9\D>$V A&HLea\%x)VMI'~Gb&Q8 &Go0cW;dܢCyh%Y P~T)lk5$&~Gl(Ƃ6O2NZ>ȴG\0_k\Zl*_BpƯ>z"jŁKBJWF$DMԶ(MpMh>9!<̍ O ũaiWq~g/[+*XV $ }Db4p)8VHH)h51U*e{MS߭cljwW*?+^1|fD',K2 ?@ 5_ΓͰ/1A1a߲t^?ےQ @ 03нŀ `4s1k'7k*6xpgzp[ۭ>6g;*CK0yZjkuW[oOyM-fHao-Thbmtr.{=wUڕd :%$`Fr2~H0)PLJ:q/YthWFQ'ې =*ń_o~7 =i^^`3rhDcD~%A=hgںGp$G:@Qm@m@װMД ?$3ZW8bmIz|Y?lIO)W G]Z! Qm.+='I"b) ,"1JB'Z$GAۉED6[eLf6yn)g7BKSۑ,Y_\ǖ8OIY ta^c΢,)A'#PaՐ,`;#@W9_$%S`11XB!?jtԥ #8Th|oz?ߖd^]O^ie@,=Y-O-r\n;RR ޓ27OYxĚWM@#똘;d‘ {']AZ䈊9`b$L4AhuY ߎda}qmI7ZY777wZ.O OgKEͯ!Typ;Ew =HyL[??nْ,V X_pNxRo#[-_hեPMbdU)TX&iUPiXe! txOτ9rK% . ?h`h`h`CǬh;h; gw"b< lϜ] !g^ٔ[SM@Мo*e;)SМ";yd$r]U\V >*xd/QCnے/`@@ Y`J&$ @@FG(@Pu0 @.&~M&~M&~19JDi1^w[0 M1CyH*rͭmi9M{ϖTf f>>JG_z>C}@p!>Y6T{E!^4?:/S͑` @ -MlGu3 {jEQtH*Qvcj<aV_@nqCǑ%<7" eFrY۬'"U04MmЈ7@-THlЈϓ!3/ԈhL3'QW~S`VWh8RD0U^W'"܎ƴbW,.?0[?ej-cU]׌%RNq_ ᚪk&x/Nu't[soL=yZ8v**E˱v }!͑}ӗdfW{̗/l&SrTj}91=t6R ZI%.#8 U"5U0wgI2kcD?e$*2(gNK#O#T4*1 ^ ? ?iXL`Ur]e]^&A)jlۈn#-RTn-N"$$;_,O&ɖd` ZrCC%G- fyA8x.R_#]MNVL0M$0;Db0!urTN$2%!H˓Ilʾn6gy'&H_uK}ۑ,Y_\b&̲WHȿ0 y?fi!H +qh'53؂e񂵝 8[ @Oݲ߇ۑ/wܴ{:|xڞ[ {:ꅴgڕNîlY'mb5z2&J@\ݑH'[WU]dt je#*4GGyf0]?ړ,D/8r5+NNNNN0)P $d/܍̩G~p#U[#߼z ZoI{T Wj =&vֿ9םeHْ,Y_NٲfHiqQ>5UOMt)FW?vr5fr@BVK/%H hhhHYYD O\9'.%y@bfX*!ʍѫ鲨\V^M_FB)l^פ19Yz'RYп@Ӡ^46M4U_k_5sCOgi-i ( @ dmd@_B%y(" 0 >@.&~M&~M>&~1IThQ}Є^҉ H0i"uOypvېFc8:GBM`NpM=r*iaAįS] oKA7[ס=nJ?62GLa `+ K_1@ `!P602\3L8ƶCL6An)NEM`Mh")+FA#- TL*8 J.FyC7p1(z%1izw/pݍ$欠:PulD$dkJqbpxv%Sf SiN'nD, YBw'͛LcD[z(}g-XZ5 t%'p_,xdA LnPeL>k Fņ7wŻhT"FЂz`q{EOX6nM'Ʉ+t`o Ŕ=loR[͔@*MLlAؒXu,2 ]G"jG~mF#/ ١v|-mƻ]hZVM wUuuMWSI8#I ;qg*8@qjH),/ gٕ9/ ި~×:_{QmBI|fM ETbX c8=.7M*{j--ŶYJlhtJ0JFqe$'ߟ@Ed53el휆MsV_io&vkM6Ee&#ջ4}vu̡9HBG&9bLtk%.sBmHp}~ہ!fmR.1CBX*Q-?2ߒ+WH@aee- $^mIe;* 52 7!8!8/?D''#M &aŒxF5/ɕ;>>^5^T5,,e)^MI-3CT?`#?E'fI{;JaZ]DD*"ʕЊ: :9K[\\%xT40Ir#Hf䴠%k~6r.'yۑL 5 )/-@Hb닳Ρ}N8ett&;Ñ%=8CjSI8#P٫)`\%EN1,_⋤h9y} d!xl3"tmáTYEB^;֙20I:9O)0h ?)ܰے< ^i,):@SO;@UtiכardS/]7.U>)(wEsUV@:&ꎴG:p$^u&EFWV&9bNs4k~Ċ6׿VNT');BX}geq@t`@t`@t`@t`@t`ҁ*T_Wʓ0Lh"W!< 2~k'orR>ޜǥQ!iC3*4 U2ޑ&-.p..KR"gK#1}6oSY2֠t)* ? kxAݰ$o9ԡgYO~߶2 P@ @(!D斒 @eг( JP0@n/0fr1k7k5Rvr> 0ɇ')=?MI o&NۈjKߚMǖ͓Ər1rb]mn]f~oQS{}  zc=𹻮%ox?O>wI ?vٻ;fc?O^ݴz#3~]G?>vֽ>Z|{M}hƮ:~W~ =L~D?]xty^WU=|+{NxD}^]G;A|:_z?N}=?xƜ]yC{-]ystKO.rM_అ-XNz~posvǚ뢏<7^o3wo8k{iiljOxǧi'}P#皼럫|xS~Z}f󌅯N>u C5On?笉?z麪^[^ݕ:M!ܠ 8q: C?|_?,zsk 2O5W__wpͧCٱf/>k޾|3leO9v䦛2׽v{mS/n!<߆s -Y5/s?glvo1uzGcf,2x<" n`_soM{}OYpěƓaΦ)~^G<_\;cv/y=N|b'~1k?ru~ǞXpΡ]3;ӅkéN9g~'L9ÁVmHb ;Շ~^ 7^7qݳu}˂7.;?_a̜9wޞrݨql{χ_zHuuC?wQæ|_MmsGLYR .m_X~wĂ'}xп>̝t;3x]=]y>sC#7~ћo&ڇ6굓:_OXwoe^pڊiÇ/4^zs_uӖ~L9GK.Y0fni&o6O_~OzXgݪVO?,5 xm>;DOO4rMF=tQӖ|uG#^6pщe꫏ХgmNllݮܿ8~}zݥs&}= Lfj }{l_t߸qě?{O}3:;{6W녷L]Ǟ'4}uϝt}o>w^a,_w;"=zco<߯Yq.]yI0渚 m77VYtgqͼk;?gnۓ#{+o<߹ ͑gPbLe6^ /~nU?MFSnwW_v7:/{tVG.:l;c;䯞U$:zd˹##Z+珸?v5}}jmaO;˦3-~2_+~r{,:ugn?rӓ:쯖կM uoGIJ-{bUW?}uW'_n򔭃ugsڿ;񗎼oؿn?{Z1xEf7tE3t?L{ī~7oq߽wol{}g?gٲe+ohw>{ᣨ÷H\>_;캣ů:z>y$>t?͈Wwb.Nlzt\4/9?6{}NuWt kb*Wnwﰗ.|ۭ}F;lWU}pwG󛃆??ރ\j;\l׵#}oNJtsu&޼_]=a^׃?y~ܬXArNp}kzoyeO2tY&m}9kj/O~m¥l~}?u~ƭ~G篬iqsz΋_ly܎~{F柪q>]$>mpt6=pw<~k A{b뮖ͮszۏ_1*io=/zLJ]-cx1KztWl;_[uĊXsd݈yK^N}˙]6vyOw3Enw,{^E/Z]^os/wV_/ZvO ,\fa|G]|C=q^}׍?fU= rd7m=2k[H4=JI+'̸t{tcK^|׿s'߳{|blm1z7i<ƜWsn6x:?̌5'sյ_z/:asͧ0 wpJo-8$>?ͷO2u M= oziwFc.{/=o!Co{[˗5/=pߘU8mǾ./X܁02uep;[,09s;M|4ɖ,y1Ŝ.oⶋ]履'c#m 4~֐?w}v_ɽ\޽}q^_[-|rĘĦ~ؓ7#CpEm۬{/x_[ऋ7y-479s͗<=%\悻^?;^rMzgMg7īMUˈ eϻvq;;Z_~P߿ϳ$~<4uˢGN< ߐ#^kxi-{+}ל{ }F__ʡ\)̺O\~mMuN|]׌{(pG?91l<}S_7~س{1%\'m|-o['sԥϙޑsVIW&[ u^rmCLov~<敇[t# |~gnwع*O. _Y~哋 /wsDO/;7^_^Wȿ]- g3sb=G =峙u=__~}4TR:*+v\w{z\ruoQ譟m}Mĥ<=ݏh{k7ݜ{~Go>r[uurXymuK ? O~sFf[8tMyw4`[9-fͿ$E=x*9_޻|jFe;}1gNxo؞O.+~l^]9{ڣ7=__˵l,#5mo<7U_q_Ƴ'߸%9!.~[D{wusDW/z;ty$y/ vaݲ3N>rӍHwO,{ޥw9mN_L4rꗮM_ڿ֟pۢ axȁ<Uo;pw}lG9d%?nh ˏ}79+⚮ϖ6~nW7mZn }՟'à7Qwp+'553nK67ڇi\q g3+FtY;}6TsO]ߟp.{}ޏUyĀsw_-k?bMzڇϭ]x^;MlռWs)M:yѤx㧻^ZϺ$翏 nzӋt=w{$Fq 7t75oAYu֯/\NkmoP_p3V3'=q?ZV7 cT}=ZZqp!\~իOVm}Jtw~˿pYx ?{==;E[ 7uEΫ^y ̜+v#ι1\ًS7GO8㻺\XpcI?ޏudNXU&r+WdA^6ߠXȷ뱇oYq>0WϺ^폫~Xbػl[ 8g}q]nv\{ 8c8fv{f|ɂ͇,ᮩ\^?ffkwYh]uA/L}-W}w7<'oY:{U's^3/iÅ3oq̮gv;zn9ˁՉ:.w1/ϻ3Dt7W0}ևY;_sĘ[ގ. |[=}o:rL4,# [<ݻ/ZGY5*q5^w癭i6=;S7>zi1y=W5+>?e +j!l("(.i5Jb EYd$, JfBť*Pb[E+ A\wSbDTEe+.{!RZ3pB̼7wޝ{g4%C]yS=<^lB\wA3rrT4pW/K:XSAiåTv!E6Ty:2dG]Ri{c^ Xj!NjEONN,|*/#C* U20?xm|ơte2gF Qi}hZ{9dz"=o2[jOBFތ-gS=짉 "Ed$b7Knq4giLiHź䢢^n.-4 C[TП"T;u{ӓ%Zyw3۟JwNvzzeם"Bvx_s;f7.ͥ="kM&)~w~2*_^6]*}v3Ȝ8]1:snǺZ==Gb-sde7??rK3!+0"C rxB&JƵYN>)gSi\#9I]N4iMb S%VRto,pf.T-ڈ֎u KTSg7Ygޝ~{AkeHP,upՙJ3ť*]xK-m!Ix^ft-hB Z)Jіhs'Bc4Ox!\ *h%YO/}$O w4JHK#*S? < =b}521_cc2Pq49Ъ#udxld'5 RIraZN7I39m{cӴ ӎnMLIZbEG.t^R-WUin@o2_74=3H';r I.Gvac02eW,¥Ii[Uwέ윜}ͯ8U2N6two%>[ khU+Mh!NkU28V0b܎4 ruS䣓zu=o2mf+U\M~b`魴!MZM&{==GN%.+ ݈>Ғ]\,ZDd׉d ְ94I{@ΈUlkf"OIcN+deg8$-}.:GJo&x"3M.H*跞G_ZhqJ2&ؐ>>Lzgf/HedԢe?m& Ӟm3Yu/=!6'IB;,ww_.~oo/sN2`v岥Dq{XMI۪6Zik$!3^_S=A Z6U1U[cWܬE9$8ʇG*g6Bk+Z; I ̟f陿 ?39p>ݜ_*oD:/&=N%tA Pu[JJJQK({M8}Z5I,k =}M6f:^J|Ghgi)؟w^Kr*lkOO6PHrƑ|!PvdɁzHⷿ<3b9bvtq'#+9*M߾W.kKR0?-z===k+E^")$/Z{UE4X {)1n {}O\X=ڿ]#Yt&CyrI%矾Zur֭7|QgDddY73UU_|͑0@׺I:=ɎR\,=OK"tRḸSEoAt΍LD{_|Xym#_'gfF%ggpwr#XIvf n0殲.(9-+ʇ,c˟Yjhx͛7k9qm$V@`rݺg&X´?sYKS-TW+RipR9Z<:zw1r ]Do؋zm4yM4x|=Rb"twOeΤY~er[ G{!}G5lce888hhh"HAdFAW~X5fS;ⱅ˫|*-eOoٲewVB^TfS< S: SĞ)mQRUl,`ǔXrOʩ4sǺ\{UBCX Al'tGKHh!9ॎŋk@MjCJg+fĬsudv5ZեYUZC)Z4mKgU#pH]tG^dzj?1f>Y$;9;yɥM96rgfߞ!N_^1m, )ɦLȿA19gK^}`X{tk6?"Uo^FVnet/.y쉺Jc 3v=VHlHt~t5 SIXxyy͐3[aZN؉\|Xj˔ݽC”yx11͘y4dڔJ# - I[wk"\0_Sū7o։R(NtV3bhIj~=ݴrJTlIg6WkGز Ղ):ԕ[a%69cZrWwYwÕOhHZL.u 0\QEFԒ oA-n[I}5t-.X 'F u3=H?-M0*}Pf_c'}e<{{+' NOD'h/Q Q}5.?4JW ϜIc`4,~E鸹c]5i> GujAǢ̗5eՌZD}_ 1ډD}cHYW,k߀Et}"aLxcH7 y ſ+* (-1 [w@piSFh!71hG(Y@-?(k^:ߺ q"1$w_a hL *Khe^GWuś O@ RФo@{*҃y;pRN0WW?tap( ijx_xQ3OȂ[A@<\`ɢR~ '`R/)p*X<LJWx!}toʽXRtDK}O?3ݳ@d_Cܩ@߭F/& ^dF/[hGO/7bc& ִO= dݽݞۗpky q@O #irfQ ZX>Awh. m\b\ s1 @7a k qFݱ _$*Z1l+w'ǠQv_F5 H:dcёߠ cŹ: sxf>*nçU .ܸPoJ02)dWO#P}u/Κi>baiAܗX({SeJIƟ^@(*ª~ #A䥕y!:0}2qX/*5Zj"L;]3p Y.m|Y09 kD[ qGǏz{;m69ۂE0p A!a*Dd۟E-|Y*hd}FWE㒆ܯ>k῵"︤ k@XD7gE_WE_WxBB/2N?."xE8k"xq[j_}:>E[/)4 W&~hg<?(| =؀8@ Fh}QL;_0 , `|L2FQX(߆}O-#)Äa>.>x0)]N;hO >c1xG?:>ac_ Hc mǻC"AB aL:MK  AჀpz \AV@af`@$7;w"k4EhQ>spI*Q ŋxmYm\a"Ks\B;[`8`S *},kuP Q($7C4u>OAs:*rH68z vYefuMRr(Z:EII*"l'$-hɿ빘'w,$HIwEDwrQX8dgojF3o8o(,p7ό忣fhm_ŲUiRåvUqv\WiUqv\Wiiǟ[>[?x/?κsT_涗wyNcQhżZrw>/m;);GjG@*mb(ew`W;nG'Uǫ|_\H[*yn]` PE|ݫ">[骊b]\)J]K.ɗkEZQVVTN//'UR-vT^mugvY=+*t~Wp=c-$ (8?*?:8uP@>ro&$/U$=#@؛#@)}ӭtEŒ ~XlFHǂ5d9m_8rל~;$/VcA{ł FjW?uSHFSWU4Ei4Ū܁p ;`ꉽw-Fj͑\y.8=?}Ҕh!&%*/Nǔ,c0O.V"+]ί$REI[`1TUnT];qckAkGU]vW%Tf3W:q*^>t(wIµL5~lKώI(qx{&??N~:==M~nYiR6]H6r"zq~>L" K[|-Nv3ۉ=7EG0r@474rdrm&8㓕||Ďȵb 67K/N A)tX®~&[af.6v QFBKpdfq7eUW%̿dw}5/A E=&ڵ?ŸjGA,1` Tobv~jzݻZݮoOhsS?j WuףI,xEh)]q?_ DZ{d#|1`c[ܙq(|0+f&|ĊnՕ#U!wF,3+n*:*?_ {L(r%Ԉ/MukLOZiUIW2IWtm9ȁkpEaZ{6Mk)CD(d򇃞bWL ڹ8L+"ˋ616aCG*w>+1ҙ=^\+uo^?D'j։_Iď5&6֚A}%:\S~)Z|Z;T=}a,3hXMXŝZa|>Cuw$Ɓ%~Xu":&@ k6m"v&#^$`ٮWZL|ILx8&<o?E]Zi~VRS/c6pZ.{nhwƷtÐܾx>pY5ܯd#1gmdL[ rօq)ݞ>+立 a~?u..Ƹ6&EWoh?]b!l(~bNrS78IMw 1t{iȉ)߀iΌy=~Gl' ΜpX?Yc/>^R(FR28mn؀Sfbd2L kؼy  FXDM 4`8s}q+|[@6،iأ1-3u6cf,XcZ&Fm=c7%ЇC?Fs^}t\^s`D$2 :qZ+Qrm6ai2 k3:2&/;$Z^=XekE"֖f-23S-k\>-AI V3i;clGNGq"۩튿\Cj{ˡq|'4Nv'IM̮Sy|Z#tϥ^ p%xm7\aqRz#`HZiiio|/s8Y+ϫ|{ ߮v+nm;ZGS'}irsc92ss5sRl.dW d5TETe*K2,wstֿj$E+h*h*~.?5 D] ~ݧ7ޕpYA REUyUt^L۝*^/ 8>*k?@kQ2M 'i~LA1oE[f5Ɖ,].5gP(٢LY'2$-5uOp$ 0Հۘ ^r'J8|QI_@i&4K;/Θ5;.a-YsRIjMpyEnS|y65*>Z>y=sw-_:oŀVU@PETU@PET9WS"*G "׎4U1U @PJ#釼#ş rVdR83ZY,kWD'.RheDK[f&64 dgAM֑6g\ܰ-Vl5"f D_ t^Aqkw|q9ltlޗE6VVD[ll锁k^Z%h[nn>҉oUrJ\'t|ذxJYg((OyUfKXQNb|p׽A+x`H\'h7V6+h>> [Fke'[yf+6 ۆy*+ȁM"Gu5UMV75\A6)_pnUăx!MCi>Ze4)۲`7zw!nnJQpHꗀoh0?ӗ'/5RZ-mm}Oj_0?VRgYwGvQo_|5fOYk45>X_~U_@ޟ,{'L6n,vfrAdvK;Sf~N,LPe)nUԥ.~9+IL-w ݜ.)>mJt$ɽGDYwnȳH(ΤZzk~ΜF%Y|ZfQKuZ]oQk7j\'?tRF|OkUjӪqfуq'SGo+Xvh8_0? \n'T;H1ǹïb(>Slj# _4]*AB"L@]֊|6)@w\;]]˛p-և. ^f)3&ϔ"5O, EE)[V膛ENz;ka Cu@6":Mqm̠bq;q%2YM ub{_$jQm9FX)Gjhßڲ9xS6f_o)\> NK{F$,^Æ\ m8Y# OKpdf5eMg3+> ΅~.x%>Ծ>E%u wQ5ἮiT; ~_zKrRQkr&fVk'G1T!`6Ⴚ_YTJHĦ*,,5+ VȎϲD~㇆`ONrS( ţ韟['?"[l<!3,)猋c L^t-k% ;WUGQ%~TUGQ%~|Kb$8@p=QUnWSNJd!BUЗDUATy?/ª:>T_I]7~?F5VyO}̲,`0O֔w0fI֠FšeunĨG]rr-/˶T~]"JkKɳ S0f?OquHQSLd0ͣvkO:o.3vx(b/"(q\1#q]3pB6os*e܄n:`ɚSDP#\!͓q~k'|6y,`NE8"XSkqxC%Hr L֯/V]TbA.4teVScϽq?H dmqdm55>?Mԗ!e]:Gd)oCi<~ Op*EREZ(x9VFk-)>jۈw2 NI/&##~q]f4˛&qQm&Y(5'mݺw\Q,]E*3*ꌊ:Ψ3*ꌊ:Ψ3zꌿVx3[- f:2xnW^ pwrrRn㴉7֏Xw?{\w>j7fC*>i/?Z5>/V.wnQ*wn,&w+>,BLYAVXAU!ntz'I_?IUh*h߻q ~~wESQ|˔>U/8/*uKX~gU{Ns 7ޘYrB|6(|J~o*ԍߘ?"*"*"V#r\OPETUWG "׎T1U @PLſCſ_2|9e^=Tt՞?1nO::'ë|#W,om,nSwJnY oh:q~S?ٍ[̾eAZp`g/WfL\ސ_?̏w7+pF='\{.`zỌkr1JoTrq3$iB4^rZ8q͗_+&S˿{zqen31<4߿1Xډpo~_+>I9˾Nw(.( ]~j[.O |)?O+ě* -![be8*n>wAQ }߸p$^UG7+sU4Y f6EdE:xf Ze7ۗgk 8~/Otwř^~-|LV'99׮QKi sqOr!x b|{꺬ni~Y6$4uie-֚.Hlˢiz` [aa$H@ 7Z̏36d\J[8AZN5Lf:߅xNc)s$]*i9Ml7Zk"$=BiKMO%7,i^[3_b-o?͞u LGf^S9ԜV]O1.‚M#"HNU.)a{dI33-3xljT/ E Y\X$jq9،Ǐ͏.3G ɷo>.xfR]egb/j‹^=y2%kc7{{v yb U(ycŐ1񃊠0PP+Bڟx~ɽreac[r8]]<ݒmM(ѣ  튛#p2x6 ܮL,ޮnUv,þT-6h?jN~fnKa)ONVy#OvM $+zŁG/ҼV}\nYp˻Sf4Fq߰oP$nR]£9Q!.{tT?#uH?߸Kkwf*o,3N@X\*#d_pZjYZeVٟUgdS?OgTg.I\ fQo4~.7~kd( #R%~nM̿Я2syo>lg-?|/?ŗʣ{g#T٣;O; Re[w_^lnS'`ZC(+ ##6C1qS.RI\1v=^\]vG#>HݍjD`$ B͠p~Čq!kON@!U}a,ϛgh15ƄO=?SB.3X[#9Hai|p&8׏i -Y&s`R]Đo&bXiµ9;[vlW|Ƒ OZ?Ÿj}iӛL>CUȉMbO;H:UK=*o>ݏ> Y~qzzZ{N-F݅8ԟ ht648E,0$<#oO;9MlMZg'i~w-|[ ?m9$`OƔy wn6V-#/oBIJ#$wu!֧>okƉ2&ڎ[aJ1ݺ#~zՐ1s>xLncg^xere%Կo+<';D'o.EQ,BMok/K6'Jϧ0M&ȜQ ,͏ u%e{c+>Cb?Ukk뛆jD~ -Ɲo^ٴ~IUf^.]"h^h^d]䷈ %k,hӞ)^(C73'|bFrpPFln4Ճ\F&%^>\w{-$_}?ONlj&}O&' g4d0{Zk(6"&>4kB6#Ok>p1·֫`o Sv[uϖ'.)S#!dA4q'Vߨ?:k 1)ROR๾ JX"ˡqLdh0-ˢ=sn{ø 0 ֻ6a~@5w`5 [E{|ۭ㣣U>XoײV)3JZ[%VUo[%VRe !δXO-t DE[uT~OJūdqU\WUj (" yדF}/iLiw\mtob,=`0OV70&[#avܠNL 9}Z*Y$̮)KaRequH_}`l[iT߯Q vrk"^rh2?q\1#˾] ԟBa-π6n:ğUp%(OJr'f+Z"_.F]-IV\)lB(W-.L-kgas#py9G\ݢφI#X{z0^fտԾ3,X9Xi;%ɞk&2*ilS6RʱE%s׉-wC-u(R9\vj2 xoM~?ЄhҨW`JmvV1k6()pUiݪ2Xd)).pZ1k5IxN%Sḅ&#+~gvo4_6icŮLA?>n4+U>QCv]DW1ULt]DW1ULt]DW1aVt?QG+75N[;j﷚>Loo4ZQl6R[E˹E\Wh _KܹVܹܹ֚R:DիUY4 {5oI[OiV5>SW+Y@U4P TEU@U4P 7EUqlɕd= v~ݧ7#vȳ2UTQT>nJfTq|A0iQ|uݫH~\PijɍyLG*aYI+BҊT4+>2N{itA`1NW c΋ƙ\ 5LNIC0oߘ?"*"*"r9gWS"*+#T_a eb*鿋#-#_ ş'2r\üh** 4nJ?Gcsҩg(alh5 u>XGXQә_~T_NZHDQǀUGQ~T_vGlVz?>r.o&#(zCsG 9cHF%35sȏU}wF=U}:ۛi#9,p[ =1nG]{:荚0*d4db!h %bqRaL֝>zƿ٘9>C@ņӆtG!>լ%3;gHmdTI?gdasmyφ/iLi4:OF'UYiIgr0\(NkAˁMuZEC%گ+mD˰/mI$[;Ϝ~2p-׆5ϧw<".~ BYqޭ$Z6O{kq:_MKeE!'y>*B9H WN'%ڭz3K?HsOkE?!:grVs-ƱzWtOAԩ?QX8dgojF3o8o(7\ z㓂>9| oWQ+l#*jZV*jZA#wi+KỊF(B+Mv"K_Q$hHWCno{Gn+5>fC]yq,'\7-8K{|m7:jGH*⮉kt9G ߗg)97Ɨʜd<Rl.ĒqgPYuoI~[_SV>S]^h*h*SOV>7HSB)pc~^/S= {0b3n*ֻ1ůvb?b%X/K+\$k*J%oPQ]PQ1T&Cj}?L&mR^cS;iV߯Y hPETU@PETU@l=U@PET_c6$"^;obo8`-9~F6yFx+yP:T XR Mߖ ^<9iT߯l,{nXJk"> NX[W%Wx_I}NӢ>H*Ax@:2xR)_Ƌkcg;#\}Ej~_w.n(^B bdy:>mYbƕ=3ٶ(^_]3ˊQ*i<./f~6ޜQ\v]7,\e!ks N@돱 75+໥}#ފ#TVz/ hRxH%VhS< K~"T8 ~aY_)^q( );law4Հ7ݫxmK`LlRA-f.?bHG< ?Nrt<)bIۗMvxdVF1Oe0Pwslbv[.x@CzI ϑQ?8 ~R?$N4QHO|OHLҀg d{T> c sfm5߹ϔ`}swMԎgmݲX{D()2C`8<?!Z2eF; 3]P|[dwE)XBf|<|wѻ{& i?L-I5d/w^D2n8xb uߑ[O/vw\a%%+yIoǽ+?peFGQr(aby>5;WA>O >MT Ƀ1gZOaomޟ?e4i_^nNٖ>ߋ烏^xz]"^!Ý(OxB6/,W8.xb͠ v{PkH %UgH.x's=(XN>د^WO18lg/ߙ=vo57_s4ی|}x\_4 s/0z=x#*E MAŰo9ёo' yC 1 &V .xI|뇢"<`~vF] y܋jV ݟ0B#!Ee2g8o6[ͣF07A:[KaO MFC" xd<(tL"\*tk::9V<^O/^PCw=gOheZU?:\N%^P_Z !a0)KA`Hùaxxw믰DZ!9x>Px~7&HN 8t5ڐer,C.{!Vo~'MȄZ._= 70qp`q<_/@Ɩu4Yěs=mwO1Gt'#.T.yB,k>jAbO"=ks}q< mϊ/_dxxuoW))m|3~渆~a2!GJ}mLx(Ƈ$xPCx!_{|OT̗ZL<фPG;3A!'u ^ȄxﻣfH'd Pl?գm?UƜZ:p [#ۖzy0R }n`?1زY'3> tAC՟G\8*ijs<M[~U 9&k4ld6 2ex3mBH_x\>Z <d1e}d>H>덺7?k>1$ 0ĊJQhN19(Σ /e泿=1㺙RHW89ӝxcY=TU`I Aw LGr<|890,.r6wkdP~-gE[쎗v+>wx:INRGKkf%/VWM3h !\CK˻z9$):_:8^-msxy h! M#!fY8oiyد91op/+q5qź<4Ϡ񌇲 ě2E dOf.pnxÉb/).NEs{ /x~HlZ"f&LE|s]=nex}.4^oN \낿7<ґ_UD1g 7 -D]5z!:=NA%azg?NE`8sx4$8_ eE0.nýG)3Q? w*:E>a)ưxBA>TOY  B60&&5}Kha8gȌ<5G:?.E4s`%;/zH^fG<(LqQh =JrTo#.m*t+»1pOxH>ExE%gzq`=7\F{=6MQV/oH|lľtdH?y‹[rIШ+Rz9TKgÏ|{np)(/tO4zo0*J Z}OkX^][Gy٩*o-'99iB+:ꕟ$̽Dz=)Ofn!K({dc 2O W}EZcVZ i? {4m)--/|<% gzzO,b<sdgӤ~L /cv&5݊ ~KjJY:׻lm|AwO0B!<|SͭkƃUW:^geD #+dh9I N{V9TZZrwk=]x+x?6qDH@>@_^~Yϧ8>iKn6D?5_l⍴#!>E1gרw~x7ga|"+$ >קM7 }7&bS]a`M@)0ÕM Myt7T>u古/ sB 1JseFPq/SȻ/NCAP͗ƿăsx7?_Qf|vuZxn}5:y4=k[ET?8ʴzR>k=%"EC>XsKSa]o@>b?qyzT v_1ZmL1Rzhs Rܧ wkנO꽌-`~/ջ!(OLVn㝅$7'npO}Mxu"ݿ x=jqR@$-+AҥJgRؿM-⸳=o}Jx>G} D7+~}?nXr1#w]cH߂6OYMbЫ^ @3Dۻ5 $_#k35A$D| Kdb{h/<WB~k,>M7emUb/f-NVHO"~7y 1PoalOq3p< >ug%^8uUOo?{G^Q>cl!wRi<=LhfQ%&bx K1^}m|< ·^]=@^ l6P0ȌLS6_iVe<<||@1qEV`/ ( V`RNd "z~1Ǜjzg}€?8cR·Ԋ cWѿW`1 5jGj' Rx=jYdė>^e'Έ/4$|<-QOK: ~"u0dxAg ?@x!\ iQ ,4B;dzlDBLT? Qx7RBG>/0RDS&-x~$})< B)Ⱦ?`<C&,vT .]/z43@otuh0XYAx.}@wEdMxynM`~N5!`G? mYm0^RW}m> !0:ZP=Zc6tk偸/8..}:cȔw`E6ae.Ϙ0O^^*2I!%MsjȾ!J(Gxg)]?'=B yT/xcHCYK%sx>=gaE/ƜɋxH^3Q_lxedL0nT;%X(9x9wU|^]5?-'ƓD({oLlos< `<|A>/AO>%?'kןȠF/*YJUq )ЏʖoOQ*#xP<[Xw!3t':]i ]R1a>ϸs$xhj-$r;lq񿗬|(|-Տq!rt{sLP1*b5sCM$sz`yamx pg5,)CM~kŞ CDdy: t^_4XSU>G~˵Je,4<t>aqm*Ëtov]q<}uߊ+luHQ]l!GmRBeJG3?Mڒ(:;w-sl5M/Ⓘ[,DC%xHFRkv Gz}> BtfmJ!^2 [T2?Ea+lk2+Ql 2$^KO|2&_Cm= w >%~GNv=M$@~c+^O.VE|DkԲx?M)5ă~ѥ~Ux: >><^uB|1.>UpU{n>&XVr'ҳ_w|]t#wpt_n5̕ӑ|,閍IԣΆ*D;nLgtAȾ?`?gSgw-]'XOY/m85Bd} oZÞ+?' r.dϿzAFƙ ^f]@ Nj| +Xo ?n?8^''~qX?xBq򒨁j'Hǻx%CXbKûXSڞ!P~ǐF]agA 7D0=f/. љZ< f8IruC xL(ulA ^J^>s焯V?@Y)*$EA|0cOuG_Y=_ "-@o/KMвyHKoS v()ς+=pwoo*Oy-KCD66{~ C| A| >s.*esr>$?_i_!1yv<ՏOAvfB> l7TOo;n4= 7j}qo8 fdF?2XT{ԕ󣸏]_^2~VQ} ! m+>} ķz6HZ5<܈ ztFO*.{邤mƒ}jRGlU녌l.إ@!ߍ&H > < YIAT>L=D9ޓO6CBYgVTտ %^=iy_͙#As}>j؜CxdN1~·u#4yTs9Z/ 걿@ sJ{tS!~$Ah:1&g7ooas = h:1狱>xPSbAdoAݗߞ{&Po. ESnR.C-_L}E/$x\w|gl 1}M|&?&h8ϦXmw?t iFhFK]nIVTZ&/tbw w=I' @>.:ꁵ!< Ƶvx+??93  "aχB]|"7 )nz3^y7ؐD?ÅDK?`?;guzh0%5h? xs=x@}~x}Wv9ߋG9RS"xWTbRQgbx\0lЏ|# }P}GxwOK] mTؿ; x}ǭ8;u@4 $F剢v06(RGKs?I[}_|| VaO֣6>ܵQ@Zfew<3;A*kC-/BG!5€zď55+S"{ %Q~ŹvO=K*/ <]g '8ר?;;.EXWB>^_f.K|#`fOG->kdxW]wa2ⵡ澋,%o1fo:=c8t{ >Tx5빾zR DܿM|?Q?aYdmb `~Nԡ]X/6C=Gx *gx D,p",?p:mk?Hx_^iwj@fTqKaթX VWP}iρ'|999\?L|@n U.Ϸ-a(2"!} 1R_EadLl n?t)-=?w>6n8Qߗ8:y/Fp $qN2O1y|׮Q-Y8߅T:ol]YV}=W(&RMI(*l5KAU, ]P{:8:XBSԧ$T[zh:1 ʑ,? ?kK,Z lΨ}Ŗ_ÑAyJ;WiKFQPQ{F|Q لY/EAOy0^siluL/7`NUtuQYx@|b˻ka',^h|z{i!nTz~֋®w0RN~ )s5$+:B?%ނY7s'FIcgŔhQ8#VA/o$补ЏBO[2<m|%# (*}>`7JǻGWG<|/|~'3k5vO|drqTFG7"hoǾD#Nįq g }&UTõm]+/U@Y{kq=f㤹a/rxuxG ːw $xހ/=jY/+? g_%,6ewMTGfQx "k]w#h~3(5Rd{@='xY']dE@lx'+Ԙ)h?B5\_@\v)p<&2g{RwM#CG=0@>B1Y4Ƅ,D70_`xmh`Dh{/}Y$ׂ>)ZqA- x"HH2Rೢ\`.>@,!^o:3˴3G2V4/]۵٘(3iO 8<^' O]oۉ&x6u3DACaȯ:q1~o*GF01sNП/1Ǔr4b= poS7h[" Q ;-#CcJ8h:r@tr<|Bp\ƨ,^9=l)"HK^\7)Jp8%LG{&3, 1; )|·]M @ d?6)c$ ct0ԿNC_lu es)\`VJ>6[q>7GC83]fcnxf761z T`?#@Oz"H1'!loLGDX:8&f1[o& , p> F6?do ]4Í ^ <|uJ%6 ?g 5SZ:^_ldmweqfFUy}s=>k3(_oђ_Fۭ"_Om (.$梖]@|wzc`0Y'vr<1%Z;{ӻxHE>)q@=M^l3{ ^ o 4z(Gt_9))- f"fv5JKߵ) 9{5+SϢQno= - ?D__xt.x={zD~\q?;#:PpiS^~WO{Zuޝ!t~?5$ʫIw`=`K`Rra-7_g5t XCoܫZ违>E' ]WS=aT6}OpL13xc;uܔaJxşuP]|G2)>M^^#7HwV; ?.B}:v~1cRL#_ /IP ǛQqA)W]iWX/"LY0\t* ᡫy+YXE0xF}Oi?VG9g%ӕ/,2f8._wNr~Bw qH5x᳭ҀC-sz9y<Ȋ#x#1o# ^H0}wy;\]~qN.hwF R%S`xLwג8^ y*b-xC_ 5`ʟCm/̵  3dA75Oh~!SZ˅?ȿ"|7R2_haÐȢxQP|\f(Uc&(ZPv<{b \?fr]9jˇgX wk:}d'Y_%D_cK/_Omou‹t"<@]||O"}E>fj b8ƛϤx|dzY)֏\'$O4pQGtu>X(ډnI>/لarĥ-1d$^ o@CLIyglBփOPKTd3{<v ~sTuXJ=T: XAF{hulcS&F/㉓\_o|Oc~W _Nb] 2Jj:b!wK'&·s E}eL-jm|oܥ~)gݍ'`lk^ǻT#.Id|}#3~_ <|Bz·(0H2-w6SBLYw#8%EՉYy-Ȉiyp>h׆/KbT}7x9:h˯8?W <ib??nf$xZ R~6CJ.;!tBgD?) Ɗ'QS .{+ٞ)Ʒ ^QEK|hxbS~<^A^ꏻOw3z#x[hOO+=~F)z.xR͂Nzy\A?@~6s3fdgx6/XzA1r Ts< C ebr|Jp+Pد9^"Al;s-k}1(/ _%ޘ͜M;McN-C ;@_xKųeCxyo}$xn>;Fpm"j߈هݖŧR_*Oz{kTٯᰯӊa8w 6 벒_`yb!f!1^u2_9D~O@w&K+]\xw•um(~PBq6`txjCFфdxE{2sݓ+9X|HHiGџ3:ֿ=S*/x6Jox:CŵQڮY/Z/kS_1x\[Ǜx\:{$[J]]>U|uO̤|4cㅡsw(&L]QE|*=mW+Mmek ^ +_Γ2,p>dx} <lxWN Ɏg7$5K*{6 x ,Ż%ϗ⍈3CLPea,D /Dq˂KxGmYl)b12Zھt4EfCS|wL?me ngծ~ %TX[đ{/>nknjhS!xOG<X.;|hM9>ETx' 9EFE{޿ *%*ޘpcLL(.xGz?O ~""ZQCg3FV_c:W~_6#{^D>㧺Sju;/)Ӓ !q ghaPOKP:R8v)S=K7&x} [:ߢXUmp| -_OjO=,loK)||B[ZP M=Xz&}+YH2<$Yz^ (ǍxbDn8QG o>:E.`WTb^!~(Jc"?{-aRw% &+wϨċ?bӕ ֳO B?}14vK +rvydy / ۯkB2f@>l(ޔWHo,Mۈo;oz!)oo·_YWDc%o7x&Fxz<Om\RrռUԯopzAyI^\oxyNݡy4F&[ b]wyqe 9g$wϢfMQT7!n4W /%x8?com$/%xR0CEUxB", U!C U!C@p73'rx5jx d<[ (;gqGHzxZxrG$%=/1+1nDՍ'@RǺ#/P ۳.t3 1/oS1;#zg>3;VzrĹ76)'x/7w'Leb~;m}SC8k C?!m_\'$ȂJa|Hj\t 9gDAiRGotd2@cܙZT6Q֢?RT~Qb 9n ߖ eMPAsߍfs/ I ; c>1WݿȚP?E>S:?X1 Sawa{ 뾶xh _{<εVW> |נAMiQFDSA^G}$Nͻk|9%;?HT;%Xi/w+g Z-֖_,Qŵs5Bkx"o{8DG0^4sI/^0jW]`]w]w-%@?b|sdc{~?|p8f"X{B 4K; ϺGKuçK#wy?V߁xL޿'fp5gE{Z+^ޏ{V={.~Ι mz?5?|x.6]r=a<|g >9’1w ioG׋gΆ;M/M"tA>Zx|zfEf#83/4 DRx \87wkk4FϷsxƧLi@u@>Bܿ外)YxA msue| ጂ yRGEQb{ 0wYi7ƃ7E_^'J0޽ObG^ɗ(X;Bw>"um>veAAC~ 8\`xl;͎x~Zp!GtدYlH]ż:E>wwxE{1S[}&T/㵐B{353yW8t:C@Pf;O@K6{W:og9oB&zϲ"9sԸ)rψGb/0o,u/W޿:ŊQ>q̲f>5K#s ,]5x{'݄؊{j&^xx=[ miƪگy5_& JK> IvI!)Owulȃwl "#Bkz|,^}G/3⍑;֫_R{ N{ş* %"CP9ڡb|vwQ씣?;+p.mY>-=}%2)S?_bHܹ!zokK([Vп-U M'Ű0_8# է/??P҃<|Q@߸(4zVоb'TĿ lNJx&mj'@=ş14$w]j\dSeMs Ng3hvzעi?~gK?@x>X<^xSK {vGxb>[D?N3-(/#=0#hB Q/YO sOAV@8Ka< "CNn3<$QQ{-*/=B|VY?,U?|xaxܵ9b)w 5δϜX. păzgz A,%׆kJ|-X//[>pEٚ|. >ˢ@"(k:ޣ#nZNނZ8EZ.ȃ dix>X4z6# Nd=JL?330Ԋ;T[#0Ě&4w>׸H2MQ/] @C:!|kF'58>zzFoc)5^ W/l>P_8]:y(xq xvPyr*ֻ=vG=G}Fg ?g|kw7r!PYn6m|MQU;5L,-׆o-5D+ʻr<ꠊw}Xԧv9o {̡?r'?^rO\::|Zౖ`\ lgOO>tY'ciO/ `w4_^R!/x:=hO^rx!#K p,H+xsmz z}(O_.'" `gX(,^y%8-j *_+_ ?K_dWo$xhu˻~ Ez"{DY@ؓc3QRRKDƚr/ܠy4AJ;_B 3t@O74_E갇{|ڬ;%xkb%3H3l_:޴hOKg {/(%k)3x>5&[: mq|vvgxIbDA%q1: SpP=YP^-ۘ1d,`4޲x?kkz( ہ~T^A<à~ ȟÁ: ڦ&7k'dWw%CoUW!>c[vCop/ѥNex%5Z~ΈI==|3z8L)Pcuj[Pe82qY<Y<ߩdVlH) zC. _x/lJ#i0OPb-~ gm|]~6%ߌ-M8_B2 ~I1G*9u7Di3>.NW}{+}}}IÄ:Ƽm*/ˀP!O1_1ѿ^kQqq<]|@wwxz"^hxM*x;oFKHW!x6,hx>)x_bG3D:Uxw1D7 >h~ {tCJ!Q@=P6O0J]n/su+׃bFt:E#.2!HACɯ?x=Hy GҐ~H::H>kkk[W|I} ҜMv)`[eS? x YYSaK,AݍKVp3)6RRӉqiכk&?laMxݽU*k̮9Ӗ9R/$}Ce\[6Ҷl\`"cKxcZË3Ox/xWKK?'yzpߟm_[Ma?a{þi:"s@ߟxm |x 'iRfww~roOg~=Š'0~ߟo*Nx<0G>?4m|au7\]w. {ue_cN AARJπL+x_>ɊC<ȡx@`BطDž?7 $WsxG'Ox c־JE~/n ==w>'^˜߶m.LWGIgy6Asϛ/Q* kO<-m?ja틥 ;bOopLz[ތL{}l:/Taag䅸_2?=] AEwM7wgdS}P>KrwI_5~`_-=O-E4_d OBM~<}=W(],z{5@=}GKnKW]b@/Y [UQ1*pOM(ྞ,߂B\|S=0r迃vXwګlŸh~ &=vR hV\IQ˴5Ϟ?|Sy=BPYB qOλ r<@}CSx÷x 4@{$h1~%"\RD}ʮjC&>dnxGϸ+8M+j9S<=ؑC :lBbOS˩ACކC^x9z< Z3lX Qo$ޟ |»cx?oroA^ϣh'*^liКkD5W>^@$oyx~@U4kUkcT6b &Bm26/]d;]1dq&EU*<_[Qs-~-S%W7w 7=; {݆:lӧ\F]\}{M_;3db ~O!tE2_ʹҡ]!1RR[u|++lŊ7qqޙOT<^1RD2!M;9ݔ@ޟ;.!ݟ RЛcH9 txhy ]߱#'?5!!@?dd*+dA|9^M'S; ug?-^3OΟyEM=ޣ-^z7PWdXϯq!ŻyojV g/%@>DDAz,sB{UzTj=\*=(Vч`|b)Rzc;^;a^$ԏ5rbO>s"9h>n<9Qj?O~[*˝|q_oP|'uͷpxdJ_[cJؘyTEzf7f}i|hO'Kݼ$[h&Z~_*Q{GV7K/? =~~v&m9h(l•zYJH˜(wܟx ޫg4?>+x Uvxg4{ o3(?h&M28/1 >{Mq7LYԕ.q Br}ūM .s}}s)EcyoM2\]iҒm0*eXOW7AC n qr?|e>KS@\p#@K,<7]_þ!gX|P}sUi!a_T ۲~53?; x^1݈ pZԧO}#N6@=o۟oG]+<@|śan#^tJ/)Н/62nxlܨqx7Sqj>?﹃׾h F}נłxPhKf?ڟMk.}OdR/|&gPW`>oh_FƈL"_ y!Yk8Xk\/]J/o+m~=]-/X{𾩱;b/-@}M Onϼr~o138L0~о7}_Oux\q A_{ ,~ =~'8F-o6E*MRtϿMadU g11qc]y 2c/s,>B nG!ic]P|!~AS47E^4UNkGP6^Y?L``khCTtSsŷec-_|Wf>;-ذ{H%vup'*%0d:O&B7WRԠC{6b?=-ZPN xo Q(ӯ Z<- RP<=xN7TOVW)B `޲mHw%o6.u~3.OOwӬD{gXw߾Gt/x$g>JdF/hW_f+tw fgA@~_q>y `4]rd!4賂na_fIZ|cgl̨ EYm@ºL ?Z߲:G,k~3Cn=@Lty6A]^/مxD7IJ v]OB~3g=`M? /*Q^?ד%VsӫY3t)Zۥd>g[T?~]0^/q+q:qO[<6xhxozV1[ϯ|@hP> 'ҙJ%2g_k;晞R+iP=3S-Zqw\$ls!E"oRw~#UbGξ2Ӹo!mM-hzjD7{gJ2 8f3Wh%bxa8`gl|)`=u^p8^v^XE;qV..bVxɿ{k1vZ<7YyR'oWW_/iuCtQ!~r2e,˚ o.3| ^$*er' YnP@?gfrA*Lq#ϨJT!xއІã~Z!5eܸa,_[<9$gU=r̿OWj"kX~0cƫ>">PxKq+1 oc?y w/zӘ3vxߟcqϤ(E >f7RQ(2{nW(Z߄M]2]>Rș}^WF a|vZ<,A#$=O-^O$wC Go%BexK-r#wy^c-㐄vRh~@iTsO9Y'K yUnV]x}hY<0>_a{g1=~px.Ezj)2YגG\,U)QB9>`0A v}|Ӥx_w[_1MX.~ 3yͷ_oÍb8cfD:q*M=Q5u?.?{/c=MQ.(sb(B:v8fWo\ 5O?,3>> ^yOv zkm/d_˝~dqT̢?߇R2X9J?-u%z $z%>*o$y˕krg[|" c Otkb P˘ۡ=^q: [#>}(~Et4XDx^=:1_*(w;:C,(A6i)|o>!³˪' 5ލnSoa_+xqܾ ?o{y7d=wɭxndx0x.^t>ٯ~ȏ,u;p%-wlA_J&Z_#L@:aDRox~kBuR3`RxH&)~uNōciRGA)|.辖9~0Rd5Nj.GS7?r-ox}S(x>9ؗ/ϷnD I:旆~ijagk8F%W(J5z 3r2$_C}G00x~~ G^OϷndd6/W<;ouxˁݟ^GydX!onT&]oZm&zx_g>>gnN~⥢JGXxWnJ~tnA;qx9:%NR;;}w7rrlŻA'(N>u7]R䂨_3N[W/ MKBiw'ed4MŒ9'}-fy']*l_˻&F^!yR^5}T.TIgC][>~'RP>o7%6x4G_>糀iÃrzˑHY1 o'{j &yOR1JqK†.1O߭/}LF9^?4ͮIl;Ib.qrg3$'_ <ן tP2wC_ɴw ѿws{ % P_w16<|V5ϝ~~^E!w4rX߃R[16;$>+r"yCQB<&_3 rG1b`3" B`nmxo0JOcqk@񮑉}afCTM'@[ׁ&=?1%~vQKD1ʘ/#ҟ:3YU {c޵:k UPFebDz4$b=|{SyR-C> cY=^ 7EaR)[O_ L5w/X玗 }a,SX}hxGx+3Ϡ7Pr|5y 70QޞG') |N:op?φMkwgxO?|rt7NSߧ/S%8/Įou~BtQt7N p<| G_Z^%GΡȌs=޵e64/tk~shL<wBxw<~VR׏"?kxۡxF(O ]KCsv3%w<~wO*;_?To~@%1?Ff?7ӈ@g[ w)t=_.n_ʄO/ Jxm&5mCߋwG54_|tnUÿ:*xP=/0ڿ맪P/DRZ׆>j\!d=Fta }k]<.׵ <-?-ٲ1Ol؃SDV,do*1xL"+7t:_/72x^@=lf:Tכ䗪AilLVԧ7 QDr%q}]| ϼ-ZxY9yIQ٘c`t^&#UonoO?̄g~js/nKGN}?MAya^#2 K?6 8ԋ7|w\緶)%< (3!oq])z?˭n%;9d2?|뤞}[u5njp-'_{zoJ.8Y>9@eoիo H O}a+_zϦ/P /P/CdWI}jǿ/߾_ܰoMojik&?\OJƢ}UG{XOHk.oH@}%$"Y3!Qg!*ȿ;g;^svJ2Gw$?O?:RxQj},OVk(1x_ѻOG7Q)~vCL- oYxNgb3yC߯j;Mf,Os:";hx?Ni]\QgA$܊ğq>OMx` eo\HOa>3BO9xC0zz~8oE&};eX Y\`ST=DÛK1ûȇ8\c5;^HŭtBgN5C?wK*1?~18:#SG7Ŏo Z^+rvyy/*۱_݆ ĮX(ЅA>='0^w?lsCgFKX_<@vNN4ʃ*e>R'S)\19_DUe'f+W*9`Ly<#.^9?-̓ C<n̓u& * __J] .z jPχ}ip .ˍSh/dGۇƮ”}h.n1Ww/V,mx@*J1C'^H[^Vmemnt=齡:a |?h4GBi˛YRcZ?#hdf 5 ^ySWܳ$hLpH>x"QL N+(;wy΋P<͵0?wG-/cl%2a~|=.Jt T #8Ǘ"GU'y/ŖGh{qaJ=zyw{VdzױJBIthƻwå?O~x慀w5?,J$N@ ^k!+3Hby|Ք ?}>ǤB73*q01[|r;tN3 {4v<{xqHq뷰H>3ǻ~֏_F͚ʃ+;҉/O,^7 ܏o L9x =b}i'i<8?PFߐ;ʃEV׵eh;ɐTb28Gp |t^ɼqݜw·g^3= /tPk`|!zX&$g 8EfsUe8E}כZޅIW* P@_gyLz)?%6 ~~O Nk@~r!N\%QL]]~rQc'"c۽#0rMV\r>x_V\WvOiry4dp;?^Tۋ"/i-*+G>}_ @/Uw>E Ý>~wKRDLp5[u_6ScCl qܧSs0 w=BQOߘ ;/^ʬ-z //x)4o J)4f vH3{Րs+6m(*e_CqS[/kϯІ%[5ZK^?d {|\&eOUǂ[*EކXuSsNOowuU_w5#Xb3ǻT8urM [Ȩ5<>:{XnxgyzL} ~{Ԓ/`y#g a즽=,j-xr)-]ח+B!@(o7qƔ/pzv} FۼOh}qY4षW[Ahr<++LpƏ1`L\_n~z2H(hdsq@N  _<:0w eО\c,GO39?o{rayδ~7[an> %wṯuM\ddmz#(5+}<0]˜CO s?+8z&C˛j}9}f}ȊTGRymBSt_y5 >Z~ԚyY~j}ɽ  EN?\mţ~~;i5rwA1KJ^z.P_Aǫ$<.pcm_L!LeO@~^)Sm|p5+}~bbx`3Wt$|YaT6LFtnx^D]_[LS5i]ul M~Ћ 2m~禞#73:2aD.4%!G&x0"ď?K>5<K)xp~+VNA`f eSA,cr1͏w΀C @Z @cCt{%׏xLkÕ/8xx%z?g<'}:v<+'x".dRkw]ϺBM-Lp;Xe 'o)և`L_z&g\Cg¼6[EE!x(@~7T9T, F༭6x(8[މE|Fj.'Axղ_TwǬujx?\A~ԹΑӤw~ޜWeΔA,wϯڢKA~%[Du\?^UB-,7 )tWpcLm?KME~@I<=Z'̣lMc~L*~<@?_a~|V%GށUMJ$~ X|-,~ L?RQj]χ"obӫ,z;Λk[I#r>gzHvjjW˿6^ݮD RZ$ |pKXEQ,y=O׼{jW:O?$yNjz1R?~E6RLzy^ s!`^'˴^JL S_[_1à U4U{ΤkD{c1_7 ^ y#jׇ>)OgyW^~G!wzt|ul~n<ȞVi"]EpgUƽ.ޅPGhfm/w]Δ`G]NfDm偝6 MFT3.i3F]M<1 } 9{'<-h^@{w}nU1[6by <ԜQE|w+Tͥ2ݑl]m}Lp> 9VרS-O؃cBh%U~{₫~G'{X aORf=]e7_Tcr/r1ZaZx8q㩀lӱ%pGzfχ_Xcbsz%‹Րw W+r~R =1p0@b}Z.y)X-|7| SZ1\|\Qogj']vF|O`>Xod'Lx?H$K}-'Hz^ žQLdlԂA:kK=w7HhyZ~*bRA?>ZKm1*>|S0~x! N/W|^T& -(6> |:u)2 ]>^ Ou 0*㉧G-Fʼn _SPH «w<+Vjjv&+l]rAxN.Hes̝DgQ:U+$~?n+~Ǘy|gaq~z _EV;qT"Wʕ̦-01ٟv0Lk牢hǗ3ן/I&}" 7/SU2U@pߏz7҂R,<>BҮNzt(\4;<.>ּB 3ϖ*'l:^kKSWHNy :XD<}uY['~MFOu,a|UitA?/ x3Q.Z{ԇ{,x1Tx2G=/p@gw-IE4;Tڕލ׌Z^5>`Wt#@g믞~ hř\*Uϥl _% t|A7 Dk~5qqrw_וIs." Ix_|w^c7ҳ^KG%N5ʛ)ΫCDU"ZPّ\t~̓,=^WkphUfTffEOzj).oUL3ϫPFdO / }7eR&=6X~\?kW"f@/B:;<; ?S}l>R ~`e"o&lΎyvgxy.Ҁ헛qg>z{jOm}W5_FF40 >{H!@/gGh8aӿ~S`wHWe~R.-,!xϚǤGSm[z5$y?U^}hCg@}^ܛkCle>o;|{sG <&V( aMD;rY~Tӏ˛$\Os PUgG vs,gJT[jd_COizvֺ-?fR󅿶$ޗw~j|g$y2*R? ~،L zni^Hp xP'AOss_d/Sfû ?ayQ, gTid=Ų踖w_xkhBѴ~+}7UHz|뗬3l =~}.b3R*g/=*b-!#:XߑG9?H(I+C;޸'q<=9[ɑLኙ-z.;EUOr ,!Qxoyk2;z)J?.9w^|w+k%.`EOLJC<{bë/?nx?n9ԼL?ac=]i^7DŽǷ J!3@>C.<^fAk4Q"Q!{n"ċ_xN# Ke\]g#k;}1 3Bo~0_t{Q@3<~oûv1iE]n%S0@>W ]IW]G/lpAzVq-M<5O>2r~dOlx dy;K+D6K$ Ć1Wej7*2 {WxXzI |^ ]"'x~Jn2~ ޷2/rSsyxP}㆗LPi!5J9[$<=^ <E>A %@xmH9`[ 'xUOrk׼x'g9& S yQ5-~t!ڭ TlMA6_ h|b&=㓣g T{˟7';"6طR!,2h~wԉJQ;EgLDDUBQy~ϢW}T_kd&ΎD4SwzC.JsI7]"35Gn /6Cb˷K(EC:".v3fo~?oy&u|~}-ٌ͟ ,Az?1;>dr2}??ayӒ#^FNR|hҙ=W3u~_S?ay)W;P?x4X~w5LD@WA#uC}?Wbd/#xD> ')r u|**:Ō cO~?[#/3Ƨ ɟO;gaPD'y| wx=) sV[sMÏ_ל{Dm|ƚ+U1 V|AX -/)ңE?XIt)ѿիYZd]ǭSx>#A~^^¸X^P'#-oB*3뽉Mx=bӣ>pW[ {%aғyX_9֋Y-Tg@<`'#I>ÏQw?B |Sk_ctlƒKg= Nggr.Ǣ'a+q7|8Ϟ]/Wռ`[' S1x-̉&Dlă?j_x "%Aw|:@="C睼xX*ô=#ڃ`g|ubd^]g뾅uf\ ]㳗_\g,v|~el`d 47Vyz<ߺChTt^BS7 pg~/ پu11 U"2nE2=ܞ0b t.]=5>|}]!߾ wAFd ^&qO l6NAWeK.>7Cӿ6㋐xO}“UVBox6oO^<<<`?L(xAt~.%*ϯotߴDžϓo?&]gA)}=!Ͽ'=h;} olx) /.T">d8 7fNꜺ`D;U%p|h,_x#gw p3kޛ؀qqwcz!\ސv|?T3xx@>``SKEKdăz,YRbOr Gjʥt wʧy8> _3'dAM,@\'qAz'`O杼0[<5AG;9#W>^r|=;3U?w/Fc?cMBO5a^{>d8b\t6umJ$^==]v;Eiۆ3팉w-D?πgyBnx?z~K8?ώϜJ|qٟP>*W$۟|1,|!>Rp'N[_^ߐP?mT&Ka'1F|WsKykP&jƃ+`"<竇ת,+ <77wYHApp8 O?T3W!1>~F' 2؀|gMF].މS}w(忄gH=KAQ̈́<轙Lƥ st/݄|Nֿ'Ѣ4/oc&!O>߸!:3tTIȏe24F2fGt~z"*/ޯ?{8>SyLBa!ٽ-@c{ekGT]ݗTdW[gD6K<-CxUMX쉸<WCD+z,67'x#H[A qXW[<{C]!q$5޽Z-En`Qs}Qx?'<BVEӶOWO!=,/1<ɟHt_xbɒٳXX.v" Oz =G C?9sx|wel?Jω6"]&DU)$l=(%׮c$f'Y41֜=y &c9He|,oMYy"68^ǔ瓰Pz+:X/~@#!gVxJx~0Is3uH8X߆iOO/ f֦r"S2x,ښbӝV~^B#גM|Ͽ٦2uKQrIޣ(/vRc]˟j!/aʫxz UA={ >@^c\1ec% ,%5x6є WaW<4Wl۷/V$M1~\K9(}KawS3? Ǿp +cr¹\ADEܹx<x]^RYb/oXl=-@u::;BA@` g0D郿9OoWZ/q*zsX]Z̔[ IAaxtP"ϖxث:(C\ޅ'PϷx 4 7}Lף3<& gO+]xoҵ03xʘ~ypŻx&S+~ xI,ċ+coG,L;ĕL1-x>Fa{^]n x:;3x̲YY.zYkg_' xBieY^dDx]kx=_%myge =j'OnG'D7U;ȣ:E?YS˦Ncyi_ O:ܾSD+oKE\;_]L~K'#jɇW?u $ |?Ndӕ+K: ptQD$y!x2>+"ޅ<_2}Ӫxr+^>I__~؜%je-nѲl$_fNkK:*gGk6!a _"o9^*I<O"x+qBܗxh1[.뛛x?#g;ƓcCsfé. g~f)4/寲1gH?af҄3Fm@W~Aփ'`oxώ1c/pi, ;E(C?k:ƻ""urO6xsd F2}:9rl_O qg JMGq}lf<%GU!zQ_ TL%39U+CuG9g5 'Z~ x6%C?cVКzy߾t< &8g=I/&;6lBJ4 q{CU:z.75^w|-ք7H'UO~C'<ۋl7U׏ x`Tk,8~ O̿a]-*zYigx>DB,铩Lq# ʁdIy΃O4g9^!`^?g߅qDDGT_y^lsnm3QPȰ\-И,.jFoBX 2UR ?R6Ԙ#-c 6nUÄ@ȶY͇%9qa0G_녬;'c`؊:t@Ɏ:3aVEυ:8^x Mb IĊ`AUyD!o:kvn'RßFQY\:>}x~ItaaPsYY;g3k5LdfS 2:G..z݇a3(ߙo^QkVT6u|4m݄r,.3nՌ?V7 7`_3%}^?dfa>!GXCOXSUռa~ -֞Ԛv8֠g>7!6 wתtVo1n옕;W9hԺ]u_J]]ڷvܖ&A+T>[:rANVkkUZ|\ [vmla9.'[hh8m£؂fXpX.\-o:eV Nq׋^\Kqux讗uwl׸i qkfE>Ű(F %)E#f]amk0g^jCۂAK>ԉ=cζRRfxp`cqIW6Q`ʞ-쇊sk4yl_5bGzGcKC6ךH6jbeŭR$I=zG(k: hB}h9d #F=-[vc%r{aCqrT̯z~1.n{7,kA{IFp1 !M_F''rZ||2ۺ]XCn4b.a2-8ƪn4Ch)L`Xrl煴GǙ^'Y@nIۡ*\/w%z&UvS}1 AM*! HZVCxszzjzuxͤ uFj$B\ ػdlg3 z^tnRA`q2&nRtf eЉerܩ{ZmN@[u \gpb̘%V}".a,;/|4kpg;S8mV;kMjNpeK5cꁘxo&TqOe8k)φGmvƹYBb!g̔ضY=uu\R[b"d]gnaJfzָn5 ;p* KbiQͪ[hrXYXI+; TY5U*Vwޥw; kbmg; vSFYL; [bkga;Ul,#Ucga'U--TTK{;OwS‡TagcTϝfp|sr^NHx5[ascbm9fNy#{5l S י6r[rڼ+yA)V/Z%jM˯~[Y|4u)nT[)7qx kɺ+6ZM*5','0R칍 bŦ6Wі=Fn-aWҹ?^Wޗ.eio>BS0!I9YN[PʪP@$(L,~'s7Hs";tOE K=^GǙG QA쨇8hQ*>HK#ox"><.cxޏ=y aS '&Rz.XF_ ='m7qE[i|)$A!'!0|qa ʛAM: xT`Iw3}O(]g^syH{o7C1 1$W?]'J>_ ;fݻ&..ct?|to!DƢ$8X;Ձ'`)]5-x]tF[\n[翰-k%_.z=pI/GȞ]I{fiՕ e(F4B? 1, }""=?dԗh^_?:!gh}$\͜9qsHOZ"}Ko@ <#<N~DuxO9ΈmIOI꣞f)A(t SϮ#͙@/l3YW@tiKoIZ(UFVL Zmܛ0$(w|vzׄšBdKAr(vq tykBsi4z]^"Mpo(ɟdP}z}K4fK8njzO.0%#kjs'z{B,I/ eّQ4U_2c7aSR p Pb8ɣЬF?ANhSHOCmKhR|#x2a~ a@}& *0z'9YoZLVS(a 8cD Y[}j:uZt ^FP0F7d;%I}2?)Ϫg@>`9󰴷X85s+ο7՗ߖP~-egl.)U&awGy6钍Stzv*UPO)6r8·(Ҵkq=8b4\5?spć[PHMbX\+d_&!I d fi>qij·06fi4^ VCZ"&^iwkolF`CApK1Ҁ G P\1 yf> !9[MA0ID -`rqxm izB.BJV,|绖-(nDE"\ I9U+ټqyG ,EєHIfAtA(+)m %g=ly ?bDÜ,pԅ"[𛨌H$V"<<zIYdu• 9F lSIdMJZ`}+m:S|!k>gӫu3_J "#:ʄ+:r9²,8Rf!p]z}*L!h=$Q ݺɌxY aЭd ZL i5A^\2? EW2 ? " 2Qo3=]i'8t{c_SJAڣLH^|^T{+8Yy.ѥY9*qyVrLIi葟b EH˨܌L# ' Cd}R g9.%ﹶ1Im y-=,"\ͤ~fϹ9$Mu# nA}f9}MI_N;<ۘ"HQ%"yR&_K! "'VC,oR !?KN%&5^S?z, R7{p _\w0MR7"F)Sb_\_Dħ>5\kR*C#)mZ]6ד }:De! D F7C~^ (&A\ jjҠ"KgK8h:h:PZ <+X  d TID2,kZR'/>7l#awZV?u$*@ nv\4>O)=o~GSwy;ӝ,6$)n#NjP`䧶&15A] ')5(I'/t|o;H%_ºP96ow&upWWm6 N['[R nix6@땷 Q2}Ր|kgY(a2o5ZLؑ]n2"DwFQ3%?ɐ!aU33#6f\+ȣFu2?7[-cYŝZ9'Ln̉R-3JI6=>^Madc>qoj&R+*6-ȰVQrFom\FmZՑv,IOق E;͑<Ԗ62yiΗGQoFۖs J xC?Az͚K؏uctAjtH_hGL_DL ?0g8roҎK̇A@'.9ڟ4ԦB`8PA?gN;Zi4hD wc'wvP?@2fL\bKIK1ήaDoݏ|QlG -N M\lvc]܅phe?{^6iVި^F"n2 DwbČ+65axq{ -F EI (d[S-R߿Tx^ōy'e;^;'F4RM;pKy?{w?j_G>O\/VLBB)V*4HƪY/chQ9)aLtq:Yç߯U=5NԄ!/ >JQ_N.]ʞXe?*eJ18,t//AlY,.KeOUNNO9G4.#Mb5F.y xywv:8Z#7a-rܙ?(2J{aMeeow#'UL=;7|rtMپ(NSJ_ k~۬ԇZST$@|۬ԉ_fYATh&|ie#͙6NUqn5+q\_\DBii0jW.)Z,}={Yvp% їRi _ Y/=5+kY0~ex]?lu [&. 2sG7#a@S[(H{e>oC`,xf -H-㷊*?~e[̤yY_65$! #>ȀOT>)8">)?`ex.c+>i="W@ú3B4"M81&;ÿ8/Az ?t\=Wϟ`R2ܱ?f[Oޗ{bOxrK_~pdj׾ ϓwkzm3WxqZ]/C_~+$ڭ> C}mTEY>&ElwWwtH?5 sm ;_bKoJCSZy(33\#@g+tYv<J,빷X7}@Z/P V]Oߞ0d'].ۃ![\@ô|3wAHQa& L$LOcIs> y7[Ar1Qp̖ҍfgEA{g[`-XgmjF J[ p:HD&j"#YB"?#~M 4ώzyɣ2b"Hlx8#")]BT뮨#/{#hX(KL)BHT각4m %g=ly d4"YD,pRD#~ O$|1ǒX0;!rϻz%Yryic6{iZ"YzkRH\7A§/74t2򞚜X)ՌW7>l6Q-\z}*LciDcr뒿8#^u{TQE &Hfj1e7w#pYK %?7LklL9k\_<0D*R |"'V~ /u:ΐQ+2Nv?2nN2hfJ1 )}uTyFjڑ7g:Oy G0kg3+mqoJѻr&|=p8)X df2*ndž!$>)YK5 {2''}T3:[-9Yqq\c~8c̿V\R:o$]+cZ#t2(XġRm"E/{Hlڀ.`_ "|x_br#@#.YppgeQY/UQKZR\ U1 ۲cm]ԑ8p Oc bG<,;8j[+Nc7$YF8]UmMjNBj;4ۋgr3דHT])}.ȹM2-kI#:P DlOӝΗ͑Oե:+o0_Ρd w&>f ץ q[F^)֏o5mTXI*W`p2"DW '(:OB؈ (q̀Νo<9Oޛ# *sNٗ#t!FCT1MR}uh=?UVhhhh{c) xcOm6_ zOv;]cnyzUTcft'cOkV_GXP}uTJS,[!UO==tƛJrf܍kSxxm'$s믎غ/ˈ翎t`_)D70tn` ,C ;0#@?>OO~Ge?,$@?,S1L]aVL[e#5u(7Hș19V*95Ia ъ>VZ֊>%Hj̉nFߴ$HPD @"D#n&t"D OG@C! F3ݎWg#)< ?*@'P/Y:~#|ݱ0OI)md?ZFی FGTa坏(F( CH:Q A@B%AZ=pQ!:"S1@ȫWcHz64Y8ҙ}oBCr!ѥK1_ !"jZ8D3^Zf^֡BDSy" >C?mOE))ntTE(`f sok;k Z 'b@2ŀ$T)u+w w^ܑܑnΊ]"$RݮC>K%AoK˩-p:n|0,.Ű~aqn,M~^-$ny彳}.3:Rv'W h@rlF2ۿ`J_ FU2f9CmưKE]F%2yzR3_% {zspJj>lTMZ% ?iƪopEo{g"⭮Th+eޚ96 |9#I (Q5aFU떅'p%J [ȳ'Lz})qXJ E^5r)]C5RɍȒi\+ yi~hGH~:{AE5)9K :0r~L)5xɳ{!}^/:Nxp\)v?*n  e=, _@tE?"s|OIz~b[~y5C.\k%N? LCou,kmoUGK>=Ҹ ߍʥ*JRWՉ6v?u9L"A~Ĕh?h?h?hsH?h cNBP/YEd h0ch0Vډ=/CC_Jkm%[ )o۬m1cI#s5%dE'zZ >7Jrȡ9K&Y|VwGtC5 ni[ӯ*֔&Έ~f{y?|ͷx Jٱxב `6rm T1N rbc77D2_-g ~ǣR<4XLhC6Ϣ8WGw؏]O*Ls elvᆾ;6I#4E)3=DKCAE7`B#&IK>^Q5ts9w?x_;퐿iPѝvkH*P!m+v bZ9J:tQ9 :GA(stQ9ʏZ~\/ѡ#]9Byj?;޸7av_mKLx734wx73wLkVtTF3c?)ǚ4Cq"†2FC A4UG̬6n#SǴDwZҁ@(tn B7P}S;Q㿣OI13m=fh4M.]Uh7RǝY7Mn2,bnUMawtmRx-AH2y9v7k t`E"D @@ )h&T"D|'<w@"F!1ȰDş?HQ!hQU^ z2O_Bm5AT>_nw1SI)\ʦmd-xFuSs|T?htE3(0G?QKź}0/tX1{NJHٚ?| Z\lUR2n#{j,kس[:]x|E^yCUxڿq;qRnxg@(d ܻiE?D;HHGm"&O[zKB2BbZjd|$>-djhY@B*d!F6,+,PG:V#Hviy {fBD`ZB.ܗb#rr˶y@;{$4`@最Q-y )xҝfO:nszU6Fm~͉5°ͻ یAYPZ"6ZTP)D/B2dcu8Q!I ½D072{BՇMaEKA>9$TDDQ@g+PRő¹Q#7gׯsa&%q[:R/wmȎҁO' E\q)5_"=${uA"B,Y ΢{S> y#d!2Hg1>8 EKkmGmd n_Z'q0npH7>&3҇&= |g,;`CsC"5mĉY ֤&L!$s?|7 Jٱ,H%__l۝a_GV}uO$sу[+Ddq{'H "%Oyzeha tZcxב ܾq'£-f UgUQegZ{BL6*L c2m cWީ vI/$Uvǎ翎T1)R}uhn\rª͍͍͍͍x_ _Fe|6jIն3ѳSFi_t_m#U0V_:@"96o;ى[IL窩g)JM=R҆pJJJU9"`Mѱ[f"_ Zҁ݀tn@ A7 o# RwӀЙ:s@gyPa*sP6_9CtoK$ue(+̊җiR]"JlԤ.Q$C)Ŏ)91fjŇ]hVc?wsh4΍[vivmבL/0@"D  $%j@"#N!eW@ b27Qg))_RT/96y>~T ]+}W*i_>_;% 4׿_ݜ))=hqoftq鿁)ݨ? Tj8[Wq *j^ھ'wTEM!@FكXżO'`qY_lw櫝T:ٲZg< | F'Yo!WSTS{vDtJ@v[Vuv}v*g`tĝ7f[}%[BiOQQmWC=pge0'}2ʸTa˚X\(VU[V>ݲq̖`ڀ)~l_YZ-/WwcmX OvlO;ٶ̙/UlymWѿOCն5>.7mYLeTIAT>s۲ YGRr6mu8Ft`@(P;{W@ cn8#G %0D'cht'>Wv/Zv1殍ZMhoz\0y?B{8<ţFhP@I nmbM)\+A,WhIYA߰qez6A WUݳ_mo[A0 `ubdWQSM;^ڐG'tݾmԒןh8޼mq?e8$-1FS(iQ_ԟ:ޤ-w}ȾkR[Ǻ;Z5MmB77$jX)F8(PmMej2NBVj;4ۋ]͜}㗠oN :R0(Fo7mxב*U_]uG]k6 DN['RDGnc2[YpSWކ@jJ8A5jCΖc "[ jt.LR,478!ŕLE#q)"D_ dtАЙZ0.N,n (mZ[oz߆ KegYQnܐM{}f n ٺ[oʆW$R[(9w?Ps(C:{sAEwףۉ3r~$ 2_H$+p_ ZRŔHաy):0G s0G s0G s0G gbadw6.)Zqo2LH;8H=S^cZ[9❧^&翤'WױZqmב*T_:?A'j_7AC=i3Ӟ>SiL1SB{ ')1)VYlFm$.jIڒbOtn` A70(o|Rwҁ?ѕ@W{P=c=*sQ6gI DsK4utfڪ+ ҙiĖR]"Hlݦ.A:%9՞)95fs";5 ?4?:4Bh! #Hyܴ<ٍZҁ@"D 1ٛ0@" t {8H~ mismیhG-bT_=Af7㬲Ԡc"AȲ,(ٓ o=QF>:<ғQSiRcAJpi >9?`&i\AߵcZ1#mHs3^IhR.j[J$20,ipfdˤysEB['z礂76_VJ-bʣЊ:A+=yymq7b >_ߘ7 YWz'Lpuh&|D1%jSY?m#Oo[ e#t`E"D @@@R~D 8P@; `'Cl-C bPӁMTPʫ3UKTD#Y:8H'OgDŽ &L0a„ &L0a„ &L0a„ &L0a„iCF1