Package: phastCons30way.UCSC.hg38 Version: 3.13.0 Command: /home/biocbuild/bbs-3.20-bioc/R/bin/R CMD INSTALL phastCons30way.UCSC.hg38 StartedAt: 2025-01-29 06:30:26 -0500 (Wed, 29 Jan 2025) EndedAt: 2025-01-29 06:30:48 -0500 (Wed, 29 Jan 2025) EllapsedTime: 22.6 seconds RetCode: 0 Status: OK